Workbook
Name AY: 'Krok 1- Kalkulačka '!$1:$1048576

Sheet Malá kalkulačka
B2: Náklady regulácie | D2: Náklady na 1 podnikateľa | E2: Náklady na celé podnikateľské prostredie
B3: Priame finančné náklady (EUR) | D3: =SUM(M11:M13) -> 0 | E3: =SUM(N11:N13) -> 0
B4: Nepriame finančné náklady (EUR) | D4: =SUM(O11:O13) -> 0 | E4: =SUM(P11:P13) -> 0
B5: Administratívne náklady (EUR) | D5: =SUM(K11:K13) -> 0 | E5: =SUM(L11:L13) -> 0
B6: Celkové náklady povinnosti (EUR) | D6: =SUM(Q11:Q13) -> 0 | E6: =SUM(R11:R13) -> 0
B8: Priemerná hrubá mesačná mzda v národnom hospodárstve za rok 2013 | D8: 835
B9: Časová náročnosť povinnosti | E9: Priame finančné náklady na povinnosť na 1 podnikateľa (EUR) | F9: Nepriame finančné náklady na povinnosť na 1 podnikateľa (EUR) | G9: Počet dotknutých podnikateľov | H9: Frekvencia plnenia povinnosti | I9: Frekvencia plnenia povinnosti | J9: Čas (v min.)
B10: Alternatíva 1: Štandardná časová náročnosť (min.) | D10: Alternatíva 2: Expertný odhad trvania (min.)
B11: Vyberte typickú povinnosť | C11: =IFERROR(VLOOKUP(B11,vstupy!#REF!,2,FALSE),0) -> 0 | D11: 0 | E11: 0 | F11: 0 | G11: 0 | H11: Vyberte frekvenciu | I11: =VLOOKUP(H11,vstupy!$B$3:$C$14,2,FALSE) -> 0 | J11: =IF(D11=0,SUM(C11:C13),D11) -> 0 | K11: =IF(I11>0.9,($D$8/160)*(J11/60)*I11,($D$8/160)*(J11/60)*1) -> 0 | L11: =K11*G11 -> 0 | M11: =IF(I11>0.9,E11*I11,E11*1) -> 0 | N11: =M11*G11 -> 0 | O11: =IF(I11>0.9,I11*F11,F11*1) -> 0 | P11: =O11*G11 -> 0 | Q11: =M11+O11+K11 -> 0 | R11: =L11+N11+P11 -> 0
B12: Vyberte typickú povinnosť | C12: =IFERROR(VLOOKUP(B12,vstupy!#REF!,2,FALSE),0) -> 0
B13: Vyberte typickú povinnosť | C13: =IFERROR(VLOOKUP(B13,vstupy!#REF!,2,FALSE),0) -> 0

Sheet Krok 1- Kalkulačka 
C2: Výpočet vplyvov jednotlivých regulácií
C3: Názvy stĺpcov s červeným trojuholníkom vpravo hore obsahujú nápovedu
C5: Priemerná cena práce v EUR za rok 2025 (priemerná mesačná mzda + odvody zamestnávateľa) = | G5: 2206.44 | O5: ZMENY JEDNOTLIVÝCH TYPOV NÁKLADOV (vyplňte len tie, ktoré obsahuje daná regulácia) | AP5: In | AZ5: Out | BK5: In pre tabuľku 1 | BU5: Out pre tabuľku 1 | CF5: In pre výpočet "Goldplating Nemení sa" | CK5: IN (pre výpočet Goldplating Nemení sa) | CM5: In EU | CY5: OUT EU
W6: E. Administratívne náklady (časová náročnosť povinnosti) Vyplňte len jednu z alternatív 1 alebo 2 | DR6: IN Goldplating | DX6: OUT Goldplating | ED6: Goldplating celkom
B7: P.č. | C7: Zrozumiteľný a stručný opis regulácie (dôvod zvýšenia/zníženia nákladov na PP a dôvod ponechania nákladov na PP, ktoré su goldplatingom) | D7: Číslo normy (zákona, vyhlášky a pod.) | E7: Lokalizácia (§, ods., čl.,...) | F7: Pôvod regulácie: (SK / EÚ úplná harm./ goldplating) | G7: Účinnosť regulácie | H7: Termín skoršej transpozície | I7: Termín skoršej transpozície | J7: koeficient | K7: Kategória dotk. subjektov | L7: Počet dotkn. subjektov spolu (v prípade objektívnej nedostupnosti údaja použite expertný odhad) | M7: Počet dotkn. subjektov | N7: Druh vplyvu In (zvyšuje náklady) / Out (znižuje náklady) / Nemení sa | O7: Priame finančné náklady | S7: Nepriame finančné náklady, pokuty a sankcie | W7: E.1 Administratívne náklady alternatíva 1 (expertný odhad) | X7: E2 Administratívne náklady alternatíva 2 (kalkulačka) Pozri hárok "vysvetlivky - kalkulačka E.2" | AF7: Priame finančné náklady A. Dane, odvody, clá a poplatky, ktorých cieľom je znižovať negatívne externality (EUR) | AH7: Priame finančné náklady B. Iné poplatky (EUR) | AJ7: Nepriame finančné náklady C. Sankcie a pokuty (EUR) | AL7: Nepriame finančné náklady D. Iné nepriame náklady (EUR) | AN7: E. Administratívne náklady (EUR) | AP7: Priame finančné náklady A. Dane, odvody, clá a poplatky, ktorých cieľom je znižovať negatívne externality (EUR) | AR7: Priame finančné náklady B. Iné (EUR) | AT7: Nepriame finančné náklady C. Sankcie a pokuty (EUR) | AV7: D. Nepriame finančné náklady Iné (EUR) | AX7: E. Administratívne náklady (EUR) | AZ7: Priame finančné náklady A. Dane, odvody, clá a poplatky, ktorých cieľom je znižovať negatívne externality (EUR) | BB7: Priame finančné náklady B. Iné (EUR) | BD7: Nepriame finančné náklady C. Sankcie a pokuty (EUR) | BF7: D.Nepriame finančné náklady i (EUR) | BH7: E. Administratívne náklady (EUR) | BJ7: Koeficient pre "skoršia transpozícia" | BK7: Priame finančné náklady A. Dane, odvody, clá a poplatky, ktorých cieľom je znižovať negatívne externality (EUR) | BM7: Priame finančné náklady B. Iné (EUR) | BO7: Nepriame finančné náklady C. Sankcie a pokuty (EUR) | BQ7: D. Nepriame finančné náklady Iné (EUR) | BS7: E. Administratívne náklady (EUR) | BU7: Priame finančné náklady A. Dane, odvody, clá a poplatky, ktorých cieľom je znižovať negatívne externality (EUR) | BW7: Priame finančné náklady B. Iné (EUR) | BY7: Nepriame finančné náklady C. Sankcie a pokuty (EUR) | CA7: D.Nepriame finančné náklady i (EUR) | CC7: E. Administratívne náklady (EUR) | CE7: Vplyv na PP áno/nie pre nemení sa | CF7: Priame finančné náklady A. Dane, odvody, clá a poplatky, ktorých cieľom je znižovať negatívne externality (EUR) | CG7: Priame finančné náklady B. Iné (EUR) | CH7: Nepriame finančné náklady C. Sankcie a pokuty (EUR) | CI7: Nepriame finančné náklady D. Iné (EUR) | CJ7: E. Administratívne náklady (EUR) | CL7: Pôvod regulácie | CM7: Priame finančné náklady A. Dane, odvody, clá a poplatky, ktorých cieľom je znižovať negatívne externality (EUR) | CO7: Priame finančné náklady B. Iné (EUR) | CQ7: Nepriame finančné náklady C. Sankcie a pokuty (EUR) | CS7: D.Nepriame finančné náklady i (EUR) | CU7: E. Administratívne náklady (EUR) | CW7: EU IN (iba B+D+E pre výpočet 1in2out) | CX7: EU IN (iba A+C pre výpočet 1in2out) | CY7: Priame finančné náklady A. Dane, odvody, clá a poplatky, ktorých cieľom je znižovať negatívne externality (EUR) | DA7: Priame finančné náklady B. Iné (EUR) | DC7: Nepriame finančné náklady C. Sankcie a pokuty (EUR) | DE7: Nepriame finančné náklady i (EUR) D. Iné | DG7: E. Administratívne náklady (EUR) | DI7: EU OUT (iba B+D+E pre výpočet 1in2out) | DJ7: EU OUT (iba A+C pre výpočet 1in2out) | DK7: Vplyv na PP áno/ nie | DL7: Vplyv na 1 podnikateľa | DM7: Vplyv na kategóriu dotk. subjektov | DN7: Vpyv 1in2out IN | DO7: Vpyv 1in2out OUT | DP7: Vpyv 1in2out Celkom | DQ7: Goldplating áno/nie | DR7: Priame finančné náklady A. Dane, odvody, clá a poplatky, ktorých cieľom je znižovať negatívne externality (EUR) | DS7: Priame finančné náklady B. Iné (EUR) | DT7: Nepriame finančné náklady C. Sankcie a pokuty (EUR) | DU7: Nepriame finančné náklady D. Iné (EUR) | DV7: E. Administratívne náklady (EUR) | DW7: Goldplating IN | DX7: Priame finančné náklady A. Dane, odvody, clá a poplatky, ktorých cieľom je znižovať negatívne externality (EUR) | DY7: Priame finančné náklady B. Iné (EUR) | DZ7: Nepriame finančné náklady C. Sankcie a pokuty (EUR) | EA7: Nepriame finančné náklady D. Iné (EUR) | EB7: E. Administratívne náklady (EUR) | EC7: Goldplating OUT | ED7: Goldplating Celkom
M8: Prepočet v prípade "N" | O8: A.Dane, odvody, clá a poplatky, ktorých cieľom je znižovať negatívne externality (ročný vplyv na kategóriu dotkn. sub. v EUR) | P8: B. Iné poplatky (na 1 podnikateľa v EUR) | Q8: Frekvencia plnenia povinnosti | R8: Frekvencia plnenia povinnosti | S8: C. Sankcie a pokuty (ročný vplyv na kategóriu dotkn. sub. v EUR) | T8: D. Iné nepriame náklady (na 1 podnikateľa (EUR) | U8: Frekvencia plnenia povinnosti | V8: Frekvencia plnenia povinnosti | W8: Expertný odhad trvania povinností (min.) | X8: Typ povinnosti | Y8: Veľkosť povinnosti | Z8: Časová náročnosť (nevypĺňať!) | AA8: Elektronické splnenie | AB8: Penalizácia (nevypĺňať!) | AC8: Časový náklad (nevypĺňať!) | AD8: Frekvencia plnenia povinnosti | AE8: Frekvencia plnenia povinnosti (koeficient nevypĺňať!) | AF8: na 1 podnikateľa | AG8: na celé podnik. prostredie | AH8: na 1 podnikateľa | AI8: na celé podnik. prostredie | AJ8: na 1 podnikateľa | AK8: na celé podnik. prostredie | AL8: na 1 podnikateľa | AM8: na celé podnik. prostredie | AN8: na 1 podnikateľa | AO8: na celé podnik. prostredie | AP8: na 1 podnikateľa | AQ8: na celé podnik. prostredie | AR8: na 1 podnikateľa | AS8: na celé podnik. prostredie | AT8: na 1 podnikateľa | AU8: na celé podnik. prostredie | AV8: na 1 podnikateľa | AW8: na celé podnik. prostredie | AX8: na 1 podnikateľa | AY8: na celé podnik. prostredie | AZ8: na 1 podnikateľa | BA8: na celé podnik. prostredie | BB8: na 1 podnikateľa | BC8: na celé podnik. prostredie | BD8: na 1 podnikateľa | BE8: na celé podnik. prostredie | BF8: na 1 podnikateľa | BG8: na celé podnik. prostredie | BH8: na 1 podnikateľa | BI8: na celé podnik. prostredie | BK8: na 1 podnikateľa | BL8: na celé podnik. prostredie | BM8: na 1 podnikateľa | BN8: na celé podnik. prostredie | BO8: na 1 podnikateľa | BP8: na celé podnik. prostredie | BQ8: na 1 podnikateľa | BR8: na celé podnik. prostredie | BS8: na 1 podnikateľa | BT8: na celé podnik. prostredie | BU8: na 1 podnikateľa | BV8: na celé podnik. prostredie | BW8: na 1 podnikateľa | BX8: na celé podnik. prostredie | BY8: na 1 podnikateľa | BZ8: na celé podnik. prostredie | CA8: na 1 podnikateľa | CB8: na celé podnik. prostredie | CC8: na 1 podnikateľa | CD8: na celé podnik. prostredie | CF8: na celé podnik. prostredie | CG8: na celé podnik. prostredie | CH8: na celé podnik. prostredie | CI8: na celé podnik. prostredie | CJ8: na celé podnik. prostredie | CM8: na 1 podnikateľa | CN8: na celé podnik. prostredie | CO8: na 1 podnikateľa | CP8: na celé podnik. prostredie | CQ8: na 1 podnikateľa | CR8: na celé podnik. prostredie | CS8: na 1 podnikateľa | CT8: na celé podnik. prostredie | CU8: na 1 podnikateľa | CV8: na celé podnik. prostredie | CY8: na 1 podnikateľa | CZ8: na celé podnik. prostredie | DA8: na 1 podnikateľa | DB8: na celé podnik. prostredie | DE8: na 1 podnikateľa | DF8: na celé podnik. prostredie | DG8: na 1 podnikateľa | DH8: na celé podnik. prostredie | DR8: na celé podnik. prostredie | DS8: na celé podnik. prostredie | DT8: na celé podnik. prostredie | DU8: na celé podnik. prostredie | DV8: na celé podnik. prostredie | DX8: na celé podnik. prostredie | DY8: na celé podnik. prostredie | DZ8: na celé podnik. prostredie | EA8: na celé podnik. prostredie | EB8: na celé podnik. prostredie
B9: 1 | C9: stanovenie poplatku za udelenie predchádzajúceho súhlasu na nadobudnutie významného podielu bankou, finančnou holdingovou spoločnosťou alebo zmiešanou finančnou holdingovou spoločnosťou (špecifický symbol 1333) | D9: zákon č. 483/2001 Z. z. v znení zákona č. 30/2026 Z. z. | E9: § 28a ods. 1 | F9: 1.SK | G9: 46388 | H9: =IF($F9="3e) Skoršia transpozícia - zavedenie transpozície pred termínom ktorý určuje smernica EÚ. "," ","") | I9: =IF($F9="3e) Skoršia transpozícia - zavedenie transpozície pred termínom ktorý určuje smernica EÚ. ",$H9,"NA") -> NA | J9: =IF(I9="NA",1,I9/12) -> 1 | K9: banky, finančné holdingové spoločnosti a zmiešané finančné holdingové spoločnosti | L9: 1 | M9: =IF(L9="N",0,L9) -> 1 | N9: In (zvyšuje náklady) | P9: 1700 | Q9: jednorazovo | R9: =VLOOKUP(Q9,[1]vstupy!$B$3:$C$15,2,FALSE) -> 0.25 | U9: Vyberte frekvenciu | V9: =VLOOKUP(U9,[1]vstupy!$B$3:$C$15,2,FALSE) -> 0 | X9: Vyberte typ povinnosti | Y9: Vyberte veľkosť | Z9: =VLOOKUP($X9,vstupy!$B$18:$F$31,MATCH($Y9,vstupy!$B$17:$F$17,0),0) -> 0 | AA9: Vyber | AB9: =VLOOKUP($AA9,[1]vstupy!$B$34:$C$36,2,FALSE) -> 0 | AC9: =Z9+AB9 -> 0 | AD9: Vyberte frekvenciu | AE9: =VLOOKUP(AD9,vstupy!$B$3:$C$15,2,FALSE) -> 0 | AF9: =IFERROR(IF(M9=0,"N",O9/L9*J9),0) -> 0 | AG9: =O9*J9 -> 0 | AH9: =P9*R9*J9 -> 425 | AI9: =IFERROR(AH9*M9,0) -> 425 | AJ9: =IFERROR(IF(M9=0,"N",S9/L9*J9),0) -> 0 | AK9: =S9*J9 -> 0 | AL9: =T9*V9*J9 -> 0 | AM9: =IFERROR(AL9*M9,0) -> 0 | AN9: =IF(W9>0,IF(AE9>0,($G$5/160)*(W9/60)*AE9*J9,0),IF(AE9>0,($G$5/160)*((AC9+AC10+AC11)/60)*AE9*J9,0)) -> 0 | AO9: =IFERROR(AN9*M9,0) -> 0 | AP9: =IF($N9="In (zvyšuje náklady)",AF9,0) -> 0 | AQ9: =IF($N9="In (zvyšuje náklady)",AG9,0) -> 0 | AR9: =IF($N9="In (zvyšuje náklady)",AH9,0) -> 425 | AS9: =IF($N9="In (zvyšuje náklady)",AI9,0) -> 425 | AT9: =IF($N9="In (zvyšuje náklady)",AJ9,0) -> 0 | AU9: =IF($N9="In (zvyšuje náklady)",AK9,0) -> 0 | AV9: =IF($N9="In (zvyšuje náklady)",AL9,0) -> 0 | AW9: =IF($N9="In (zvyšuje náklady)",AM9,0) -> 0 | ... AY9: =IF($N9="In (zvyšuje náklady)",AO9,0) -> 0 | AZ9: =IF($N9="Out (znižuje náklady)",AF9,"0") -> 0 | BA9: =IF($N9="Out (znižuje náklady)",AG9,"0") -> 0 | BB9: =IF($N9="Out (znižuje náklady)",AH9,"0") -> 0 | BC9: =IF($N9="Out (znižuje náklady)",AI9,"0") -> 0 | BD9: =IF($N9="Out (znižuje náklady)",AJ9,"0") -> 0 | BE9: =IF($N9="Out (znižuje náklady)",AK9,"0") -> 0 | BF9: =IF($N9="Out (znižuje náklady)",AL9,"0") -> 0 | BG9: =IF($N9="Out (znižuje náklady)",AM9,"0") -> 0 | ... BI9: =IF($N9="Out (znižuje náklady)",AO9,"0") -> 0 | BJ9: =IF(F9=vstupy!$B$47,0,1) -> 1 | BK9: =$BJ9*AP9 -> 0 | BL9: =$BJ9*AQ9 -> 0 | BM9: =$BJ9*AR9 -> 425 | BN9: =$BJ9*AS9 -> 425 | BO9: =$BJ9*AT9 -> 0 | BP9: =$BJ9*AU9 -> 0 | BQ9: =$BJ9*AV9 -> 0 | BR9: =$BJ9*AW9 -> 0 | ... CD9: =$BJ9*BI9 -> 0 | CE9: =IF(N9="Nemení sa",1,0) -> 0 | CF9: =AG9*$CE9 -> 0 | CG9: =AI9*$CE9 -> 0 | CH9: =AK9*$CE9 -> 0 | CI9: =AM9*$CE9 -> 0 | CJ9: =AO9*$CE9 -> 0 | CK9: =SUM(CF9:CJ11) -> 0 | CL9: =IF(F9=vstupy!B$42,"1",0) -> 0 | CM9: =IF($CL9="1",AP9,0) -> 0 | CN9: =IF($CL9="1",AQ9,0) -> 0 | CO9: =IF($CL9="1",AR9,0) -> 0 | CP9: =IF($CL9="1",AS9,0) -> 0 | CQ9: =IF($CL9="1",AT9,0) -> 0 | CR9: =IF($CL9="1",AU9,0) -> 0 | CS9: =IF($CL9="1",AV9,0) -> 0 | CT9: =IF($CL9="1",AW9,0) -> 0 | ... CV9: =IF($CL9="1",AY9,0) -> 0 | CW9: =CP9+CT9+CV9 -> 0 | CX9: =CN9+CR9 -> 0 | CY9: =IF($CL9="1",AZ9,0) -> 0 | CZ9: =IF($CL9="1",BA9,0) -> 0 | DA9: =IF($CL9="1",BB9,0) -> 0 | DB9: =IF($CL9="1",BC9,0) -> 0 | DC9: =IF($CL9="1",BD9,0) -> 0 | DD9: =IF($CL9="1",BE9,0) -> 0 | DE9: =IF($CL9="1",BF9,0) -> 0 | DF9: =IF($CL9="1",BG9,0) -> 0 | ... DH9: =IF($CL9="1",BI9,0) -> 0 | DI9: =DB9+DF9+DH9 -> 0 | DJ9: =CZ9+DD9 -> 0 | DK9: =IF(CE9=0,1,0) -> 1 | DL9: =IFERROR(IF($AF9="N",AH9+AJ9+AL9+AN9,AF9+AH9+AJ9+AL9+AN9),0)*$DK9 -> 425 | DM9: =(AG9+AI9+AK9+AM9+AO9)*$DK9 -> 425 | DN9: =AS9+AW9+AY9-CW9 -> 425 | DO9: =BC9+BG9+BI9-DI9 -> 0 | DP9: =DN9+DO9 -> 425 | DQ9: =IF(OR(F9=vstupy!B$40,F9=vstupy!B$41,F9=vstupy!B$42,),"0","1") -> 0 | DR9: =IF($DQ9="1",AQ9,"0")+CF9 -> 0 | DS9: =IF($DQ9="1",AS9,"0")+CG9 -> 0 | DT9: =IF($DQ9="1",AU9,"0")+CH9 -> 0 | DU9: =IF($DQ9="1",AW9,"0")+CI9 -> 0 | DV9: =IF($DQ9="1",AY9,"0")+CJ9 -> 0 | DW9: =SUM(DR9:DV11) -> 0 | DX9: =IF($DQ9="1",BA9,"0") -> 0 | DY9: =IF($DQ9="1",BC9,"0") -> 0 | DZ9: =IF($DQ9="1",BE9,"0") -> 0 | EA9: =IF($DQ9="1",BG9,"0") -> 0 | EB9: =IF($DQ9="1",BI9,"0") -> 0 | EC9: =SUM(DX9:EB11) -> 0 | ED9: =EC9+DW9 -> 0
X10: Vyberte typ povinnosti | Y10: Vyberte veľkosť | Z10: =VLOOKUP($X10,vstupy!$B$18:$F$31,MATCH($Y10,vstupy!$B$17:$F$17,0),0) -> 0 | AA10: Vyber | AB10: =VLOOKUP($AA10,[1]vstupy!$B$34:$C$36,2,FALSE) -> 0 | AC10: =Z10+AB10 -> 0
X11: Vyberte typ povinnosti | Y11: Vyberte veľkosť | Z11: =VLOOKUP($X11,vstupy!$B$18:$F$31,MATCH($Y11,vstupy!$B$17:$F$17,0),0) -> 0 | AA11: Vyber | AB11: =VLOOKUP($AA11,[1]vstupy!$B$34:$C$36,2,FALSE) -> 0 | AC11: =Z11+AB11 -> 0
B12: 2 | C12: stanovenie poplatku za udelenie predchádzajúceho súhlasu na zlúčenie alebo splynutie banky, finančnej holdingovej spoločnosti alebo zmiešanej finančnej holdingovej spoločnosti alebo na rozdelenie banky, finančnej holdingovej spoločnosti alebo zmiešanej finančnej holdingovej spoločnosti (špecifický symbol 1334) | D12: zákon č. 483/2001 Z. z. v znení zákona č. 30/2026 Z. z. | E12: § 28g | F12: 1.SK | G12: 46388 | I12: =IF($F12="3e) Skoršia transpozícia - zavedenie transpozície pred termínom ktorý určuje smernica EÚ. ",$H12,"NA") -> NA | J12: =IF(I12="NA",1,I12/12) -> 1 | K12: banky, finančné holdingové spoločnosti a zmiešané finančné holdingové spoločnosti | L12: 0 | M12: =IF(L12="N",0,L12) -> 0 | N12: In (zvyšuje náklady) | P12: 1700 | Q12: jednorazovo | R12: =VLOOKUP(Q12,[1]vstupy!$B$3:$C$15,2,FALSE) -> 0.25 | U12: Vyberte frekvenciu | V12: =VLOOKUP(U12,[1]vstupy!$B$3:$C$15,2,FALSE) -> 0 | X12: Vyberte typ povinnosti | Y12: Vyberte veľkosť | Z12: =VLOOKUP($X12,vstupy!$B$18:$F$31,MATCH($Y12,vstupy!$B$17:$F$17,0),0) -> 0 | AA12: Vyber | AB12: =VLOOKUP($AA12,[1]vstupy!$B$34:$C$36,2,FALSE) -> 0 | AC12: =Z12+AB12 -> 0 | AD12: Vyberte frekvenciu | AE12: =VLOOKUP(AD12,vstupy!$B$3:$C$15,2,FALSE) -> 0 | AF12: =IFERROR(IF(M12=0,"N",O12/L12*J12),0) -> N | AG12: =O12*J12 -> 0 | AH12: =P12*R12*J12 -> 425 | AI12: =IFERROR(AH12*M12,0) -> 0 | AJ12: =IFERROR(IF(M12=0,"N",S12/L12*J12),0) -> N | AK12: =S12*J12 -> 0 | AL12: =T12*V12*J12 -> 0 | AM12: =IFERROR(AL12*M12,0) -> 0 | AN12: =IF(W12>0,IF(AE12>0,($G$5/160)*(W12/60)*AE12*J12,0),IF(AE12>0,($G$5/160)*((AC12+AC13+AC14)/60)*AE12*J12,0)) -> 0 | AO12: =IFERROR(AN12*M12,0) -> 0 | AP12: =IF($N12="In (zvyšuje náklady)",AF12,0) -> N | AQ12: =IF($N12="In (zvyšuje náklady)",AG12,0) -> 0 | AR12: =IF($N12="In (zvyšuje náklady)",AH12,0) -> 425 | AS12: =IF($N12="In (zvyšuje náklady)",AI12,0) -> 0 | AT12: =IF($N12="In (zvyšuje náklady)",AJ12,0) -> N | AU12: =IF($N12="In (zvyšuje náklady)",AK12,0) -> 0 | AV12: =IF($N12="In (zvyšuje náklady)",AL12,0) -> 0 | AW12: =IF($N12="In (zvyšuje náklady)",AM12,0) -> 0 | ... AY12: =IF($N12="In (zvyšuje náklady)",AO12,0) -> 0 | AZ12: =IF($N12="Out (znižuje náklady)",AF12,"0") -> 0 | BA12: =IF($N12="Out (znižuje náklady)",AG12,"0") -> 0 | BB12: =IF($N12="Out (znižuje náklady)",AH12,"0") -> 0 | BC12: =IF($N12="Out (znižuje náklady)",AI12,"0") -> 0 | BD12: =IF($N12="Out (znižuje náklady)",AJ12,"0") -> 0 | BE12: =IF($N12="Out (znižuje náklady)",AK12,"0") -> 0 | BF12: =IF($N12="Out (znižuje náklady)",AL12,"0") -> 0 | BG12: =IF($N12="Out (znižuje náklady)",AM12,"0") -> 0 | ... BI12: =IF($N12="Out (znižuje náklady)",AO12,"0") -> 0 | BJ12: =IF(F12=vstupy!$B$47,0,1) -> 1 | BK12: =$BJ12*AP12 -> #VALUE! | BL12: =$BJ12*AQ12 -> 0 | BM12: =$BJ12*AR12 -> 425 | BN12: =$BJ12*AS12 -> 0 | BO12: =$BJ12*AT12 -> #VALUE! | BP12: =$BJ12*AU12 -> 0 | BQ12: =$BJ12*AV12 -> 0 | BR12: =$BJ12*AW12 -> 0 | ... CD12: =$BJ12*BI12 -> 0 | CE12: =IF(N12="Nemení sa",1,0) -> 0 | CF12: =AG12*$CE12 -> 0 | CG12: =AI12*$CE12 -> 0 | CH12: =AK12*$CE12 -> 0 | CI12: =AM12*$CE12 -> 0 | CJ12: =AO12*$CE12 -> 0 | CK12: =SUM(CF12:CJ14) -> 0 | CL12: =IF(F12=vstupy!B$42,"1",0) -> 0 | CM12: =IF($CL12="1",AP12,0) -> 0 | CN12: =IF($CL12="1",AQ12,0) -> 0 | CO12: =IF($CL12="1",AR12,0) -> 0 | CP12: =IF($CL12="1",AS12,0) -> 0 | CQ12: =IF($CL12="1",AT12,0) -> 0 | CR12: =IF($CL12="1",AU12,0) -> 0 | CS12: =IF($CL12="1",AV12,0) -> 0 | CT12: =IF($CL12="1",AW12,0) -> 0 | ... CV12: =IF($CL12="1",AY12,0) -> 0 | CW12: =CP12+CT12+CV12 -> 0 | CX12: =CN12+CR12 -> 0 | CY12: =IF($CL12="1",AZ12,0) -> 0 | CZ12: =IF($CL12="1",BA12,0) -> 0 | DA12: =IF($CL12="1",BB12,0) -> 0 | DB12: =IF($CL12="1",BC12,0) -> 0 | DC12: =IF($CL12="1",BD12,0) -> 0 | DD12: =IF($CL12="1",BE12,0) -> 0 | DE12: =IF($CL12="1",BF12,0) -> 0 | DF12: =IF($CL12="1",BG12,0) -> 0 | ... DH12: =IF($CL12="1",BI12,0) -> 0 | DI12: =DB12+DF12+DH12 -> 0 | DJ12: =CZ12+DD12 -> 0 | DK12: =IF(CE12=0,1,0) -> 1 | DL12: =IFERROR(IF($AF12="N",AH12+AJ12+AL12+AN12,AF12+AH12+AJ12+AL12+AN12),0)*$DK12 -> 0 | DM12: =(AG12+AI12+AK12+AM12+AO12)*$DK12 -> 0 | DN12: =AS12+AW12+AY12-CW12 -> 0 | DO12: =BC12+BG12+BI12-DI12 -> 0 | DP12: =DN12+DO12 -> 0 | DQ12: =IF(OR(F12=vstupy!B$40,F12=vstupy!B$41,F12=vstupy!B$42,),"0","1") -> 0 | DR12: =IF($DQ12="1",AQ12,"0")+CF12 -> 0 | DS12: =IF($DQ12="1",AS12,"0")+CG12 -> 0 | DT12: =IF($DQ12="1",AU12,"0")+CH12 -> 0 | DU12: =IF($DQ12="1",AW12,"0")+CI12 -> 0 | DV12: =IF($DQ12="1",AY12,"0")+CJ12 -> 0 | DW12: =SUM(DR12:DV14) -> 0 | DX12: =IF($DQ12="1",BA12,"0") -> 0 | DY12: =IF($DQ12="1",BC12,"0") -> 0 | DZ12: =IF($DQ12="1",BE12,"0") -> 0 | EA12: =IF($DQ12="1",BG12,"0") -> 0 | EB12: =IF($DQ12="1",BI12,"0") -> 0 | EC12: =SUM(DX12:EB14) -> 0 | ED12: =EC12+DW12 -> 0
X13: Vyberte typ povinnosti | Y13: Vyberte veľkosť | Z13: =VLOOKUP($X13,vstupy!$B$18:$F$31,MATCH($Y13,vstupy!$B$17:$F$17,0),0) -> 0 | AA13: Vyber | AB13: =VLOOKUP($AA13,[1]vstupy!$B$34:$C$36,2,FALSE) -> 0 | AC13: =Z13+AB13 -> 0
X14: Vyberte typ povinnosti | Y14: Vyberte veľkosť | Z14: =VLOOKUP($X14,vstupy!$B$18:$F$31,MATCH($Y14,vstupy!$B$17:$F$17,0),0) -> 0 | AA14: Vyber | AB14: =VLOOKUP($AA14,[1]vstupy!$B$34:$C$36,2,FALSE) -> 0 | AC14: =Z14+AB14 -> 0
B15: 3 | C15: zvýšenie poplatku za udelenie predchádzajúceho súhlasu na zmenu člena alebo zvolenie nového člena štatutárneho orgánu (špecifický symbol 1316) | D15: zákon č. 483/2001 Z. z. v znení neskorších predpisov | E15: § 9 ods. 4 | F15: 1.SK | G15: 46388 | I15: =IF($F15="3e) Skoršia transpozícia - zavedenie transpozície pred termínom ktorý určuje smernica EÚ. ",$H15,"NA") -> NA | J15: =IF(I15="NA",1,I15/12) -> 1 | K15: banky | L15: 15 | M15: =IF(L15="N",0,L15) -> 15 | N15: In (zvyšuje náklady) | P15: 110 | Q15: jednorazovo | R15: =VLOOKUP(Q15,[1]vstupy!$B$3:$C$15,2,FALSE) -> 0.25 | U15: Vyberte frekvenciu | V15: =VLOOKUP(U15,[1]vstupy!$B$3:$C$15,2,FALSE) -> 0 | X15: Vyberte typ povinnosti | Y15: Vyberte veľkosť | Z15: =VLOOKUP($X15,vstupy!$B$18:$F$31,MATCH($Y15,vstupy!$B$17:$F$17,0),0) -> 0 | AA15: Vyber | AB15: =VLOOKUP($AA15,[1]vstupy!$B$34:$C$36,2,FALSE) -> 0 | AC15: =Z15+AB15 -> 0 | AD15: Vyberte frekvenciu | AE15: =VLOOKUP(AD15,vstupy!$B$3:$C$15,2,FALSE) -> 0 | AF15: =IFERROR(IF(M15=0,"N",O15/L15*J15),0) -> 0 | AG15: =O15*J15 -> 0 | AH15: =P15*R15*J15 -> 27.5 | AI15: =IFERROR(AH15*M15,0) -> 412.5 | AJ15: =IFERROR(IF(M15=0,"N",S15/L15*J15),0) -> 0 | AK15: =S15*J15 -> 0 | AL15: =T15*V15*J15 -> 0 | AM15: =IFERROR(AL15*M15,0) -> 0 | AN15: =IF(W15>0,IF(AE15>0,($G$5/160)*(W15/60)*AE15*J15,0),IF(AE15>0,($G$5/160)*((AC15+AC16+AC17)/60)*AE15*J15,0)) -> 0 | AO15: =IFERROR(AN15*M15,0) -> 0 | AP15: =IF($N15="In (zvyšuje náklady)",AF15,0) -> 0 | AQ15: =IF($N15="In (zvyšuje náklady)",AG15,0) -> 0 | AR15: =IF($N15="In (zvyšuje náklady)",AH15,0) -> 27.5 | AS15: =IF($N15="In (zvyšuje náklady)",AI15,0) -> 412.5 | AT15: =IF($N15="In (zvyšuje náklady)",AJ15,0) -> 0 | AU15: =IF($N15="In (zvyšuje náklady)",AK15,0) -> 0 | AV15: =IF($N15="In (zvyšuje náklady)",AL15,0) -> 0 | AW15: =IF($N15="In (zvyšuje náklady)",AM15,0) -> 0 | ... AY15: =IF($N15="In (zvyšuje náklady)",AO15,0) -> 0 | AZ15: =IF($N15="Out (znižuje náklady)",AF15,"0") -> 0 | BA15: =IF($N15="Out (znižuje náklady)",AG15,"0") -> 0 | BB15: =IF($N15="Out (znižuje náklady)",AH15,"0") -> 0 | BC15: =IF($N15="Out (znižuje náklady)",AI15,"0") -> 0 | BD15: =IF($N15="Out (znižuje náklady)",AJ15,"0") -> 0 | BE15: =IF($N15="Out (znižuje náklady)",AK15,"0") -> 0 | BF15: =IF($N15="Out (znižuje náklady)",AL15,"0") -> 0 | BG15: =IF($N15="Out (znižuje náklady)",AM15,"0") -> 0 | ... BI15: =IF($N15="Out (znižuje náklady)",AO15,"0") -> 0 | BJ15: =IF(F15=vstupy!$B$47,0,1) -> 1 | BK15: =$BJ15*AP15 -> 0 | BL15: =$BJ15*AQ15 -> 0 | BM15: =$BJ15*AR15 -> 27.5 | BN15: =$BJ15*AS15 -> 412.5 | BO15: =$BJ15*AT15 -> 0 | BP15: =$BJ15*AU15 -> 0 | BQ15: =$BJ15*AV15 -> 0 | BR15: =$BJ15*AW15 -> 0 | ... CD15: =$BJ15*BI15 -> 0 | CE15: =IF(N15="Nemení sa",1,0) -> 0 | CF15: =AG15*$CE15 -> 0 | CG15: =AI15*$CE15 -> 0 | CH15: =AK15*$CE15 -> 0 | CI15: =AM15*$CE15 -> 0 | CJ15: =AO15*$CE15 -> 0 | CK15: =SUM(CF15:CJ17) -> 0 | CL15: =IF(F15=vstupy!B$42,"1",0) -> 0 | CM15: =IF($CL15="1",AP15,0) -> 0 | CN15: =IF($CL15="1",AQ15,0) -> 0 | CO15: =IF($CL15="1",AR15,0) -> 0 | CP15: =IF($CL15="1",AS15,0) -> 0 | CQ15: =IF($CL15="1",AT15,0) -> 0 | CR15: =IF($CL15="1",AU15,0) -> 0 | CS15: =IF($CL15="1",AV15,0) -> 0 | CT15: =IF($CL15="1",AW15,0) -> 0 | ... CV15: =IF($CL15="1",AY15,0) -> 0 | CW15: =CP15+CT15+CV15 -> 0 | CX15: =CN15+CR15 -> 0 | CY15: =IF($CL15="1",AZ15,0) -> 0 | CZ15: =IF($CL15="1",BA15,0) -> 0 | DA15: =IF($CL15="1",BB15,0) -> 0 | DB15: =IF($CL15="1",BC15,0) -> 0 | DC15: =IF($CL15="1",BD15,0) -> 0 | DD15: =IF($CL15="1",BE15,0) -> 0 | DE15: =IF($CL15="1",BF15,0) -> 0 | DF15: =IF($CL15="1",BG15,0) -> 0 | ... DH15: =IF($CL15="1",BI15,0) -> 0 | DI15: =DB15+DF15+DH15 -> 0 | DJ15: =CZ15+DD15 -> 0 | DK15: =IF(CE15=0,1,0) -> 1 | DL15: =IFERROR(IF($AF15="N",AH15+AJ15+AL15+AN15,AF15+AH15+AJ15+AL15+AN15),0)*$DK15 -> 27.5 | DM15: =(AG15+AI15+AK15+AM15+AO15)*$DK15 -> 412.5 | DN15: =AS15+AW15+AY15-CW15 -> 412.5 | DO15: =BC15+BG15+BI15-DI15 -> 0 | DP15: =DN15+DO15 -> 412.5 | DQ15: =IF(OR(F15=vstupy!B$40,F15=vstupy!B$41,F15=vstupy!B$42,),"0","1") -> 0 | DR15: =IF($DQ15="1",AQ15,"0")+CF15 -> 0 | DS15: =IF($DQ15="1",AS15,"0")+CG15 -> 0 | DT15: =IF($DQ15="1",AU15,"0")+CH15 -> 0 | DU15: =IF($DQ15="1",AW15,"0")+CI15 -> 0 | DV15: =IF($DQ15="1",AY15,"0")+CJ15 -> 0 | DW15: =SUM(DR15:DV17) -> 0 | DX15: =IF($DQ15="1",BA15,"0") -> 0 | DY15: =IF($DQ15="1",BC15,"0") -> 0 | DZ15: =IF($DQ15="1",BE15,"0") -> 0 | EA15: =IF($DQ15="1",BG15,"0") -> 0 | EB15: =IF($DQ15="1",BI15,"0") -> 0 | EC15: =SUM(DX15:EB17) -> 0 | ED15: =EC15+DW15 -> 0
X16: Vyberte typ povinnosti | Y16: Vyberte veľkosť | Z16: =VLOOKUP($X16,vstupy!$B$18:$F$31,MATCH($Y16,vstupy!$B$17:$F$17,0),0) -> 0 | AA16: Vyber | AB16: =VLOOKUP($AA16,[1]vstupy!$B$34:$C$36,2,FALSE) -> 0 | AC16: =Z16+AB16 -> 0
X17: Vyberte typ povinnosti | Y17: Vyberte veľkosť | Z17: =VLOOKUP($X17,vstupy!$B$18:$F$31,MATCH($Y17,vstupy!$B$17:$F$17,0),0) -> 0 | AA17: Vyber | AB17: =VLOOKUP($AA17,[1]vstupy!$B$34:$C$36,2,FALSE) -> 0 | AC17: =Z17+AB17 -> 0
B18: 4 | C18: zvýšenie poplatku za predchádzajúci súhlas na zmenu člena alebo zvolenie nového člena dozornej rady (špecifický symbol 1317) | D18: zákon č. 483/2001 Z. z. v znení neskorších predpisov | E18: § 9 ods. 4 | F18: 1.SK | G18: 46388 | H18: =IF($F18="3e) Skoršia transpozícia - zavedenie transpozície pred termínom ktorý určuje smernica EÚ. "," ","") | I18: =IF($F18="3e) Skoršia transpozícia - zavedenie transpozície pred termínom ktorý určuje smernica EÚ. ",$H18,"NA") -> NA | J18: =IF(I18>12,1,I18/12) -> 1 | K18: banky | L18: 20 | M18: =IF(L18="N",0,L18) -> 20 | N18: In (zvyšuje náklady) | P18: 110 | Q18: jednorazovo | R18: =VLOOKUP(Q18,[1]vstupy!$B$3:$C$15,2,FALSE) -> 0.25 | U18: Vyberte frekvenciu | V18: =VLOOKUP(U18,[1]vstupy!$B$3:$C$15,2,FALSE) -> 0 | X18: Vyberte typ povinnosti | Y18: Vyberte veľkosť | Z18: =VLOOKUP($X18,vstupy!$B$18:$F$31,MATCH($Y18,vstupy!$B$17:$F$17,0),0) -> 0 | AA18: Vyber | AB18: =VLOOKUP($AA18,[1]vstupy!$B$34:$C$36,2,FALSE) -> 0 | AC18: =Z18+AB18 -> 0 | AD18: Vyberte frekvenciu | AE18: =VLOOKUP(AD18,vstupy!$B$3:$C$15,2,FALSE) -> 0 | AF18: =IFERROR(IF(M18=0,"N",O18/L18*J18),0) -> 0 | AG18: =O18*J18 -> 0 | AH18: =P18*R18*J18 -> 27.5 | AI18: =IFERROR(AH18*M18,0) -> 550 | AJ18: =IFERROR(IF(M18=0,"N",S18/L18*J18),0) -> 0 | AK18: =S18*J18 -> 0 | AL18: =T18*V18*J18 -> 0 | AM18: =IFERROR(AL18*M18,0) -> 0 | AN18: =IF(W18>0,IF(AE18>0,($G$5/160)*(W18/60)*AE18*J18,0),IF(AE18>0,($G$5/160)*((AC18+AC19+AC20)/60)*AE18*J18,0)) -> 0 | AO18: =IFERROR(AN18*M18,0) -> 0 | AP18: =IF($N18="In (zvyšuje náklady)",AF18,0) -> 0 | AQ18: =IF($N18="In (zvyšuje náklady)",AG18,0) -> 0 | AR18: =IF($N18="In (zvyšuje náklady)",AH18,0) -> 27.5 | AS18: =IF($N18="In (zvyšuje náklady)",AI18,0) -> 550 | AT18: =IF($N18="In (zvyšuje náklady)",AJ18,0) -> 0 | AU18: =IF($N18="In (zvyšuje náklady)",AK18,0) -> 0 | AV18: =IF($N18="In (zvyšuje náklady)",AL18,0) -> 0 | AW18: =IF($N18="In (zvyšuje náklady)",AM18,0) -> 0 | ... AY18: =IF($N18="In (zvyšuje náklady)",AO18,0) -> 0 | AZ18: =IF($N18="Out (znižuje náklady)",AF18,"0") -> 0 | BA18: =IF($N18="Out (znižuje náklady)",AG18,"0") -> 0 | BB18: =IF($N18="Out (znižuje náklady)",AH18,"0") -> 0 | BC18: =IF($N18="Out (znižuje náklady)",AI18,"0") -> 0 | BD18: =IF($N18="Out (znižuje náklady)",AJ18,"0") -> 0 | BE18: =IF($N18="Out (znižuje náklady)",AK18,"0") -> 0 | BF18: =IF($N18="Out (znižuje náklady)",AL18,"0") -> 0 | BG18: =IF($N18="Out (znižuje náklady)",AM18,"0") -> 0 | ... BI18: =IF($N18="Out (znižuje náklady)",AO18,"0") -> 0 | BJ18: =IF(F18=vstupy!$B$47,0,1) -> 1 | BK18: =$BJ18*AP18 -> 0 | BL18: =$BJ18*AQ18 -> 0 | BM18: =$BJ18*AR18 -> 27.5 | BN18: =$BJ18*AS18 -> 550 | BO18: =$BJ18*AT18 -> 0 | BP18: =$BJ18*AU18 -> 0 | BQ18: =$BJ18*AV18 -> 0 | BR18: =$BJ18*AW18 -> 0 | ... CD18: =$BJ18*BI18 -> 0 | CE18: =IF(N18="Nemení sa",1,0) -> 0 | CF18: =AG18*$CE18 -> 0 | CG18: =AI18*$CE18 -> 0 | CH18: =AK18*$CE18 -> 0 | CI18: =AM18*$CE18 -> 0 | CJ18: =AO18*$CE18 -> 0 | CK18: =SUM(CF18:CJ20) -> 0 | CL18: =IF(F18=vstupy!B$42,"1",0) -> 0 | CM18: =IF($CL18="1",AP18,0) -> 0 | CN18: =IF($CL18="1",AQ18,0) -> 0 | CO18: =IF($CL18="1",AR18,0) -> 0 | CP18: =IF($CL18="1",AS18,0) -> 0 | CQ18: =IF($CL18="1",AT18,0) -> 0 | CR18: =IF($CL18="1",AU18,0) -> 0 | CS18: =IF($CL18="1",AV18,0) -> 0 | CT18: =IF($CL18="1",AW18,0) -> 0 | ... CV18: =IF($CL18="1",AY18,0) -> 0 | CW18: =CP18+CT18+CV18 -> 0 | CX18: =CN18+CR18 -> 0 | CY18: =IF($CL18="1",AZ18,0) -> 0 | CZ18: =IF($CL18="1",BA18,0) -> 0 | DA18: =IF($CL18="1",BB18,0) -> 0 | DB18: =IF($CL18="1",BC18,0) -> 0 | DC18: =IF($CL18="1",BD18,0) -> 0 | DD18: =IF($CL18="1",BE18,0) -> 0 | DE18: =IF($CL18="1",BF18,0) -> 0 | DF18: =IF($CL18="1",BG18,0) -> 0 | ... DH18: =IF($CL18="1",BI18,0) -> 0 | DI18: =DB18+DF18+DH18 -> 0 | DJ18: =CZ18+DD18 -> 0 | DK18: =IF(CE18=0,1,0) -> 1 | DL18: =IFERROR(IF($AF18="N",AH18+AJ18+AL18+AN18,AF18+AH18+AJ18+AL18+AN18),0)*$DK18 -> 27.5 | DM18: =(AG18+AI18+AK18+AM18+AO18)*$DK18 -> 550 | DN18: =AS18+AW18+AY18-CW18 -> 550 | DO18: =BC18+BG18+BI18-DI18 -> 0 | DP18: =DN18+DO18 -> 550 | DQ18: =IF(OR(F18=vstupy!B$40,F18=vstupy!B$41,F18=vstupy!B$42,),"0","1") -> 0 | DR18: =IF($DQ18="1",AQ18,"0")+CF18 -> 0 | DS18: =IF($DQ18="1",AS18,"0")+CG18 -> 0 | DT18: =IF($DQ18="1",AU18,"0")+CH18 -> 0 | DU18: =IF($DQ18="1",AW18,"0")+CI18 -> 0 | DV18: =IF($DQ18="1",AY18,"0")+CJ18 -> 0 | DW18: =SUM(DR18:DV20) -> 0 | DX18: =IF($DQ18="1",BA18,"0") -> 0 | DY18: =IF($DQ18="1",BC18,"0") -> 0 | DZ18: =IF($DQ18="1",BE18,"0") -> 0 | EA18: =IF($DQ18="1",BG18,"0") -> 0 | EB18: =IF($DQ18="1",BI18,"0") -> 0 | EC18: =SUM(DX18:EB20) -> 0 | ED18: =EC18+DW18 -> 0
X19: Vyberte typ povinnosti | Y19: Vyberte veľkosť | Z19: =VLOOKUP($X19,vstupy!$B$18:$F$31,MATCH($Y19,vstupy!$B$17:$F$17,0),0) -> 0 | AA19: Vyber | AB19: =VLOOKUP($AA19,[1]vstupy!$B$34:$C$36,2,FALSE) -> 0 | AC19: =Z19+AB19 -> 0
X20: Vyberte typ povinnosti | Y20: Vyberte veľkosť | Z20: =VLOOKUP($X20,vstupy!$B$18:$F$31,MATCH($Y20,vstupy!$B$17:$F$17,0),0) -> 0 | AA20: Vyber | AB20: =VLOOKUP($AA20,[1]vstupy!$B$34:$C$36,2,FALSE) -> 0 | AC20: =Z20+AB20 -> 0
B21: 5 | C21: stanovenie poplatku za udelenie predchádzajúceho súhlasu na ustanovenie osoby zastávajúcej kľúčovú funkciu podľa § 5 písm. an) zákona o bankách (špecifický symbol 1335) | D21: zákon č. 483/2001 Z. z. v znení neskorších predpisov | E21: § 9 ods. 4 a 5 | F21: 1.SK | G21: 46388 | H21: =IF($F21="3e) Skoršia transpozícia - zavedenie transpozície pred termínom ktorý určuje smernica EÚ. "," ","") | I21: =IF($F21="3e) Skoršia transpozícia - zavedenie transpozície pred termínom ktorý určuje smernica EÚ. ",$H21,"NA") -> NA | J21: =IF(I21>12,1,I21/12) -> 1 | K21: banky, pobočky zahraničných bánk so sídlom mimo územia členského štátu | L21: 20 | M21: =IF(L21="N",0,L21) -> 20 | N21: In (zvyšuje náklady) | P21: 110 | Q21: jednorazovo | R21: =VLOOKUP(Q21,[1]vstupy!$B$3:$C$15,2,FALSE) -> 0.25 | U21: Vyberte frekvenciu | V21: =VLOOKUP(U21,[1]vstupy!$B$3:$C$15,2,FALSE) -> 0 | X21: Vyberte typ povinnosti | Y21: Vyberte veľkosť | Z21: =VLOOKUP($X21,vstupy!$B$18:$F$31,MATCH($Y21,vstupy!$B$17:$F$17,0),0) -> 0 | AA21: Vyber | AB21: =VLOOKUP($AA21,[1]vstupy!$B$34:$C$36,2,FALSE) -> 0 | AC21: =Z21+AB21 -> 0 | AD21: Vyberte frekvenciu | AE21: =VLOOKUP(AD21,vstupy!$B$3:$C$15,2,FALSE) -> 0 | AF21: =IFERROR(IF(M21=0,"N",O21/L21*J21),0) -> 0 | AG21: =O21*J21 -> 0 | AH21: =P21*R21*J21 -> 27.5 | AI21: =IFERROR(AH21*M21,0) -> 550 | AJ21: =IFERROR(IF(M21=0,"N",S21/L21*J21),0) -> 0 | AK21: =S21*J21 -> 0 | AL21: =T21*V21*J21 -> 0 | AM21: =IFERROR(AL21*M21,0) -> 0 | AN21: =IF(W21>0,IF(AE21>0,($G$5/160)*(W21/60)*AE21*J21,0),IF(AE21>0,($G$5/160)*((AC21+AC22+AC23)/60)*AE21*J21,0)) -> 0 | AO21: =IFERROR(AN21*M21,0) -> 0 | AP21: =IF($N21="In (zvyšuje náklady)",AF21,0) -> 0 | AQ21: =IF($N21="In (zvyšuje náklady)",AG21,0) -> 0 | AR21: =IF($N21="In (zvyšuje náklady)",AH21,0) -> 27.5 | AS21: =IF($N21="In (zvyšuje náklady)",AI21,0) -> 550 | AT21: =IF($N21="In (zvyšuje náklady)",AJ21,0) -> 0 | AU21: =IF($N21="In (zvyšuje náklady)",AK21,0) -> 0 | AV21: =IF($N21="In (zvyšuje náklady)",AL21,0) -> 0 | AW21: =IF($N21="In (zvyšuje náklady)",AM21,0) -> 0 | ... AY21: =IF($N21="In (zvyšuje náklady)",AO21,0) -> 0 | AZ21: =IF($N21="Out (znižuje náklady)",AF21,"0") -> 0 | BA21: =IF($N21="Out (znižuje náklady)",AG21,"0") -> 0 | BB21: =IF($N21="Out (znižuje náklady)",AH21,"0") -> 0 | BC21: =IF($N21="Out (znižuje náklady)",AI21,"0") -> 0 | BD21: =IF($N21="Out (znižuje náklady)",AJ21,"0") -> 0 | BE21: =IF($N21="Out (znižuje náklady)",AK21,"0") -> 0 | BF21: =IF($N21="Out (znižuje náklady)",AL21,"0") -> 0 | BG21: =IF($N21="Out (znižuje náklady)",AM21,"0") -> 0 | ... BI21: =IF($N21="Out (znižuje náklady)",AO21,"0") -> 0 | BJ21: =IF(F21=vstupy!$B$47,0,1) -> 1 | BK21: =$BJ21*AP21 -> 0 | BL21: =$BJ21*AQ21 -> 0 | BM21: =$BJ21*AR21 -> 27.5 | BN21: =$BJ21*AS21 -> 550 | BO21: =$BJ21*AT21 -> 0 | BP21: =$BJ21*AU21 -> 0 | BQ21: =$BJ21*AV21 -> 0 | BR21: =$BJ21*AW21 -> 0 | ... CD21: =$BJ21*BI21 -> 0 | CE21: =IF(N21="Nemení sa",1,0) -> 0 | CF21: =AG21*$CE21 -> 0 | CG21: =AI21*$CE21 -> 0 | CH21: =AK21*$CE21 -> 0 | CI21: =AM21*$CE21 -> 0 | CJ21: =AO21*$CE21 -> 0 | CK21: =SUM(CF21:CJ23) -> 0 | CL21: =IF(F21=vstupy!B$42,"1",0) -> 0 | CM21: =IF($CL21="1",AP21,0) -> 0 | CN21: =IF($CL21="1",AQ21,0) -> 0 | CO21: =IF($CL21="1",AR21,0) -> 0 | CP21: =IF($CL21="1",AS21,0) -> 0 | CQ21: =IF($CL21="1",AT21,0) -> 0 | CR21: =IF($CL21="1",AU21,0) -> 0 | CS21: =IF($CL21="1",AV21,0) -> 0 | CT21: =IF($CL21="1",AW21,0) -> 0 | ... CV21: =IF($CL21="1",AY21,0) -> 0 | CW21: =CP21+CT21+CV21 -> 0 | CX21: =CN21+CR21 -> 0 | CY21: =IF($CL21="1",AZ21,0) -> 0 | CZ21: =IF($CL21="1",BA21,0) -> 0 | DA21: =IF($CL21="1",BB21,0) -> 0 | DB21: =IF($CL21="1",BC21,0) -> 0 | DC21: =IF($CL21="1",BD21,0) -> 0 | DD21: =IF($CL21="1",BE21,0) -> 0 | DE21: =IF($CL21="1",BF21,0) -> 0 | DF21: =IF($CL21="1",BG21,0) -> 0 | ... DH21: =IF($CL21="1",BI21,0) -> 0 | DI21: =DB21+DF21+DH21 -> 0 | DJ21: =CZ21+DD21 -> 0 | DK21: =IF(CE21=0,1,0) -> 1 | DL21: =IFERROR(IF($AF21="N",AH21+AJ21+AL21+AN21,AF21+AH21+AJ21+AL21+AN21),0)*$DK21 -> 27.5 | DM21: =(AG21+AI21+AK21+AM21+AO21)*$DK21 -> 550 | DN21: =AS21+AW21+AY21-CW21 -> 550 | DO21: =BC21+BG21+BI21-DI21 -> 0 | DP21: =DN21+DO21 -> 550 | DQ21: =IF(OR(F21=vstupy!B$40,F21=vstupy!B$41,F21=vstupy!B$42,),"0","1") -> 0 | DR21: =IF($DQ21="1",AQ21,"0")+CF21 -> 0 | DS21: =IF($DQ21="1",AS21,"0")+CG21 -> 0 | DT21: =IF($DQ21="1",AU21,"0")+CH21 -> 0 | DU21: =IF($DQ21="1",AW21,"0")+CI21 -> 0 | DV21: =IF($DQ21="1",AY21,"0")+CJ21 -> 0 | DW21: =SUM(DR21:DV23) -> 0 | DX21: =IF($DQ21="1",BA21,"0") -> 0 | DY21: =IF($DQ21="1",BC21,"0") -> 0 | DZ21: =IF($DQ21="1",BE21,"0") -> 0 | EA21: =IF($DQ21="1",BG21,"0") -> 0 | EB21: =IF($DQ21="1",BI21,"0") -> 0 | EC21: =SUM(DX21:EB23) -> 0 | ED21: =EC21+DW21 -> 0
X22: Vyberte typ povinnosti | Y22: Vyberte veľkosť | Z22: =VLOOKUP($X22,vstupy!$B$18:$F$31,MATCH($Y22,vstupy!$B$17:$F$17,0),0) -> 0 | AA22: Vyber | AB22: =VLOOKUP($AA22,[1]vstupy!$B$34:$C$36,2,FALSE) -> 0 | AC22: =Z22+AB22 -> 0
X23: Vyberte typ povinnosti | Y23: Vyberte veľkosť | Z23: =VLOOKUP($X23,vstupy!$B$18:$F$31,MATCH($Y23,vstupy!$B$17:$F$17,0),0) -> 0 | AA23: Vyber | AB23: =VLOOKUP($AA23,[1]vstupy!$B$34:$C$36,2,FALSE) -> 0 | AC23: =Z23+AB23 -> 0
B24: 6 | C24: stanovenie poplatku za udelenie predchádzajúceho súhlasu na ustanovenie osoby podľa § 8e ods. 1 zákona o bankách alebo člena riadiaceho výboru podľa § 8e ods. 3 zákona o bankách (špecifický symbol 1336) | D24: zákon č. 483/2001 Z. z. v znení neskorších predpisov | E24: § 9 ods. 5 | F24: 1.SK | G24: 46398 | H24: =IF($F24="3e) Skoršia transpozícia - zavedenie transpozície pred termínom ktorý určuje smernica EÚ. "," ","") | I24: =IF($F24="3e) Skoršia transpozícia - zavedenie transpozície pred termínom ktorý určuje smernica EÚ. ",$H24,"NA") -> NA | J24: =IF(I24>12,1,I24/12) -> 1 | K24: pobočky zahraničných bánk so sídlom mimo územia členského štátu | L24: 0 | M24: =IF(L24="N",0,L24) -> 0 | N24: In (zvyšuje náklady) | P24: 150 | Q24: jednorazovo | R24: =VLOOKUP(Q24,[1]vstupy!$B$3:$C$15,2,FALSE) -> 0.25 | U24: Vyberte frekvenciu | V24: =VLOOKUP(U24,[1]vstupy!$B$3:$C$15,2,FALSE) -> 0 | X24: Vyberte typ povinnosti | Y24: Vyberte veľkosť | Z24: =VLOOKUP($X24,vstupy!$B$18:$F$31,MATCH($Y24,vstupy!$B$17:$F$17,0),0) -> 0 | AA24: Vyber | AB24: =VLOOKUP($AA24,[1]vstupy!$B$34:$C$36,2,FALSE) -> 0 | AC24: =Z24+AB24 -> 0 | AD24: Vyberte frekvenciu | AE24: =VLOOKUP(AD24,vstupy!$B$3:$C$15,2,FALSE) -> 0 | AF24: =IFERROR(IF(M24=0,"N",O24/L24*J24),0) -> N | AG24: =O24*J24 -> 0 | AH24: =P24*R24*J24 -> 37.5 | AI24: =IFERROR(AH24*M24,0) -> 0 | AJ24: =IFERROR(IF(M24=0,"N",S24/L24*J24),0) -> N | AK24: =S24*J24 -> 0 | AL24: =T24*V24*J24 -> 0 | AM24: =IFERROR(AL24*M24,0) -> 0 | AN24: =IF(W24>0,IF(AE24>0,($G$5/160)*(W24/60)*AE24*J24,0),IF(AE24>0,($G$5/160)*((AC24+AC25+AC26)/60)*AE24*J24,0)) -> 0 | AO24: =IFERROR(AN24*M24,0) -> 0 | AP24: =IF($N24="In (zvyšuje náklady)",AF24,0) -> N | AQ24: =IF($N24="In (zvyšuje náklady)",AG24,0) -> 0 | AR24: =IF($N24="In (zvyšuje náklady)",AH24,0) -> 37.5 | AS24: =IF($N24="In (zvyšuje náklady)",AI24,0) -> 0 | AT24: =IF($N24="In (zvyšuje náklady)",AJ24,0) -> N | AU24: =IF($N24="In (zvyšuje náklady)",AK24,0) -> 0 | AV24: =IF($N24="In (zvyšuje náklady)",AL24,0) -> 0 | AW24: =IF($N24="In (zvyšuje náklady)",AM24,0) -> 0 | ... AY24: =IF($N24="In (zvyšuje náklady)",AO24,0) -> 0 | AZ24: =IF($N24="Out (znižuje náklady)",AF24,"0") -> 0 | BA24: =IF($N24="Out (znižuje náklady)",AG24,"0") -> 0 | BB24: =IF($N24="Out (znižuje náklady)",AH24,"0") -> 0 | BC24: =IF($N24="Out (znižuje náklady)",AI24,"0") -> 0 | BD24: =IF($N24="Out (znižuje náklady)",AJ24,"0") -> 0 | BE24: =IF($N24="Out (znižuje náklady)",AK24,"0") -> 0 | BF24: =IF($N24="Out (znižuje náklady)",AL24,"0") -> 0 | BG24: =IF($N24="Out (znižuje náklady)",AM24,"0") -> 0 | ... BI24: =IF($N24="Out (znižuje náklady)",AO24,"0") -> 0 | BJ24: =IF(F24=vstupy!$B$47,0,1) -> 1 | BK24: =$BJ24*AP24 -> #VALUE! | BL24: =$BJ24*AQ24 -> 0 | BM24: =$BJ24*AR24 -> 37.5 | BN24: =$BJ24*AS24 -> 0 | BO24: =$BJ24*AT24 -> #VALUE! | BP24: =$BJ24*AU24 -> 0 | BQ24: =$BJ24*AV24 -> 0 | BR24: =$BJ24*AW24 -> 0 | ... CD24: =$BJ24*BI24 -> 0 | CE24: =IF(N24="Nemení sa",1,0) -> 0 | CF24: =AG24*$CE24 -> 0 | CG24: =AI24*$CE24 -> 0 | CH24: =AK24*$CE24 -> 0 | CI24: =AM24*$CE24 -> 0 | CJ24: =AO24*$CE24 -> 0 | CK24: =SUM(CF24:CJ26) -> 0 | CL24: =IF(F24=vstupy!B$42,"1",0) -> 0 | CM24: =IF($CL24="1",AP24,0) -> 0 | CN24: =IF($CL24="1",AQ24,0) -> 0 | CO24: =IF($CL24="1",AR24,0) -> 0 | CP24: =IF($CL24="1",AS24,0) -> 0 | CQ24: =IF($CL24="1",AT24,0) -> 0 | CR24: =IF($CL24="1",AU24,0) -> 0 | CS24: =IF($CL24="1",AV24,0) -> 0 | CT24: =IF($CL24="1",AW24,0) -> 0 | ... CV24: =IF($CL24="1",AY24,0) -> 0 | CW24: =CP24+CT24+CV24 -> 0 | CX24: =CN24+CR24 -> 0 | CY24: =IF($CL24="1",AZ24,0) -> 0 | CZ24: =IF($CL24="1",BA24,0) -> 0 | DA24: =IF($CL24="1",BB24,0) -> 0 | DB24: =IF($CL24="1",BC24,0) -> 0 | DC24: =IF($CL24="1",BD24,0) -> 0 | DD24: =IF($CL24="1",BE24,0) -> 0 | DE24: =IF($CL24="1",BF24,0) -> 0 | DF24: =IF($CL24="1",BG24,0) -> 0 | ... DH24: =IF($CL24="1",BI24,0) -> 0 | DI24: =DB24+DF24+DH24 -> 0 | DJ24: =CZ24+DD24 -> 0 | DK24: =IF(CE24=0,1,0) -> 1 | DL24: =IFERROR(IF($AF24="N",AH24+AJ24+AL24+AN24,AF24+AH24+AJ24+AL24+AN24),0)*$DK24 -> 0 | DM24: =(AG24+AI24+AK24+AM24+AO24)*$DK24 -> 0 | DN24: =AS24+AW24+AY24-CW24 -> 0 | DO24: =BC24+BG24+BI24-DI24 -> 0 | DP24: =DN24+DO24 -> 0 | DQ24: =IF(OR(F24=vstupy!B$40,F24=vstupy!B$41,F24=vstupy!B$42,),"0","1") -> 0 | DR24: =IF($DQ24="1",AQ24,"0")+CF24 -> 0 | DS24: =IF($DQ24="1",AS24,"0")+CG24 -> 0 | DT24: =IF($DQ24="1",AU24,"0")+CH24 -> 0 | DU24: =IF($DQ24="1",AW24,"0")+CI24 -> 0 | DV24: =IF($DQ24="1",AY24,"0")+CJ24 -> 0 | DW24: =SUM(DR24:DV26) -> 0 | DX24: =IF($DQ24="1",BA24,"0") -> 0 | DY24: =IF($DQ24="1",BC24,"0") -> 0 | DZ24: =IF($DQ24="1",BE24,"0") -> 0 | EA24: =IF($DQ24="1",BG24,"0") -> 0 | EB24: =IF($DQ24="1",BI24,"0") -> 0 | EC24: =SUM(DX24:EB26) -> 0 | ED24: =EC24+DW24 -> 0
X25: Vyberte typ povinnosti | Y25: Vyberte veľkosť | Z25: =VLOOKUP($X25,vstupy!$B$18:$F$31,MATCH($Y25,vstupy!$B$17:$F$17,0),0) -> 0 | AA25: Vyber | AB25: =VLOOKUP($AA25,[1]vstupy!$B$34:$C$36,2,FALSE) -> 0 | AC25: =Z25+AB25 -> 0
X26: Vyberte typ povinnosti | Y26: Vyberte veľkosť | Z26: =VLOOKUP($X26,vstupy!$B$18:$F$31,MATCH($Y26,vstupy!$B$17:$F$17,0),0) -> 0 | AA26: Vyber | AB26: =VLOOKUP($AA26,[1]vstupy!$B$34:$C$36,2,FALSE) -> 0 | AC26: =Z26+AB26 -> 0
B27: 7 | C27: vypustenie úkonu a poplatku za udelenie predchádzajúceho súhlasu na zmenu vedúceho pobočky zahraničnej banky (špecifický symbol 1320) | D27: zákon č. 483/2001 Z. z. v znení neskorších predpisov | E27: § 9 ods. 5 | F27: 1.SK | G27: 46388 | H27: =IF($F27="3e) Skoršia transpozícia - zavedenie transpozície pred termínom ktorý určuje smernica EÚ. "," ","") | I27: =IF($F27="3e) Skoršia transpozícia - zavedenie transpozície pred termínom ktorý určuje smernica EÚ. ",$H27,"NA") -> NA | J27: =IF(I27>12,1,I27/12) -> 1 | K27: pobočky zahraničných bánk | L27: 0 | M27: =IF(L27="N",0,L27) -> 0 | N27: Out (znižuje náklady) | P27: 40 | Q27: jednorazovo | R27: =VLOOKUP(Q27,[1]vstupy!$B$3:$C$15,2,FALSE) -> 0.25 | U27: Vyberte frekvenciu | V27: =VLOOKUP(U27,[1]vstupy!$B$3:$C$15,2,FALSE) -> 0 | X27: Vyberte typ povinnosti | Y27: Vyberte veľkosť | Z27: =VLOOKUP($X27,vstupy!$B$18:$F$31,MATCH($Y27,vstupy!$B$17:$F$17,0),0) -> 0 | AA27: Vyber | AB27: =VLOOKUP($AA27,[1]vstupy!$B$34:$C$36,2,FALSE) -> 0 | AC27: =Z27+AB27 -> 0 | AD27: Vyberte frekvenciu | AE27: =VLOOKUP(AD27,vstupy!$B$3:$C$15,2,FALSE) -> 0 | AF27: =IFERROR(IF(M27=0,"N",O27/L27*J27),0) -> N | AG27: =O27*J27 -> 0 | AH27: =P27*R27*J27 -> 10 | AI27: =IFERROR(AH27*M27,0) -> 0 | AJ27: =IFERROR(IF(M27=0,"N",S27/L27*J27),0) -> N | AK27: =S27*J27 -> 0 | AL27: =T27*V27*J27 -> 0 | AM27: =IFERROR(AL27*M27,0) -> 0 | AN27: =IF(W27>0,IF(AE27>0,($G$5/160)*(W27/60)*AE27*J27,0),IF(AE27>0,($G$5/160)*((AC27+AC28+AC29)/60)*AE27*J27,0)) -> 0 | AO27: =IFERROR(AN27*M27,0) -> 0 | AP27: =IF($N27="In (zvyšuje náklady)",AF27,0) -> 0 | AQ27: =IF($N27="In (zvyšuje náklady)",AG27,0) -> 0 | AR27: =IF($N27="In (zvyšuje náklady)",AH27,0) -> 0 | AS27: =IF($N27="In (zvyšuje náklady)",AI27,0) -> 0 | AT27: =IF($N27="In (zvyšuje náklady)",AJ27,0) -> 0 | AU27: =IF($N27="In (zvyšuje náklady)",AK27,0) -> 0 | AV27: =IF($N27="In (zvyšuje náklady)",AL27,0) -> 0 | AW27: =IF($N27="In (zvyšuje náklady)",AM27,0) -> 0 | ... AY27: =IF($N27="In (zvyšuje náklady)",AO27,0) -> 0 | AZ27: =IF($N27="Out (znižuje náklady)",AF27,"0") -> N | BA27: =IF($N27="Out (znižuje náklady)",AG27,"0") -> 0 | BB27: =IF($N27="Out (znižuje náklady)",AH27,"0") -> 10 | BC27: =IF($N27="Out (znižuje náklady)",AI27,"0") -> 0 | BD27: =IF($N27="Out (znižuje náklady)",AJ27,"0") -> N | BE27: =IF($N27="Out (znižuje náklady)",AK27,"0") -> 0 | BF27: =IF($N27="Out (znižuje náklady)",AL27,"0") -> 0 | BG27: =IF($N27="Out (znižuje náklady)",AM27,"0") -> 0 | ... BI27: =IF($N27="Out (znižuje náklady)",AO27,"0") -> 0 | BJ27: =IF(F27=vstupy!$B$47,0,1) -> 1 | BK27: =$BJ27*AP27 -> 0 | BL27: =$BJ27*AQ27 -> 0 | BM27: =$BJ27*AR27 -> 0 | BN27: =$BJ27*AS27 -> 0 | BO27: =$BJ27*AT27 -> 0 | BP27: =$BJ27*AU27 -> 0 | BQ27: =$BJ27*AV27 -> 0 | BR27: =$BJ27*AW27 -> 0 | ... CD27: =$BJ27*BI27 -> 0 | CE27: =IF(N27="Nemení sa",1,0) -> 0 | CF27: =AG27*$CE27 -> 0 | CG27: =AI27*$CE27 -> 0 | CH27: =AK27*$CE27 -> 0 | CI27: =AM27*$CE27 -> 0 | CJ27: =AO27*$CE27 -> 0 | CK27: =SUM(CF27:CJ29) -> 0 | CL27: =IF(F27=vstupy!B$42,"1",0) -> 0 | CM27: =IF($CL27="1",AP27,0) -> 0 | CN27: =IF($CL27="1",AQ27,0) -> 0 | CO27: =IF($CL27="1",AR27,0) -> 0 | CP27: =IF($CL27="1",AS27,0) -> 0 | CQ27: =IF($CL27="1",AT27,0) -> 0 | CR27: =IF($CL27="1",AU27,0) -> 0 | CS27: =IF($CL27="1",AV27,0) -> 0 | CT27: =IF($CL27="1",AW27,0) -> 0 | ... CV27: =IF($CL27="1",AY27,0) -> 0 | CW27: =CP27+CT27+CV27 -> 0 | CX27: =CN27+CR27 -> 0 | CY27: =IF($CL27="1",AZ27,0) -> 0 | CZ27: =IF($CL27="1",BA27,0) -> 0 | DA27: =IF($CL27="1",BB27,0) -> 0 | DB27: =IF($CL27="1",BC27,0) -> 0 | DC27: =IF($CL27="1",BD27,0) -> 0 | DD27: =IF($CL27="1",BE27,0) -> 0 | DE27: =IF($CL27="1",BF27,0) -> 0 | DF27: =IF($CL27="1",BG27,0) -> 0 | ... DH27: =IF($CL27="1",BI27,0) -> 0 | DI27: =DB27+DF27+DH27 -> 0 | DJ27: =CZ27+DD27 -> 0 | DK27: =IF(CE27=0,1,0) -> 1 | DL27: =IFERROR(IF($AF27="N",AH27+AJ27+AL27+AN27,AF27+AH27+AJ27+AL27+AN27),0)*$DK27 -> 0 | DM27: =(AG27+AI27+AK27+AM27+AO27)*$DK27 -> 0 | DN27: =AS27+AW27+AY27-CW27 -> 0 | DO27: =BC27+BG27+BI27-DI27 -> 0 | DP27: =DN27+DO27 -> 0 | DQ27: =IF(OR(F27=vstupy!B$40,F27=vstupy!B$41,F27=vstupy!B$42,),"0","1") -> 0 | DR27: =IF($DQ27="1",AQ27,"0")+CF27 -> 0 | DS27: =IF($DQ27="1",AS27,"0")+CG27 -> 0 | DT27: =IF($DQ27="1",AU27,"0")+CH27 -> 0 | DU27: =IF($DQ27="1",AW27,"0")+CI27 -> 0 | DV27: =IF($DQ27="1",AY27,"0")+CJ27 -> 0 | DW27: =SUM(DR27:DV29) -> 0 | DX27: =IF($DQ27="1",BA27,"0") -> 0 | DY27: =IF($DQ27="1",BC27,"0") -> 0 | DZ27: =IF($DQ27="1",BE27,"0") -> 0 | EA27: =IF($DQ27="1",BG27,"0") -> 0 | EB27: =IF($DQ27="1",BI27,"0") -> 0 | EC27: =SUM(DX27:EB29) -> 0 | ED27: =EC27+DW27 -> 0
X28: Vyberte typ povinnosti | Y28: Vyberte veľkosť | Z28: =VLOOKUP($X28,vstupy!$B$18:$F$31,MATCH($Y28,vstupy!$B$17:$F$17,0),0) -> 0 | AA28: Vyber | AB28: =VLOOKUP($AA28,[1]vstupy!$B$34:$C$36,2,FALSE) -> 0 | AC28: =Z28+AB28 -> 0
X29: Vyberte typ povinnosti | Y29: Vyberte veľkosť | Z29: =VLOOKUP($X29,vstupy!$B$18:$F$31,MATCH($Y29,vstupy!$B$17:$F$17,0),0) -> 0 | AA29: Vyber | AB29: =VLOOKUP($AA29,[1]vstupy!$B$34:$C$36,2,FALSE) -> 0 | AC29: =Z29+AB29 -> 0
B30: 8 | C30: stanovenie poplatku za udelenie povolenia na zahrnutie predbežných alebo koncoročných ziskov do vlastného kapitálu Tier 1 (špecifický symbol 2128) | D30: nariadenie (EÚ) č. 575/2013 v platnom znení | E30: Čl. 26 ods. 2 | F30: 1.SK | G30: 46388 | I30: =IF($F30="3e) Skoršia transpozícia - zavedenie transpozície pred termínom ktorý určuje smernica EÚ. ",$H30,"NA") -> NA | J30: =IF(I30>12,1,I30/12) -> 1 | K30: obchodníci s cennými papiermi | L30: 1 | M30: =IF(L30="N",0,L30) -> 1 | N30: In (zvyšuje náklady) | P30: 1700 | Q30: jednorazovo | R30: =VLOOKUP(Q30,[1]vstupy!$B$3:$C$15,2,FALSE) -> 0.25 | U30: Vyberte frekvenciu | V30: =VLOOKUP(U30,[1]vstupy!$B$3:$C$15,2,FALSE) -> 0 | X30: Vyberte typ povinnosti | Y30: Vyberte veľkosť | Z30: =VLOOKUP($X30,vstupy!$B$18:$F$31,MATCH($Y30,vstupy!$B$17:$F$17,0),0) -> 0 | AA30: Vyber | AB30: =VLOOKUP($AA30,[1]vstupy!$B$34:$C$36,2,FALSE) -> 0 | AC30: =Z30+AB30 -> 0 | AD30: Vyberte frekvenciu | AE30: =VLOOKUP(AD30,vstupy!$B$3:$C$15,2,FALSE) -> 0 | AF30: =IFERROR(IF(M30=0,"N",O30/L30*J30),0) -> 0 | AG30: =O30*J30 -> 0 | AH30: =P30*R30*J30 -> 425 | AI30: =IFERROR(AH30*M30,0) -> 425 | AJ30: =IFERROR(IF(M30=0,"N",S30/L30*J30),0) -> 0 | AK30: =S30*J30 -> 0 | AL30: =T30*V30*J30 -> 0 | AM30: =IFERROR(AL30*M30,0) -> 0 | AN30: =IF(W30>0,IF(AE30>0,($G$5/160)*(W30/60)*AE30*J30,0),IF(AE30>0,($G$5/160)*((AC30+AC31+AC32)/60)*AE30*J30,0)) -> 0 | AO30: =IFERROR(AN30*M30,0) -> 0 | AP30: =IF($N30="In (zvyšuje náklady)",AF30,0) -> 0 | AQ30: =IF($N30="In (zvyšuje náklady)",AG30,0) -> 0 | AR30: =IF($N30="In (zvyšuje náklady)",AH30,0) -> 425 | AS30: =IF($N30="In (zvyšuje náklady)",AI30,0) -> 425 | AT30: =IF($N30="In (zvyšuje náklady)",AJ30,0) -> 0 | AU30: =IF($N30="In (zvyšuje náklady)",AK30,0) -> 0 | AV30: =IF($N30="In (zvyšuje náklady)",AL30,0) -> 0 | AW30: =IF($N30="In (zvyšuje náklady)",AM30,0) -> 0 | ... AY30: =IF($N30="In (zvyšuje náklady)",AO30,0) -> 0 | AZ30: =IF($N30="Out (znižuje náklady)",AF30,"0") -> 0 | BA30: =IF($N30="Out (znižuje náklady)",AG30,"0") -> 0 | BB30: =IF($N30="Out (znižuje náklady)",AH30,"0") -> 0 | BC30: =IF($N30="Out (znižuje náklady)",AI30,"0") -> 0 | BD30: =IF($N30="Out (znižuje náklady)",AJ30,"0") -> 0 | BE30: =IF($N30="Out (znižuje náklady)",AK30,"0") -> 0 | BF30: =IF($N30="Out (znižuje náklady)",AL30,"0") -> 0 | BG30: =IF($N30="Out (znižuje náklady)",AM30,"0") -> 0 | ... BI30: =IF($N30="Out (znižuje náklady)",AO30,"0") -> 0 | BJ30: =IF(F30=vstupy!$B$47,0,1) -> 1 | BK30: =$BJ30*AP30 -> 0 | BL30: =$BJ30*AQ30 -> 0 | BM30: =$BJ30*AR30 -> 425 | BN30: =$BJ30*AS30 -> 425 | BO30: =$BJ30*AT30 -> 0 | BP30: =$BJ30*AU30 -> 0 | BQ30: =$BJ30*AV30 -> 0 | BR30: =$BJ30*AW30 -> 0 | ... CD30: =$BJ30*BI30 -> 0 | CE30: =IF(N30="Nemení sa",1,0) -> 0 | CF30: =AG30*$CE30 -> 0 | CG30: =AI30*$CE30 -> 0 | CH30: =AK30*$CE30 -> 0 | CI30: =AM30*$CE30 -> 0 | CJ30: =AO30*$CE30 -> 0 | CK30: =SUM(CF30:CJ32) -> 0 | CL30: =IF(F30=vstupy!B$42,"1",0) -> 0 | CM30: =IF($CL30="1",AP30,0) -> 0 | CN30: =IF($CL30="1",AQ30,0) -> 0 | CO30: =IF($CL30="1",AR30,0) -> 0 | CP30: =IF($CL30="1",AS30,0) -> 0 | CQ30: =IF($CL30="1",AT30,0) -> 0 | CR30: =IF($CL30="1",AU30,0) -> 0 | CS30: =IF($CL30="1",AV30,0) -> 0 | CT30: =IF($CL30="1",AW30,0) -> 0 | ... CV30: =IF($CL30="1",AY30,0) -> 0 | CW30: =CP30+CT30+CV30 -> 0 | CX30: =CN30+CR30 -> 0 | CY30: =IF($CL30="1",AZ30,0) -> 0 | CZ30: =IF($CL30="1",BA30,0) -> 0 | DA30: =IF($CL30="1",BB30,0) -> 0 | DB30: =IF($CL30="1",BC30,0) -> 0 | DC30: =IF($CL30="1",BD30,0) -> 0 | DD30: =IF($CL30="1",BE30,0) -> 0 | DE30: =IF($CL30="1",BF30,0) -> 0 | DF30: =IF($CL30="1",BG30,0) -> 0 | ... DH30: =IF($CL30="1",BI30,0) -> 0 | DI30: =DB30+DF30+DH30 -> 0 | DJ30: =CZ30+DD30 -> 0 | DK30: =IF(CE30=0,1,0) -> 1 | DL30: =IFERROR(IF($AF30="N",AH30+AJ30+AL30+AN30,AF30+AH30+AJ30+AL30+AN30),0)*$DK30 -> 425 | DM30: =(AG30+AI30+AK30+AM30+AO30)*$DK30 -> 425 | DN30: =AS30+AW30+AY30-CW30 -> 425 | DO30: =BC30+BG30+BI30-DI30 -> 0 | DP30: =DN30+DO30 -> 425 | DQ30: =IF(OR(F30=vstupy!B$40,F30=vstupy!B$41,F30=vstupy!B$42,),"0","1") -> 0 | DR30: =IF($DQ30="1",AQ30,"0")+CF30 -> 0 | DS30: =IF($DQ30="1",AS30,"0")+CG30 -> 0 | DT30: =IF($DQ30="1",AU30,"0")+CH30 -> 0 | DU30: =IF($DQ30="1",AW30,"0")+CI30 -> 0 | DV30: =IF($DQ30="1",AY30,"0")+CJ30 -> 0 | DW30: =SUM(DR30:DV32) -> 0 | DX30: =IF($DQ30="1",BA30,"0") -> 0 | DY30: =IF($DQ30="1",BC30,"0") -> 0 | DZ30: =IF($DQ30="1",BE30,"0") -> 0 | EA30: =IF($DQ30="1",BG30,"0") -> 0 | EB30: =IF($DQ30="1",BI30,"0") -> 0 | EC30: =SUM(DX30:EB32) -> 0 | ED30: =EC30+DW30 -> 0
X31: Vyberte typ povinnosti | Y31: Vyberte veľkosť | Z31: =VLOOKUP($X31,vstupy!$B$18:$F$31,MATCH($Y31,vstupy!$B$17:$F$17,0),0) -> 0 | AA31: Vyber | AB31: =VLOOKUP($AA31,[1]vstupy!$B$34:$C$36,2,FALSE) -> 0 | AC31: =Z31+AB31 -> 0
X32: Vyberte typ povinnosti | Y32: Vyberte veľkosť | Z32: =VLOOKUP($X32,vstupy!$B$18:$F$31,MATCH($Y32,vstupy!$B$17:$F$17,0),0) -> 0 | AA32: Vyber | AB32: =VLOOKUP($AA32,[1]vstupy!$B$34:$C$36,2,FALSE) -> 0 | AC32: =Z32+AB32 -> 0
B33: =B30+1 -> 9 | C33: stanovenie poplatku za udelenie povolenia na používanie alternatívnych interných modelov na výpočet požiadaviek na vlastné zdroje (špecifický symbol 2129) | D33: nariadenie (EÚ) č. 575/2013 v platnom znení | E33: Čl. 325az | F33: 1.SK | G33: 46388 | H33: =IF($F33="3e) Skoršia transpozícia - zavedenie transpozície pred termínom ktorý určuje smernica EÚ. "," ","") | I33: =IF($F33="3e) Skoršia transpozícia - zavedenie transpozície pred termínom ktorý určuje smernica EÚ. ",$H33,"NA") -> NA | J33: =IF(I33>12,1,I33/12) -> 1 | K33: obchodníci s cennými papiermi | L33: 0 | M33: =IF(L33="N",0,L33) -> 0 | N33: In (zvyšuje náklady) | P33: 1700 | Q33: jednorazovo | R33: =VLOOKUP(Q33,[1]vstupy!$B$3:$C$15,2,FALSE) -> 0.25 | U33: Vyberte frekvenciu | V33: =VLOOKUP(U33,[1]vstupy!$B$3:$C$15,2,FALSE) -> 0 | X33: Vyberte typ povinnosti | Y33: Vyberte veľkosť | Z33: =VLOOKUP($X33,vstupy!$B$18:$F$31,MATCH($Y33,vstupy!$B$17:$F$17,0),0) -> 0 | AA33: Vyber | AB33: =VLOOKUP($AA33,[1]vstupy!$B$34:$C$36,2,FALSE) -> 0 | AC33: =Z33+AB33 -> 0 | AD33: Vyberte frekvenciu | AE33: =VLOOKUP(AD33,vstupy!$B$3:$C$15,2,FALSE) -> 0 | AF33: =IFERROR(IF(M33=0,"N",O33/L33*J33),0) -> N | AG33: =O33*J33 -> 0 | AH33: =P33*R33*J33 -> 425 | AI33: =IFERROR(AH33*M33,0) -> 0 | AJ33: =IFERROR(IF(M33=0,"N",S33/L33*J33),0) -> N | AK33: =S33*J33 -> 0 | AL33: =T33*V33*J33 -> 0 | AM33: =IFERROR(AL33*M33,0) -> 0 | AN33: =IF(W33>0,IF(AE33>0,($G$5/160)*(W33/60)*AE33*J33,0),IF(AE33>0,($G$5/160)*((AC33+AC34+AC35)/60)*AE33*J33,0)) -> 0 | AO33: =IFERROR(AN33*M33,0) -> 0 | AP33: =IF($N33="In (zvyšuje náklady)",AF33,0) -> N | AQ33: =IF($N33="In (zvyšuje náklady)",AG33,0) -> 0 | AR33: =IF($N33="In (zvyšuje náklady)",AH33,0) -> 425 | AS33: =IF($N33="In (zvyšuje náklady)",AI33,0) -> 0 | AT33: =IF($N33="In (zvyšuje náklady)",AJ33,0) -> N | AU33: =IF($N33="In (zvyšuje náklady)",AK33,0) -> 0 | AV33: =IF($N33="In (zvyšuje náklady)",AL33,0) -> 0 | AW33: =IF($N33="In (zvyšuje náklady)",AM33,0) -> 0 | ... AY33: =IF($N33="In (zvyšuje náklady)",AO33,0) -> 0 | AZ33: =IF($N33="Out (znižuje náklady)",AF33,"0") -> 0 | BA33: =IF($N33="Out (znižuje náklady)",AG33,"0") -> 0 | BB33: =IF($N33="Out (znižuje náklady)",AH33,"0") -> 0 | BC33: =IF($N33="Out (znižuje náklady)",AI33,"0") -> 0 | BD33: =IF($N33="Out (znižuje náklady)",AJ33,"0") -> 0 | BE33: =IF($N33="Out (znižuje náklady)",AK33,"0") -> 0 | BF33: =IF($N33="Out (znižuje náklady)",AL33,"0") -> 0 | BG33: =IF($N33="Out (znižuje náklady)",AM33,"0") -> 0 | ... BI33: =IF($N33="Out (znižuje náklady)",AO33,"0") -> 0 | BJ33: =IF(F33=vstupy!$B$47,0,1) -> 1 | BK33: =$BJ33*AP33 -> #VALUE! | BL33: =$BJ33*AQ33 -> 0 | BM33: =$BJ33*AR33 -> 425 | BN33: =$BJ33*AS33 -> 0 | BO33: =$BJ33*AT33 -> #VALUE! | BP33: =$BJ33*AU33 -> 0 | BQ33: =$BJ33*AV33 -> 0 | BR33: =$BJ33*AW33 -> 0 | ... CD33: =$BJ33*BI33 -> 0 | CE33: =IF(N33="Nemení sa",1,0) -> 0 | CF33: =AG33*$CE33 -> 0 | CG33: =AI33*$CE33 -> 0 | CH33: =AK33*$CE33 -> 0 | CI33: =AM33*$CE33 -> 0 | CJ33: =AO33*$CE33 -> 0 | CK33: =SUM(CF33:CJ35) -> 0 | CL33: =IF(F33=vstupy!B$42,"1",0) -> 0 | CM33: =IF($CL33="1",AP33,0) -> 0 | CN33: =IF($CL33="1",AQ33,0) -> 0 | CO33: =IF($CL33="1",AR33,0) -> 0 | CP33: =IF($CL33="1",AS33,0) -> 0 | CQ33: =IF($CL33="1",AT33,0) -> 0 | CR33: =IF($CL33="1",AU33,0) -> 0 | CS33: =IF($CL33="1",AV33,0) -> 0 | CT33: =IF($CL33="1",AW33,0) -> 0 | ... CV33: =IF($CL33="1",AY33,0) -> 0 | CW33: =CP33+CT33+CV33 -> 0 | CX33: =CN33+CR33 -> 0 | CY33: =IF($CL33="1",AZ33,0) -> 0 | CZ33: =IF($CL33="1",BA33,0) -> 0 | DA33: =IF($CL33="1",BB33,0) -> 0 | DB33: =IF($CL33="1",BC33,0) -> 0 | DC33: =IF($CL33="1",BD33,0) -> 0 | DD33: =IF($CL33="1",BE33,0) -> 0 | DE33: =IF($CL33="1",BF33,0) -> 0 | DF33: =IF($CL33="1",BG33,0) -> 0 | ... DH33: =IF($CL33="1",BI33,0) -> 0 | DI33: =DB33+DF33+DH33 -> 0 | DJ33: =CZ33+DD33 -> 0 | DK33: =IF(CE33=0,1,0) -> 1 | DL33: =IFERROR(IF($AF33="N",AH33+AJ33+AL33+AN33,AF33+AH33+AJ33+AL33+AN33),0)*$DK33 -> 0 | DM33: =(AG33+AI33+AK33+AM33+AO33)*$DK33 -> 0 | DN33: =AS33+AW33+AY33-CW33 -> 0 | DO33: =BC33+BG33+BI33-DI33 -> 0 | DP33: =DN33+DO33 -> 0 | DQ33: =IF(OR(F33=vstupy!B$40,F33=vstupy!B$41,F33=vstupy!B$42,),"0","1") -> 0 | DR33: =IF($DQ33="1",AQ33,"0")+CF33 -> 0 | DS33: =IF($DQ33="1",AS33,"0")+CG33 -> 0 | DT33: =IF($DQ33="1",AU33,"0")+CH33 -> 0 | DU33: =IF($DQ33="1",AW33,"0")+CI33 -> 0 | DV33: =IF($DQ33="1",AY33,"0")+CJ33 -> 0 | DW33: =SUM(DR33:DV35) -> 0 | DX33: =IF($DQ33="1",BA33,"0") -> 0 | DY33: =IF($DQ33="1",BC33,"0") -> 0 | DZ33: =IF($DQ33="1",BE33,"0") -> 0 | EA33: =IF($DQ33="1",BG33,"0") -> 0 | EB33: =IF($DQ33="1",BI33,"0") -> 0 | EC33: =SUM(DX33:EB35) -> 0 | ED33: =EC33+DW33 -> 0
X34: Vyberte typ povinnosti | Y34: Vyberte veľkosť | Z34: =VLOOKUP($X34,vstupy!$B$18:$F$31,MATCH($Y34,vstupy!$B$17:$F$17,0),0) -> 0 | AA34: Vyber | AB34: =VLOOKUP($AA34,[1]vstupy!$B$34:$C$36,2,FALSE) -> 0 | AC34: =Z34+AB34 -> 0
X35: Vyberte typ povinnosti | Y35: Vyberte veľkosť | Z35: =VLOOKUP($X35,vstupy!$B$18:$F$31,MATCH($Y35,vstupy!$B$17:$F$17,0),0) -> 0 | AA35: Vyber | AB35: =VLOOKUP($AA35,[1]vstupy!$B$34:$C$36,2,FALSE) -> 0 | AC35: =Z35+AB35 -> 0
