Workbook
Name AY: 'Krok 1- Kalkulačka '!$1:$1048576

Sheet Malá kalkulačka
B2: Náklady regulácie | D2: Náklady na 1 podnikateľa | E2: Náklady na celé podnikateľské prostredie
B3: Priame finančné náklady (EUR) | D3: =SUM(M11:M13) -> 0 | E3: =SUM(N11:N13) -> 0
B4: Nepriame finančné náklady (EUR) | D4: =SUM(O11:O13) -> 0 | E4: =SUM(P11:P13) -> 0
B5: Administratívne náklady (EUR) | D5: =SUM(K11:K13) -> 0 | E5: =SUM(L11:L13) -> 0
B6: Celkové náklady povinnosti (EUR) | D6: =SUM(Q11:Q13) -> 0 | E6: =SUM(R11:R13) -> 0
B8: Priemerná hrubá mesačná mzda v národnom hospodárstve za rok 2013 | D8: 835
B9: Časová náročnosť povinnosti | E9: Priame finančné náklady na povinnosť na 1 podnikateľa (EUR) | F9: Nepriame finančné náklady na povinnosť na 1 podnikateľa (EUR) | G9: Počet dotknutých podnikateľov | H9: Frekvencia plnenia povinnosti | I9: Frekvencia plnenia povinnosti | J9: Čas (v min.)
B10: Alternatíva 1: Štandardná časová náročnosť (min.) | D10: Alternatíva 2: Expertný odhad trvania (min.)
B11: Vyberte typickú povinnosť | C11: =IFERROR(VLOOKUP(B11,vstupy!#REF!,2,FALSE),0) -> 0 | D11: 0 | E11: 0 | F11: 0 | G11: 0 | H11: Vyberte frekvenciu | I11: =VLOOKUP(H11,vstupy!$B$3:$C$14,2,FALSE) -> 0 | J11: =IF(D11=0,SUM(C11:C13),D11) -> 0 | K11: =IF(I11>0.9,($D$8/160)*(J11/60)*I11,($D$8/160)*(J11/60)*1) -> 0 | L11: =K11*G11 -> 0 | M11: =IF(I11>0.9,E11*I11,E11*1) -> 0 | N11: =M11*G11 -> 0 | O11: =IF(I11>0.9,I11*F11,F11*1) -> 0 | P11: =O11*G11 -> 0 | Q11: =M11+O11+K11 -> 0 | R11: =L11+N11+P11 -> 0
B12: Vyberte typickú povinnosť | C12: =IFERROR(VLOOKUP(B12,vstupy!#REF!,2,FALSE),0) -> 0
B13: Vyberte typickú povinnosť | C13: =IFERROR(VLOOKUP(B13,vstupy!#REF!,2,FALSE),0) -> 0

Sheet Krok 1- Kalkulačka 
C2: Výpočet vplyvov jednotlivých regulácií
C3: Názvy stĺpcov s červeným trojuholníkom vpravo hore obsahujú nápovedu
C5: Priemerná cena práce v EUR za rok 2025 (priemerná mesačná mzda + odvody zamestnávateľa) = | G5: 2206.44 | O5: ZMENY JEDNOTLIVÝCH TYPOV NÁKLADOV (vyplňte len tie, ktoré obsahuje daná regulácia) | AP5: In | AZ5: Out | BK5: In pre tabuľku 1 | BU5: Out pre tabuľku 1 | CF5: In pre výpočet "Goldplating Nemení sa" | CK5: IN (pre výpočet Goldplating Nemení sa) | CM5: In EU | CY5: OUT EU
W6: E. Administratívne náklady (časová náročnosť povinnosti) Vyplňte len jednu z alternatív 1 alebo 2 | DR6: IN Goldplating | DX6: OUT Goldplating | ED6: Goldplating celkom
B7: P.č. | C7: Zrozumiteľný a stručný opis regulácie (dôvod zvýšenia/zníženia nákladov na PP a dôvod ponechania nákladov na PP, ktoré su goldplatingom) | D7: Číslo normy (zákona, vyhlášky a pod.) | E7: Lokalizácia (§, ods., čl.,...) | F7: Pôvod regulácie: (SK / EÚ úplná harm./ goldplating) | G7: Účinnosť regulácie | H7: Termín skoršej transpozície | I7: Termín skoršej transpozície | J7: koeficient | K7: Kategória dotk. subjektov | L7: Počet dotkn. subjektov spolu (v prípade objektívnej nedostupnosti údaja použite expertný odhad) | M7: Počet dotkn. subjektov | N7: Druh vplyvu In (zvyšuje náklady) / Out (znižuje náklady) / Nemení sa | O7: Priame finančné náklady | S7: Nepriame finančné náklady, pokuty a sankcie | W7: E.1 Administratívne náklady alternatíva 1 (expertný odhad) | X7: E2 Administratívne náklady alternatíva 2 (kalkulačka) Pozri hárok "vysvetlivky - kalkulačka E.2" | AF7: Priame finančné náklady A. Dane, odvody, clá a poplatky, ktorých cieľom je znižovať negatívne externality (EUR) | AH7: Priame finančné náklady B. Iné poplatky (EUR) | AJ7: Nepriame finančné náklady C. Sankcie a pokuty (EUR) | AL7: Nepriame finančné náklady D. Iné nepriame náklady (EUR) | AN7: E. Administratívne náklady (EUR) | AP7: Priame finančné náklady A. Dane, odvody, clá a poplatky, ktorých cieľom je znižovať negatívne externality (EUR) | AR7: Priame finančné náklady B. Iné (EUR) | AT7: Nepriame finančné náklady C. Sankcie a pokuty (EUR) | AV7: D. Nepriame finančné náklady Iné (EUR) | AX7: E. Administratívne náklady (EUR) | AZ7: Priame finančné náklady A. Dane, odvody, clá a poplatky, ktorých cieľom je znižovať negatívne externality (EUR) | BB7: Priame finančné náklady B. Iné (EUR) | BD7: Nepriame finančné náklady C. Sankcie a pokuty (EUR) | BF7: D.Nepriame finančné náklady i (EUR) | BH7: E. Administratívne náklady (EUR) | BJ7: Koeficient pre "skoršia transpozícia" | BK7: Priame finančné náklady A. Dane, odvody, clá a poplatky, ktorých cieľom je znižovať negatívne externality (EUR) | BM7: Priame finančné náklady B. Iné (EUR) | BO7: Nepriame finančné náklady C. Sankcie a pokuty (EUR) | BQ7: D. Nepriame finančné náklady Iné (EUR) | BS7: E. Administratívne náklady (EUR) | BU7: Priame finančné náklady A. Dane, odvody, clá a poplatky, ktorých cieľom je znižovať negatívne externality (EUR) | BW7: Priame finančné náklady B. Iné (EUR) | BY7: Nepriame finančné náklady C. Sankcie a pokuty (EUR) | CA7: D.Nepriame finančné náklady i (EUR) | CC7: E. Administratívne náklady (EUR) | CE7: Vplyv na PP áno/nie pre nemení sa | CF7: Priame finančné náklady A. Dane, odvody, clá a poplatky, ktorých cieľom je znižovať negatívne externality (EUR) | CG7: Priame finančné náklady B. Iné (EUR) | CH7: Nepriame finančné náklady C. Sankcie a pokuty (EUR) | CI7: Nepriame finančné náklady D. Iné (EUR) | CJ7: E. Administratívne náklady (EUR) | CL7: Pôvod regulácie | CM7: Priame finančné náklady A. Dane, odvody, clá a poplatky, ktorých cieľom je znižovať negatívne externality (EUR) | CO7: Priame finančné náklady B. Iné (EUR) | CQ7: Nepriame finančné náklady C. Sankcie a pokuty (EUR) | CS7: D.Nepriame finančné náklady i (EUR) | CU7: E. Administratívne náklady (EUR) | CW7: EU IN (iba B+D+E pre výpočet 1in2out) | CX7: EU IN (iba A+C pre výpočet 1in2out) | CY7: Priame finančné náklady A. Dane, odvody, clá a poplatky, ktorých cieľom je znižovať negatívne externality (EUR) | DA7: Priame finančné náklady B. Iné (EUR) | DC7: Nepriame finančné náklady C. Sankcie a pokuty (EUR) | DE7: Nepriame finančné náklady i (EUR) D. Iné | DG7: E. Administratívne náklady (EUR) | DI7: EU OUT (iba B+D+E pre výpočet 1in2out) | DJ7: EU OUT (iba A+C pre výpočet 1in2out) | DK7: Vplyv na PP áno/ nie | DL7: Vplyv na 1 podnikateľa | DM7: Vplyv na kategóriu dotk. subjektov | DN7: Vpyv 1in2out IN | DO7: Vpyv 1in2out OUT | DP7: Vpyv 1in2out Celkom | DQ7: Goldplating áno/nie | DR7: Priame finančné náklady A. Dane, odvody, clá a poplatky, ktorých cieľom je znižovať negatívne externality (EUR) | DS7: Priame finančné náklady B. Iné (EUR) | DT7: Nepriame finančné náklady C. Sankcie a pokuty (EUR) | DU7: Nepriame finančné náklady D. Iné (EUR) | DV7: E. Administratívne náklady (EUR) | DW7: Goldplating IN | DX7: Priame finančné náklady A. Dane, odvody, clá a poplatky, ktorých cieľom je znižovať negatívne externality (EUR) | DY7: Priame finančné náklady B. Iné (EUR) | DZ7: Nepriame finančné náklady C. Sankcie a pokuty (EUR) | EA7: Nepriame finančné náklady D. Iné (EUR) | EB7: E. Administratívne náklady (EUR) | EC7: Goldplating OUT | ED7: Goldplating Celkom
M8: Prepočet v prípade "N" | O8: A.Dane, odvody, clá a poplatky, ktorých cieľom je znižovať negatívne externality (ročný vplyv na kategóriu dotkn. sub. v EUR) | P8: B. Iné poplatky (na 1 podnikateľa v EUR) | Q8: Frekvencia plnenia povinnosti | R8: Frekvencia plnenia povinnosti | S8: C. Sankcie a pokuty (ročný vplyv na kategóriu dotkn. sub. v EUR) | T8: D. Iné nepriame náklady (na 1 podnikateľa (EUR) | U8: Frekvencia plnenia povinnosti | V8: Frekvencia plnenia povinnosti | W8: Expertný odhad trvania povinností (min.) | X8: Typ povinnosti | Y8: Veľkosť povinnosti | Z8: Časová náročnosť (nevypĺňať!) | AA8: Elektronické splnenie | AB8: Penalizácia (nevypĺňať!) | AC8: Časový náklad (nevypĺňať!) | AD8: Frekvencia plnenia povinnosti | AE8: Frekvencia plnenia povinnosti (koeficient nevypĺňať!) | AF8: na 1 podnikateľa | AG8: na celé podnik. prostredie | AH8: na 1 podnikateľa | AI8: na celé podnik. prostredie | AJ8: na 1 podnikateľa | AK8: na celé podnik. prostredie | AL8: na 1 podnikateľa | AM8: na celé podnik. prostredie | AN8: na 1 podnikateľa | AO8: na celé podnik. prostredie | AP8: na 1 podnikateľa | AQ8: na celé podnik. prostredie | AR8: na 1 podnikateľa | AS8: na celé podnik. prostredie | AT8: na 1 podnikateľa | AU8: na celé podnik. prostredie | AV8: na 1 podnikateľa | AW8: na celé podnik. prostredie | AX8: na 1 podnikateľa | AY8: na celé podnik. prostredie | AZ8: na 1 podnikateľa | BA8: na celé podnik. prostredie | BB8: na 1 podnikateľa | BC8: na celé podnik. prostredie | BD8: na 1 podnikateľa | BE8: na celé podnik. prostredie | BF8: na 1 podnikateľa | BG8: na celé podnik. prostredie | BH8: na 1 podnikateľa | BI8: na celé podnik. prostredie | BK8: na 1 podnikateľa | BL8: na celé podnik. prostredie | BM8: na 1 podnikateľa | BN8: na celé podnik. prostredie | BO8: na 1 podnikateľa | BP8: na celé podnik. prostredie | BQ8: na 1 podnikateľa | BR8: na celé podnik. prostredie | BS8: na 1 podnikateľa | BT8: na celé podnik. prostredie | BU8: na 1 podnikateľa | BV8: na celé podnik. prostredie | BW8: na 1 podnikateľa | BX8: na celé podnik. prostredie | BY8: na 1 podnikateľa | BZ8: na celé podnik. prostredie | CA8: na 1 podnikateľa | CB8: na celé podnik. prostredie | CC8: na 1 podnikateľa | CD8: na celé podnik. prostredie | CF8: na celé podnik. prostredie | CG8: na celé podnik. prostredie | CH8: na celé podnik. prostredie | CI8: na celé podnik. prostredie | CJ8: na celé podnik. prostredie | CM8: na 1 podnikateľa | CN8: na celé podnik. prostredie | CO8: na 1 podnikateľa | CP8: na celé podnik. prostredie | CQ8: na 1 podnikateľa | CR8: na celé podnik. prostredie | CS8: na 1 podnikateľa | CT8: na celé podnik. prostredie | CU8: na 1 podnikateľa | CV8: na celé podnik. prostredie | CY8: na 1 podnikateľa | CZ8: na celé podnik. prostredie | DA8: na 1 podnikateľa | DB8: na celé podnik. prostredie | DE8: na 1 podnikateľa | DF8: na celé podnik. prostredie | DG8: na 1 podnikateľa | DH8: na celé podnik. prostredie | DR8: na celé podnik. prostredie | DS8: na celé podnik. prostredie | DT8: na celé podnik. prostredie | DU8: na celé podnik. prostredie | DV8: na celé podnik. prostredie | DX8: na celé podnik. prostredie | DY8: na celé podnik. prostredie | DZ8: na celé podnik. prostredie | EA8: na celé podnik. prostredie | EB8: na celé podnik. prostredie
B9: 1 | C9: stanovenie poplatku za udelenie predchádzajúceho súhlasu na nadobudnutie významného podielu bankou, finančnou holdingovou spoločnosťou alebo zmiešanou finančnou holdingovou spoločnosťou (špecifický symbol 1333) | D9: zákon č. 483/2001 Z. z. v znení zákona č. 30/2026 Z. z. | E9: § 28a ods. 1 | F9: 1.SK | G9: 46388 | H9: =IF($F9="3e) Skoršia transpozícia - zavedenie transpozície pred termínom ktorý určuje smernica EÚ. "," ","") | I9: =IF($F9="3e) Skoršia transpozícia - zavedenie transpozície pred termínom ktorý určuje smernica EÚ. ",$H9,"NA") -> NA | J9: =IF(I9="NA",1,I9/12) -> 1 | K9: banky, finančné holdingové spoločnosti a zmiešané finančné holdingové spoločnosti | L9: 1 | M9: =IF(L9="N",0,L9) -> 1 | N9: In (zvyšuje náklady) | P9: 1700 | Q9: jednorazovo | R9: =VLOOKUP(Q9,[1]vstupy!$B$3:$C$15,2,FALSE) -> 0.25 | U9: Vyberte frekvenciu | V9: =VLOOKUP(U9,[1]vstupy!$B$3:$C$15,2,FALSE) -> 0 | X9: Vyberte typ povinnosti | Y9: Vyberte veľkosť | Z9: =VLOOKUP($X9,vstupy!$B$18:$F$31,MATCH($Y9,vstupy!$B$17:$F$17,0),0) -> 0 | AA9: Vyber | AB9: =VLOOKUP($AA9,[1]vstupy!$B$34:$C$36,2,FALSE) -> 0 | AC9: =Z9+AB9 -> 0 | AD9: Vyberte frekvenciu | AE9: =VLOOKUP(AD9,vstupy!$B$3:$C$15,2,FALSE) -> 0 | AF9: =IFERROR(IF(M9=0,"N",O9/L9*J9),0) -> 0 | AG9: =O9*J9 -> 0 | AH9: =P9*R9*J9 -> 425 | AI9: =IFERROR(AH9*M9,0) -> 425 | AJ9: =IFERROR(IF(M9=0,"N",S9/L9*J9),0) -> 0 | AK9: =S9*J9 -> 0 | AL9: =T9*V9*J9 -> 0 | AM9: =IFERROR(AL9*M9,0) -> 0 | AN9: =IF(W9>0,IF(AE9>0,($G$5/160)*(W9/60)*AE9*J9,0),IF(AE9>0,($G$5/160)*((AC9+AC10+AC11)/60)*AE9*J9,0)) -> 0 | AO9: =IFERROR(AN9*M9,0) -> 0 | AP9: =IF($N9="In (zvyšuje náklady)",AF9,0) -> 0 | AQ9: =IF($N9="In (zvyšuje náklady)",AG9,0) -> 0 | AR9: =IF($N9="In (zvyšuje náklady)",AH9,0) -> 425 | AS9: =IF($N9="In (zvyšuje náklady)",AI9,0) -> 425 | AT9: =IF($N9="In (zvyšuje náklady)",AJ9,0) -> 0 | AU9: =IF($N9="In (zvyšuje náklady)",AK9,0) -> 0 | AV9: =IF($N9="In (zvyšuje náklady)",AL9,0) -> 0 | AW9: =IF($N9="In (zvyšuje náklady)",AM9,0) -> 0 | ... AY9: =IF($N9="In (zvyšuje náklady)",AO9,0) -> 0 | AZ9: =IF($N9="Out (znižuje náklady)",AF9,"0") -> 0 | BA9: =IF($N9="Out (znižuje náklady)",AG9,"0") -> 0 | BB9: =IF($N9="Out (znižuje náklady)",AH9,"0") -> 0 | BC9: =IF($N9="Out (znižuje náklady)",AI9,"0") -> 0 | BD9: =IF($N9="Out (znižuje náklady)",AJ9,"0") -> 0 | BE9: =IF($N9="Out (znižuje náklady)",AK9,"0") -> 0 | BF9: =IF($N9="Out (znižuje náklady)",AL9,"0") -> 0 | BG9: =IF($N9="Out (znižuje náklady)",AM9,"0") -> 0 | ... BI9: =IF($N9="Out (znižuje náklady)",AO9,"0") -> 0 | BJ9: =IF(F9=vstupy!$B$47,0,1) -> 1 | BK9: =$BJ9*AP9 -> 0 | BL9: =$BJ9*AQ9 -> 0 | BM9: =$BJ9*AR9 -> 425 | BN9: =$BJ9*AS9 -> 425 | BO9: =$BJ9*AT9 -> 0 | BP9: =$BJ9*AU9 -> 0 | BQ9: =$BJ9*AV9 -> 0 | BR9: =$BJ9*AW9 -> 0 | ... CD9: =$BJ9*BI9 -> 0 | CE9: =IF(N9="Nemení sa",1,0) -> 0 | CF9: =AG9*$CE9 -> 0 | CG9: =AI9*$CE9 -> 0 | CH9: =AK9*$CE9 -> 0 | CI9: =AM9*$CE9 -> 0 | CJ9: =AO9*$CE9 -> 0 | CK9: =SUM(CF9:CJ11) -> 0 | CL9: =IF(F9=vstupy!B$42,"1",0) -> 0 | CM9: =IF($CL9="1",AP9,0) -> 0 | CN9: =IF($CL9="1",AQ9,0) -> 0 | CO9: =IF($CL9="1",AR9,0) -> 0 | CP9: =IF($CL9="1",AS9,0) -> 0 | CQ9: =IF($CL9="1",AT9,0) -> 0 | CR9: =IF($CL9="1",AU9,0) -> 0 | CS9: =IF($CL9="1",AV9,0) -> 0 | CT9: =IF($CL9="1",AW9,0) -> 0 | ... CV9: =IF($CL9="1",AY9,0) -> 0 | CW9: =CP9+CT9+CV9 -> 0 | CX9: =CN9+CR9 -> 0 | CY9: =IF($CL9="1",AZ9,0) -> 0 | CZ9: =IF($CL9="1",BA9,0) -> 0 | DA9: =IF($CL9="1",BB9,0) -> 0 | DB9: =IF($CL9="1",BC9,0) -> 0 | DC9: =IF($CL9="1",BD9,0) -> 0 | DD9: =IF($CL9="1",BE9,0) -> 0 | DE9: =IF($CL9="1",BF9,0) -> 0 | DF9: =IF($CL9="1",BG9,0) -> 0 | ... DH9: =IF($CL9="1",BI9,0) -> 0 | DI9: =DB9+DF9+DH9 -> 0 | DJ9: =CZ9+DD9 -> 0 | DK9: =IF(CE9=0,1,0) -> 1 | DL9: =IFERROR(IF($AF9="N",AH9+AJ9+AL9+AN9,AF9+AH9+AJ9+AL9+AN9),0)*$DK9 -> 425 | DM9: =(AG9+AI9+AK9+AM9+AO9)*$DK9 -> 425 | DN9: =AS9+AW9+AY9-CW9 -> 425 | DO9: =BC9+BG9+BI9-DI9 -> 0 | DP9: =DN9+DO9 -> 425 | DQ9: =IF(OR(F9=vstupy!B$40,F9=vstupy!B$41,F9=vstupy!B$42,),"0","1") -> 0 | DR9: =IF($DQ9="1",AQ9,"0")+CF9 -> 0 | DS9: =IF($DQ9="1",AS9,"0")+CG9 -> 0 | DT9: =IF($DQ9="1",AU9,"0")+CH9 -> 0 | DU9: =IF($DQ9="1",AW9,"0")+CI9 -> 0 | DV9: =IF($DQ9="1",AY9,"0")+CJ9 -> 0 | DW9: =SUM(DR9:DV11) -> 0 | DX9: =IF($DQ9="1",BA9,"0") -> 0 | DY9: =IF($DQ9="1",BC9,"0") -> 0 | DZ9: =IF($DQ9="1",BE9,"0") -> 0 | EA9: =IF($DQ9="1",BG9,"0") -> 0 | EB9: =IF($DQ9="1",BI9,"0") -> 0 | EC9: =SUM(DX9:EB11) -> 0 | ED9: =EC9+DW9 -> 0
X10: Vyberte typ povinnosti | Y10: Vyberte veľkosť | Z10: =VLOOKUP($X10,vstupy!$B$18:$F$31,MATCH($Y10,vstupy!$B$17:$F$17,0),0) -> 0 | AA10: Vyber | AB10: =VLOOKUP($AA10,[1]vstupy!$B$34:$C$36,2,FALSE) -> 0 | AC10: =Z10+AB10 -> 0
X11: Vyberte typ povinnosti | Y11: Vyberte veľkosť | Z11: =VLOOKUP($X11,vstupy!$B$18:$F$31,MATCH($Y11,vstupy!$B$17:$F$17,0),0) -> 0 | AA11: Vyber | AB11: =VLOOKUP($AA11,[1]vstupy!$B$34:$C$36,2,FALSE) -> 0 | AC11: =Z11+AB11 -> 0
B12: 2 | C12: stanovenie poplatku za udelenie predchádzajúceho súhlasu na zlúčenie alebo splynutie banky, finančnej holdingovej spoločnosti alebo zmiešanej finančnej holdingovej spoločnosti alebo na rozdelenie banky, finančnej holdingovej spoločnosti alebo zmiešanej finančnej holdingovej spoločnosti (špecifický symbol 1334) | D12: zákon č. 483/2001 Z. z. v znení zákona č. 30/2026 Z. z. | E12: § 28g | F12: 1.SK | G12: 46388 | I12: =IF($F12="3e) Skoršia transpozícia - zavedenie transpozície pred termínom ktorý určuje smernica EÚ. ",$H12,"NA") -> NA | J12: =IF(I12="NA",1,I12/12) -> 1 | K12: banky, finančné holdingové spoločnosti a zmiešané finančné holdingové spoločnosti | L12: 0 | M12: =IF(L12="N",0,L12) -> 0 | N12: In (zvyšuje náklady) | P12: 1700 | Q12: jednorazovo | R12: =VLOOKUP(Q12,[1]vstupy!$B$3:$C$15,2,FALSE) -> 0.25 | U12: Vyberte frekvenciu | V12: =VLOOKUP(U12,[1]vstupy!$B$3:$C$15,2,FALSE) -> 0 | X12: Vyberte typ povinnosti | Y12: Vyberte veľkosť | Z12: =VLOOKUP($X12,vstupy!$B$18:$F$31,MATCH($Y12,vstupy!$B$17:$F$17,0),0) -> 0 | AA12: Vyber | AB12: =VLOOKUP($AA12,[1]vstupy!$B$34:$C$36,2,FALSE) -> 0 | AC12: =Z12+AB12 -> 0 | AD12: Vyberte frekvenciu | AE12: =VLOOKUP(AD12,vstupy!$B$3:$C$15,2,FALSE) -> 0 | AF12: =IFERROR(IF(M12=0,"N",O12/L12*J12),0) -> N | AG12: =O12*J12 -> 0 | AH12: =P12*R12*J12 -> 425 | AI12: =IFERROR(AH12*M12,0) -> 0 | AJ12: =IFERROR(IF(M12=0,"N",S12/L12*J12),0) -> N | AK12: =S12*J12 -> 0 | AL12: =T12*V12*J12 -> 0 | AM12: =IFERROR(AL12*M12,0) -> 0 | AN12: =IF(W12>0,IF(AE12>0,($G$5/160)*(W12/60)*AE12*J12,0),IF(AE12>0,($G$5/160)*((AC12+AC13+AC14)/60)*AE12*J12,0)) -> 0 | AO12: =IFERROR(AN12*M12,0) -> 0 | AP12: =IF($N12="In (zvyšuje náklady)",AF12,0) -> N | AQ12: =IF($N12="In (zvyšuje náklady)",AG12,0) -> 0 | AR12: =IF($N12="In (zvyšuje náklady)",AH12,0) -> 425 | AS12: =IF($N12="In (zvyšuje náklady)",AI12,0) -> 0 | AT12: =IF($N12="In (zvyšuje náklady)",AJ12,0) -> N | AU12: =IF($N12="In (zvyšuje náklady)",AK12,0) -> 0 | AV12: =IF($N12="In (zvyšuje náklady)",AL12,0) -> 0 | AW12: =IF($N12="In (zvyšuje náklady)",AM12,0) -> 0 | ... AY12: =IF($N12="In (zvyšuje náklady)",AO12,0) -> 0 | AZ12: =IF($N12="Out (znižuje náklady)",AF12,"0") -> 0 | BA12: =IF($N12="Out (znižuje náklady)",AG12,"0") -> 0 | BB12: =IF($N12="Out (znižuje náklady)",AH12,"0") -> 0 | BC12: =IF($N12="Out (znižuje náklady)",AI12,"0") -> 0 | BD12: =IF($N12="Out (znižuje náklady)",AJ12,"0") -> 0 | BE12: =IF($N12="Out (znižuje náklady)",AK12,"0") -> 0 | BF12: =IF($N12="Out (znižuje náklady)",AL12,"0") -> 0 | BG12: =IF($N12="Out (znižuje náklady)",AM12,"0") -> 0 | ... BI12: =IF($N12="Out (znižuje náklady)",AO12,"0") -> 0 | BJ12: =IF(F12=vstupy!$B$47,0,1) -> 1 | BK12: =$BJ12*AP12 -> #VALUE! | BL12: =$BJ12*AQ12 -> 0 | BM12: =$BJ12*AR12 -> 425 | BN12: =$BJ12*AS12 -> 0 | BO12: =$BJ12*AT12 -> #VALUE! | BP12: =$BJ12*AU12 -> 0 | BQ12: =$BJ12*AV12 -> 0 | BR12: =$BJ12*AW12 -> 0 | ... CD12: =$BJ12*BI12 -> 0 | CE12: =IF(N12="Nemení sa",1,0) -> 0 | CF12: =AG12*$CE12 -> 0 | CG12: =AI12*$CE12 -> 0 | CH12: =AK12*$CE12 -> 0 | CI12: =AM12*$CE12 -> 0 | CJ12: =AO12*$CE12 -> 0 | CK12: =SUM(CF12:CJ14) -> 0 | CL12: =IF(F12=vstupy!B$42,"1",0) -> 0 | CM12: =IF($CL12="1",AP12,0) -> 0 | CN12: =IF($CL12="1",AQ12,0) -> 0 | CO12: =IF($CL12="1",AR12,0) -> 0 | CP12: =IF($CL12="1",AS12,0) -> 0 | CQ12: =IF($CL12="1",AT12,0) -> 0 | CR12: =IF($CL12="1",AU12,0) -> 0 | CS12: =IF($CL12="1",AV12,0) -> 0 | CT12: =IF($CL12="1",AW12,0) -> 0 | ... CV12: =IF($CL12="1",AY12,0) -> 0 | CW12: =CP12+CT12+CV12 -> 0 | CX12: =CN12+CR12 -> 0 | CY12: =IF($CL12="1",AZ12,0) -> 0 | CZ12: =IF($CL12="1",BA12,0) -> 0 | DA12: =IF($CL12="1",BB12,0) -> 0 | DB12: =IF($CL12="1",BC12,0) -> 0 | DC12: =IF($CL12="1",BD12,0) -> 0 | DD12: =IF($CL12="1",BE12,0) -> 0 | DE12: =IF($CL12="1",BF12,0) -> 0 | DF12: =IF($CL12="1",BG12,0) -> 0 | ... DH12: =IF($CL12="1",BI12,0) -> 0 | DI12: =DB12+DF12+DH12 -> 0 | DJ12: =CZ12+DD12 -> 0 | DK12: =IF(CE12=0,1,0) -> 1 | DL12: =IFERROR(IF($AF12="N",AH12+AJ12+AL12+AN12,AF12+AH12+AJ12+AL12+AN12),0)*$DK12 -> 0 | DM12: =(AG12+AI12+AK12+AM12+AO12)*$DK12 -> 0 | DN12: =AS12+AW12+AY12-CW12 -> 0 | DO12: =BC12+BG12+BI12-DI12 -> 0 | DP12: =DN12+DO12 -> 0 | DQ12: =IF(OR(F12=vstupy!B$40,F12=vstupy!B$41,F12=vstupy!B$42,),"0","1") -> 0 | DR12: =IF($DQ12="1",AQ12,"0")+CF12 -> 0 | DS12: =IF($DQ12="1",AS12,"0")+CG12 -> 0 | DT12: =IF($DQ12="1",AU12,"0")+CH12 -> 0 | DU12: =IF($DQ12="1",AW12,"0")+CI12 -> 0 | DV12: =IF($DQ12="1",AY12,"0")+CJ12 -> 0 | DW12: =SUM(DR12:DV14) -> 0 | DX12: =IF($DQ12="1",BA12,"0") -> 0 | DY12: =IF($DQ12="1",BC12,"0") -> 0 | DZ12: =IF($DQ12="1",BE12,"0") -> 0 | EA12: =IF($DQ12="1",BG12,"0") -> 0 | EB12: =IF($DQ12="1",BI12,"0") -> 0 | EC12: =SUM(DX12:EB14) -> 0 | ED12: =EC12+DW12 -> 0
X13: Vyberte typ povinnosti | Y13: Vyberte veľkosť | Z13: =VLOOKUP($X13,vstupy!$B$18:$F$31,MATCH($Y13,vstupy!$B$17:$F$17,0),0) -> 0 | AA13: Vyber | AB13: =VLOOKUP($AA13,[1]vstupy!$B$34:$C$36,2,FALSE) -> 0 | AC13: =Z13+AB13 -> 0
X14: Vyberte typ povinnosti | Y14: Vyberte veľkosť | Z14: =VLOOKUP($X14,vstupy!$B$18:$F$31,MATCH($Y14,vstupy!$B$17:$F$17,0),0) -> 0 | AA14: Vyber | AB14: =VLOOKUP($AA14,[1]vstupy!$B$34:$C$36,2,FALSE) -> 0 | AC14: =Z14+AB14 -> 0
B15: 3 | C15: zvýšenie poplatku za udelenie predchádzajúceho súhlasu na zmenu člena alebo zvolenie nového člena štatutárneho orgánu (špecifický symbol 1316) | D15: zákon č. 483/2001 Z. z. v znení neskorších predpisov | E15: § 9 ods. 4 | F15: 1.SK | G15: 46388 | I15: =IF($F15="3e) Skoršia transpozícia - zavedenie transpozície pred termínom ktorý určuje smernica EÚ. ",$H15,"NA") -> NA | J15: =IF(I15="NA",1,I15/12) -> 1 | K15: banky | L15: 15 | M15: =IF(L15="N",0,L15) -> 15 | N15: In (zvyšuje náklady) | P15: 110 | Q15: jednorazovo | R15: =VLOOKUP(Q15,[1]vstupy!$B$3:$C$15,2,FALSE) -> 0.25 | U15: Vyberte frekvenciu | V15: =VLOOKUP(U15,[1]vstupy!$B$3:$C$15,2,FALSE) -> 0 | X15: Vyberte typ povinnosti | Y15: Vyberte veľkosť | Z15: =VLOOKUP($X15,vstupy!$B$18:$F$31,MATCH($Y15,vstupy!$B$17:$F$17,0),0) -> 0 | AA15: Vyber | AB15: =VLOOKUP($AA15,[1]vstupy!$B$34:$C$36,2,FALSE) -> 0 | AC15: =Z15+AB15 -> 0 | AD15: Vyberte frekvenciu | AE15: =VLOOKUP(AD15,vstupy!$B$3:$C$15,2,FALSE) -> 0 | AF15: =IFERROR(IF(M15=0,"N",O15/L15*J15),0) -> 0 | AG15: =O15*J15 -> 0 | AH15: =P15*R15*J15 -> 27.5 | AI15: =IFERROR(AH15*M15,0) -> 412.5 | AJ15: =IFERROR(IF(M15=0,"N",S15/L15*J15),0) -> 0 | AK15: =S15*J15 -> 0 | AL15: =T15*V15*J15 -> 0 | AM15: =IFERROR(AL15*M15,0) -> 0 | AN15: =IF(W15>0,IF(AE15>0,($G$5/160)*(W15/60)*AE15*J15,0),IF(AE15>0,($G$5/160)*((AC15+AC16+AC17)/60)*AE15*J15,0)) -> 0 | AO15: =IFERROR(AN15*M15,0) -> 0 | AP15: =IF($N15="In (zvyšuje náklady)",AF15,0) -> 0 | AQ15: =IF($N15="In (zvyšuje náklady)",AG15,0) -> 0 | AR15: =IF($N15="In (zvyšuje náklady)",AH15,0) -> 27.5 | AS15: =IF($N15="In (zvyšuje náklady)",AI15,0) -> 412.5 | AT15: =IF($N15="In (zvyšuje náklady)",AJ15,0) -> 0 | AU15: =IF($N15="In (zvyšuje náklady)",AK15,0) -> 0 | AV15: =IF($N15="In (zvyšuje náklady)",AL15,0) -> 0 | AW15: =IF($N15="In (zvyšuje náklady)",AM15,0) -> 0 | ... AY15: =IF($N15="In (zvyšuje náklady)",AO15,0) -> 0 | AZ15: =IF($N15="Out (znižuje náklady)",AF15,"0") -> 0 | BA15: =IF($N15="Out (znižuje náklady)",AG15,"0") -> 0 | BB15: =IF($N15="Out (znižuje náklady)",AH15,"0") -> 0 | BC15: =IF($N15="Out (znižuje náklady)",AI15,"0") -> 0 | BD15: =IF($N15="Out (znižuje náklady)",AJ15,"0") -> 0 | BE15: =IF($N15="Out (znižuje náklady)",AK15,"0") -> 0 | BF15: =IF($N15="Out (znižuje náklady)",AL15,"0") -> 0 | BG15: =IF($N15="Out (znižuje náklady)",AM15,"0") -> 0 | ... BI15: =IF($N15="Out (znižuje náklady)",AO15,"0") -> 0 | BJ15: =IF(F15=vstupy!$B$47,0,1) -> 1 | BK15: =$BJ15*AP15 -> 0 | BL15: =$BJ15*AQ15 -> 0 | BM15: =$BJ15*AR15 -> 27.5 | BN15: =$BJ15*AS15 -> 412.5 | BO15: =$BJ15*AT15 -> 0 | BP15: =$BJ15*AU15 -> 0 | BQ15: =$BJ15*AV15 -> 0 | BR15: =$BJ15*AW15 -> 0 | ... CD15: =$BJ15*BI15 -> 0 | CE15: =IF(N15="Nemení sa",1,0) -> 0 | CF15: =AG15*$CE15 -> 0 | CG15: =AI15*$CE15 -> 0 | CH15: =AK15*$CE15 -> 0 | CI15: =AM15*$CE15 -> 0 | CJ15: =AO15*$CE15 -> 0 | CK15: =SUM(CF15:CJ17) -> 0 | CL15: =IF(F15=vstupy!B$42,"1",0) -> 0 | CM15: =IF($CL15="1",AP15,0) -> 0 | CN15: =IF($CL15="1",AQ15,0) -> 0 | CO15: =IF($CL15="1",AR15,0) -> 0 | CP15: =IF($CL15="1",AS15,0) -> 0 | CQ15: =IF($CL15="1",AT15,0) -> 0 | CR15: =IF($CL15="1",AU15,0) -> 0 | CS15: =IF($CL15="1",AV15,0) -> 0 | CT15: =IF($CL15="1",AW15,0) -> 0 | ... CV15: =IF($CL15="1",AY15,0) -> 0 | CW15: =CP15+CT15+CV15 -> 0 | CX15: =CN15+CR15 -> 0 | CY15: =IF($CL15="1",AZ15,0) -> 0 | CZ15: =IF($CL15="1",BA15,0) -> 0 | DA15: =IF($CL15="1",BB15,0) -> 0 | DB15: =IF($CL15="1",BC15,0) -> 0 | DC15: =IF($CL15="1",BD15,0) -> 0 | DD15: =IF($CL15="1",BE15,0) -> 0 | DE15: =IF($CL15="1",BF15,0) -> 0 | DF15: =IF($CL15="1",BG15,0) -> 0 | ... DH15: =IF($CL15="1",BI15,0) -> 0 | DI15: =DB15+DF15+DH15 -> 0 | DJ15: =CZ15+DD15 -> 0 | DK15: =IF(CE15=0,1,0) -> 1 | DL15: =IFERROR(IF($AF15="N",AH15+AJ15+AL15+AN15,AF15+AH15+AJ15+AL15+AN15),0)*$DK15 -> 27.5 | DM15: =(AG15+AI15+AK15+AM15+AO15)*$DK15 -> 412.5 | DN15: =AS15+AW15+AY15-CW15 -> 412.5 | DO15: =BC15+BG15+BI15-DI15 -> 0 | DP15: =DN15+DO15 -> 412.5 | DQ15: =IF(OR(F15=vstupy!B$40,F15=vstupy!B$41,F15=vstupy!B$42,),"0","1") -> 0 | DR15: =IF($DQ15="1",AQ15,"0")+CF15 -> 0 | DS15: =IF($DQ15="1",AS15,"0")+CG15 -> 0 | DT15: =IF($DQ15="1",AU15,"0")+CH15 -> 0 | DU15: =IF($DQ15="1",AW15,"0")+CI15 -> 0 | DV15: =IF($DQ15="1",AY15,"0")+CJ15 -> 0 | DW15: =SUM(DR15:DV17) -> 0 | DX15: =IF($DQ15="1",BA15,"0") -> 0 | DY15: =IF($DQ15="1",BC15,"0") -> 0 | DZ15: =IF($DQ15="1",BE15,"0") -> 0 | EA15: =IF($DQ15="1",BG15,"0") -> 0 | EB15: =IF($DQ15="1",BI15,"0") -> 0 | EC15: =SUM(DX15:EB17) -> 0 | ED15: =EC15+DW15 -> 0
X16: Vyberte typ povinnosti | Y16: Vyberte veľkosť | Z16: =VLOOKUP($X16,vstupy!$B$18:$F$31,MATCH($Y16,vstupy!$B$17:$F$17,0),0) -> 0 | AA16: Vyber | AB16: =VLOOKUP($AA16,[1]vstupy!$B$34:$C$36,2,FALSE) -> 0 | AC16: =Z16+AB16 -> 0
X17: Vyberte typ povinnosti | Y17: Vyberte veľkosť | Z17: =VLOOKUP($X17,vstupy!$B$18:$F$31,MATCH($Y17,vstupy!$B$17:$F$17,0),0) -> 0 | AA17: Vyber | AB17: =VLOOKUP($AA17,[1]vstupy!$B$34:$C$36,2,FALSE) -> 0 | AC17: =Z17+AB17 -> 0
B18: 4 | C18: zvýšenie poplatku za predchádzajúci súhlas na zmenu člena alebo zvolenie nového člena dozornej rady (špecifický symbol 1317) | D18: zákon č. 483/2001 Z. z. v znení neskorších predpisov | E18: § 9 ods. 4 | F18: 1.SK | G18: 46388 | H18: =IF($F18="3e) Skoršia transpozícia - zavedenie transpozície pred termínom ktorý určuje smernica EÚ. "," ","") | I18: =IF($F18="3e) Skoršia transpozícia - zavedenie transpozície pred termínom ktorý určuje smernica EÚ. ",$H18,"NA") -> NA | J18: =IF(I18>12,1,I18/12) -> 1 | K18: banky | L18: 20 | M18: =IF(L18="N",0,L18) -> 20 | N18: In (zvyšuje náklady) | P18: 110 | Q18: jednorazovo | R18: =VLOOKUP(Q18,[1]vstupy!$B$3:$C$15,2,FALSE) -> 0.25 | U18: Vyberte frekvenciu | V18: =VLOOKUP(U18,[1]vstupy!$B$3:$C$15,2,FALSE) -> 0 | X18: Vyberte typ povinnosti | Y18: Vyberte veľkosť | Z18: =VLOOKUP($X18,vstupy!$B$18:$F$31,MATCH($Y18,vstupy!$B$17:$F$17,0),0) -> 0 | AA18: Vyber | AB18: =VLOOKUP($AA18,[1]vstupy!$B$34:$C$36,2,FALSE) -> 0 | AC18: =Z18+AB18 -> 0 | AD18: Vyberte frekvenciu | AE18: =VLOOKUP(AD18,vstupy!$B$3:$C$15,2,FALSE) -> 0 | AF18: =IFERROR(IF(M18=0,"N",O18/L18*J18),0) -> 0 | AG18: =O18*J18 -> 0 | AH18: =P18*R18*J18 -> 27.5 | AI18: =IFERROR(AH18*M18,0) -> 550 | AJ18: =IFERROR(IF(M18=0,"N",S18/L18*J18),0) -> 0 | AK18: =S18*J18 -> 0 | AL18: =T18*V18*J18 -> 0 | AM18: =IFERROR(AL18*M18,0) -> 0 | AN18: =IF(W18>0,IF(AE18>0,($G$5/160)*(W18/60)*AE18*J18,0),IF(AE18>0,($G$5/160)*((AC18+AC19+AC20)/60)*AE18*J18,0)) -> 0 | AO18: =IFERROR(AN18*M18,0) -> 0 | AP18: =IF($N18="In (zvyšuje náklady)",AF18,0) -> 0 | AQ18: =IF($N18="In (zvyšuje náklady)",AG18,0) -> 0 | AR18: =IF($N18="In (zvyšuje náklady)",AH18,0) -> 27.5 | AS18: =IF($N18="In (zvyšuje náklady)",AI18,0) -> 550 | AT18: =IF($N18="In (zvyšuje náklady)",AJ18,0) -> 0 | AU18: =IF($N18="In (zvyšuje náklady)",AK18,0) -> 0 | AV18: =IF($N18="In (zvyšuje náklady)",AL18,0) -> 0 | AW18: =IF($N18="In (zvyšuje náklady)",AM18,0) -> 0 | ... AY18: =IF($N18="In (zvyšuje náklady)",AO18,0) -> 0 | AZ18: =IF($N18="Out (znižuje náklady)",AF18,"0") -> 0 | BA18: =IF($N18="Out (znižuje náklady)",AG18,"0") -> 0 | BB18: =IF($N18="Out (znižuje náklady)",AH18,"0") -> 0 | BC18: =IF($N18="Out (znižuje náklady)",AI18,"0") -> 0 | BD18: =IF($N18="Out (znižuje náklady)",AJ18,"0") -> 0 | BE18: =IF($N18="Out (znižuje náklady)",AK18,"0") -> 0 | BF18: =IF($N18="Out (znižuje náklady)",AL18,"0") -> 0 | BG18: =IF($N18="Out (znižuje náklady)",AM18,"0") -> 0 | ... BI18: =IF($N18="Out (znižuje náklady)",AO18,"0") -> 0 | BJ18: =IF(F18=vstupy!$B$47,0,1) -> 1 | BK18: =$BJ18*AP18 -> 0 | BL18: =$BJ18*AQ18 -> 0 | BM18: =$BJ18*AR18 -> 27.5 | BN18: =$BJ18*AS18 -> 550 | BO18: =$BJ18*AT18 -> 0 | BP18: =$BJ18*AU18 -> 0 | BQ18: =$BJ18*AV18 -> 0 | BR18: =$BJ18*AW18 -> 0 | ... CD18: =$BJ18*BI18 -> 0 | CE18: =IF(N18="Nemení sa",1,0) -> 0 | CF18: =AG18*$CE18 -> 0 | CG18: =AI18*$CE18 -> 0 | CH18: =AK18*$CE18 -> 0 | CI18: =AM18*$CE18 -> 0 | CJ18: =AO18*$CE18 -> 0 | CK18: =SUM(CF18:CJ20) -> 0 | CL18: =IF(F18=vstupy!B$42,"1",0) -> 0 | CM18: =IF($CL18="1",AP18,0) -> 0 | CN18: =IF($CL18="1",AQ18,0) -> 0 | CO18: =IF($CL18="1",AR18,0) -> 0 | CP18: =IF($CL18="1",AS18,0) -> 0 | CQ18: =IF($CL18="1",AT18,0) -> 0 | CR18: =IF($CL18="1",AU18,0) -> 0 | CS18: =IF($CL18="1",AV18,0) -> 0 | CT18: =IF($CL18="1",AW18,0) -> 0 | ... CV18: =IF($CL18="1",AY18,0) -> 0 | CW18: =CP18+CT18+CV18 -> 0 | CX18: =CN18+CR18 -> 0 | CY18: =IF($CL18="1",AZ18,0) -> 0 | CZ18: =IF($CL18="1",BA18,0) -> 0 | DA18: =IF($CL18="1",BB18,0) -> 0 | DB18: =IF($CL18="1",BC18,0) -> 0 | DC18: =IF($CL18="1",BD18,0) -> 0 | DD18: =IF($CL18="1",BE18,0) -> 0 | DE18: =IF($CL18="1",BF18,0) -> 0 | DF18: =IF($CL18="1",BG18,0) -> 0 | ... DH18: =IF($CL18="1",BI18,0) -> 0 | DI18: =DB18+DF18+DH18 -> 0 | DJ18: =CZ18+DD18 -> 0 | DK18: =IF(CE18=0,1,0) -> 1 | DL18: =IFERROR(IF($AF18="N",AH18+AJ18+AL18+AN18,AF18+AH18+AJ18+AL18+AN18),0)*$DK18 -> 27.5 | DM18: =(AG18+AI18+AK18+AM18+AO18)*$DK18 -> 550 | DN18: =AS18+AW18+AY18-CW18 -> 550 | DO18: =BC18+BG18+BI18-DI18 -> 0 | DP18: =DN18+DO18 -> 550 | DQ18: =IF(OR(F18=vstupy!B$40,F18=vstupy!B$41,F18=vstupy!B$42,),"0","1") -> 0 | DR18: =IF($DQ18="1",AQ18,"0")+CF18 -> 0 | DS18: =IF($DQ18="1",AS18,"0")+CG18 -> 0 | DT18: =IF($DQ18="1",AU18,"0")+CH18 -> 0 | DU18: =IF($DQ18="1",AW18,"0")+CI18 -> 0 | DV18: =IF($DQ18="1",AY18,"0")+CJ18 -> 0 | DW18: =SUM(DR18:DV20) -> 0 | DX18: =IF($DQ18="1",BA18,"0") -> 0 | DY18: =IF($DQ18="1",BC18,"0") -> 0 | DZ18: =IF($DQ18="1",BE18,"0") -> 0 | EA18: =IF($DQ18="1",BG18,"0") -> 0 | EB18: =IF($DQ18="1",BI18,"0") -> 0 | EC18: =SUM(DX18:EB20) -> 0 | ED18: =EC18+DW18 -> 0
X19: Vyberte typ povinnosti | Y19: Vyberte veľkosť | Z19: =VLOOKUP($X19,vstupy!$B$18:$F$31,MATCH($Y19,vstupy!$B$17:$F$17,0),0) -> 0 | AA19: Vyber | AB19: =VLOOKUP($AA19,[1]vstupy!$B$34:$C$36,2,FALSE) -> 0 | AC19: =Z19+AB19 -> 0
X20: Vyberte typ povinnosti | Y20: Vyberte veľkosť | Z20: =VLOOKUP($X20,vstupy!$B$18:$F$31,MATCH($Y20,vstupy!$B$17:$F$17,0),0) -> 0 | AA20: Vyber | AB20: =VLOOKUP($AA20,[1]vstupy!$B$34:$C$36,2,FALSE) -> 0 | AC20: =Z20+AB20 -> 0
B21: 5 | C21: stanovenie poplatku za udelenie predchádzajúceho súhlasu na ustanovenie osoby zastávajúcej kľúčovú funkciu podľa § 5 písm. an) zákona o bankách (špecifický symbol 1335) | D21: zákon č. 483/2001 Z. z. v znení neskorších predpisov | E21: § 9 ods. 4 a 5 | F21: 1.SK | G21: 46388 | H21: =IF($F21="3e) Skoršia transpozícia - zavedenie transpozície pred termínom ktorý určuje smernica EÚ. "," ","") | I21: =IF($F21="3e) Skoršia transpozícia - zavedenie transpozície pred termínom ktorý určuje smernica EÚ. ",$H21,"NA") -> NA | J21: =IF(I21>12,1,I21/12) -> 1 | K21: banky, pobočky zahraničných bánk so sídlom mimo územia členského štátu | L21: 20 | M21: =IF(L21="N",0,L21) -> 20 | N21: In (zvyšuje náklady) | P21: 110 | Q21: jednorazovo | R21: =VLOOKUP(Q21,[1]vstupy!$B$3:$C$15,2,FALSE) -> 0.25 | U21: Vyberte frekvenciu | V21: =VLOOKUP(U21,[1]vstupy!$B$3:$C$15,2,FALSE) -> 0 | X21: Vyberte typ povinnosti | Y21: Vyberte veľkosť | Z21: =VLOOKUP($X21,vstupy!$B$18:$F$31,MATCH($Y21,vstupy!$B$17:$F$17,0),0) -> 0 | AA21: Vyber | AB21: =VLOOKUP($AA21,[1]vstupy!$B$34:$C$36,2,FALSE) -> 0 | AC21: =Z21+AB21 -> 0 | AD21: Vyberte frekvenciu | AE21: =VLOOKUP(AD21,vstupy!$B$3:$C$15,2,FALSE) -> 0 | AF21: =IFERROR(IF(M21=0,"N",O21/L21*J21),0) -> 0 | AG21: =O21*J21 -> 0 | AH21: =P21*R21*J21 -> 27.5 | AI21: =IFERROR(AH21*M21,0) -> 550 | AJ21: =IFERROR(IF(M21=0,"N",S21/L21*J21),0) -> 0 | AK21: =S21*J21 -> 0 | AL21: =T21*V21*J21 -> 0 | AM21: =IFERROR(AL21*M21,0) -> 0 | AN21: =IF(W21>0,IF(AE21>0,($G$5/160)*(W21/60)*AE21*J21,0),IF(AE21>0,($G$5/160)*((AC21+AC22+AC23)/60)*AE21*J21,0)) -> 0 | AO21: =IFERROR(AN21*M21,0) -> 0 | AP21: =IF($N21="In (zvyšuje náklady)",AF21,0) -> 0 | AQ21: =IF($N21="In (zvyšuje náklady)",AG21,0) -> 0 | AR21: =IF($N21="In (zvyšuje náklady)",AH21,0) -> 27.5 | AS21: =IF($N21="In (zvyšuje náklady)",AI21,0) -> 550 | AT21: =IF($N21="In (zvyšuje náklady)",AJ21,0) -> 0 | AU21: =IF($N21="In (zvyšuje náklady)",AK21,0) -> 0 | AV21: =IF($N21="In (zvyšuje náklady)",AL21,0) -> 0 | AW21: =IF($N21="In (zvyšuje náklady)",AM21,0) -> 0 | ... AY21: =IF($N21="In (zvyšuje náklady)",AO21,0) -> 0 | AZ21: =IF($N21="Out (znižuje náklady)",AF21,"0") -> 0 | BA21: =IF($N21="Out (znižuje náklady)",AG21,"0") -> 0 | BB21: =IF($N21="Out (znižuje náklady)",AH21,"0") -> 0 | BC21: =IF($N21="Out (znižuje náklady)",AI21,"0") -> 0 | BD21: =IF($N21="Out (znižuje náklady)",AJ21,"0") -> 0 | BE21: =IF($N21="Out (znižuje náklady)",AK21,"0") -> 0 | BF21: =IF($N21="Out (znižuje náklady)",AL21,"0") -> 0 | BG21: =IF($N21="Out (znižuje náklady)",AM21,"0") -> 0 | ... BI21: =IF($N21="Out (znižuje náklady)",AO21,"0") -> 0 | BJ21: =IF(F21=vstupy!$B$47,0,1) -> 1 | BK21: =$BJ21*AP21 -> 0 | BL21: =$BJ21*AQ21 -> 0 | BM21: =$BJ21*AR21 -> 27.5 | BN21: =$BJ21*AS21 -> 550 | BO21: =$BJ21*AT21 -> 0 | BP21: =$BJ21*AU21 -> 0 | BQ21: =$BJ21*AV21 -> 0 | BR21: =$BJ21*AW21 -> 0 | ... CD21: =$BJ21*BI21 -> 0 | CE21: =IF(N21="Nemení sa",1,0) -> 0 | CF21: =AG21*$CE21 -> 0 | CG21: =AI21*$CE21 -> 0 | CH21: =AK21*$CE21 -> 0 | CI21: =AM21*$CE21 -> 0 | CJ21: =AO21*$CE21 -> 0 | CK21: =SUM(CF21:CJ23) -> 0 | CL21: =IF(F21=vstupy!B$42,"1",0) -> 0 | CM21: =IF($CL21="1",AP21,0) -> 0 | CN21: =IF($CL21="1",AQ21,0) -> 0 | CO21: =IF($CL21="1",AR21,0) -> 0 | CP21: =IF($CL21="1",AS21,0) -> 0 | CQ21: =IF($CL21="1",AT21,0) -> 0 | CR21: =IF($CL21="1",AU21,0) -> 0 | CS21: =IF($CL21="1",AV21,0) -> 0 | CT21: =IF($CL21="1",AW21,0) -> 0 | ... CV21: =IF($CL21="1",AY21,0) -> 0 | CW21: =CP21+CT21+CV21 -> 0 | CX21: =CN21+CR21 -> 0 | CY21: =IF($CL21="1",AZ21,0) -> 0 | CZ21: =IF($CL21="1",BA21,0) -> 0 | DA21: =IF($CL21="1",BB21,0) -> 0 | DB21: =IF($CL21="1",BC21,0) -> 0 | DC21: =IF($CL21="1",BD21,0) -> 0 | DD21: =IF($CL21="1",BE21,0) -> 0 | DE21: =IF($CL21="1",BF21,0) -> 0 | DF21: =IF($CL21="1",BG21,0) -> 0 | ... DH21: =IF($CL21="1",BI21,0) -> 0 | DI21: =DB21+DF21+DH21 -> 0 | DJ21: =CZ21+DD21 -> 0 | DK21: =IF(CE21=0,1,0) -> 1 | DL21: =IFERROR(IF($AF21="N",AH21+AJ21+AL21+AN21,AF21+AH21+AJ21+AL21+AN21),0)*$DK21 -> 27.5 | DM21: =(AG21+AI21+AK21+AM21+AO21)*$DK21 -> 550 | DN21: =AS21+AW21+AY21-CW21 -> 550 | DO21: =BC21+BG21+BI21-DI21 -> 0 | DP21: =DN21+DO21 -> 550 | DQ21: =IF(OR(F21=vstupy!B$40,F21=vstupy!B$41,F21=vstupy!B$42,),"0","1") -> 0 | DR21: =IF($DQ21="1",AQ21,"0")+CF21 -> 0 | DS21: =IF($DQ21="1",AS21,"0")+CG21 -> 0 | DT21: =IF($DQ21="1",AU21,"0")+CH21 -> 0 | DU21: =IF($DQ21="1",AW21,"0")+CI21 -> 0 | DV21: =IF($DQ21="1",AY21,"0")+CJ21 -> 0 | DW21: =SUM(DR21:DV23) -> 0 | DX21: =IF($DQ21="1",BA21,"0") -> 0 | DY21: =IF($DQ21="1",BC21,"0") -> 0 | DZ21: =IF($DQ21="1",BE21,"0") -> 0 | EA21: =IF($DQ21="1",BG21,"0") -> 0 | EB21: =IF($DQ21="1",BI21,"0") -> 0 | EC21: =SUM(DX21:EB23) -> 0 | ED21: =EC21+DW21 -> 0
X22: Vyberte typ povinnosti | Y22: Vyberte veľkosť | Z22: =VLOOKUP($X22,vstupy!$B$18:$F$31,MATCH($Y22,vstupy!$B$17:$F$17,0),0) -> 0 | AA22: Vyber | AB22: =VLOOKUP($AA22,[1]vstupy!$B$34:$C$36,2,FALSE) -> 0 | AC22: =Z22+AB22 -> 0
X23: Vyberte typ povinnosti | Y23: Vyberte veľkosť | Z23: =VLOOKUP($X23,vstupy!$B$18:$F$31,MATCH($Y23,vstupy!$B$17:$F$17,0),0) -> 0 | AA23: Vyber | AB23: =VLOOKUP($AA23,[1]vstupy!$B$34:$C$36,2,FALSE) -> 0 | AC23: =Z23+AB23 -> 0
B24: 6 | C24: stanovenie poplatku za udelenie predchádzajúceho súhlasu na ustanovenie osoby podľa § 8e ods. 1 zákona o bankách alebo člena riadiaceho výboru podľa § 8e ods. 3 zákona o bankách (špecifický symbol 1336) | D24: zákon č. 483/2001 Z. z. v znení neskorších predpisov | E24: § 9 ods. 5 | F24: 1.SK | G24: 46398 | H24: =IF($F24="3e) Skoršia transpozícia - zavedenie transpozície pred termínom ktorý určuje smernica EÚ. "," ","") | I24: =IF($F24="3e) Skoršia transpozícia - zavedenie transpozície pred termínom ktorý určuje smernica EÚ. ",$H24,"NA") -> NA | J24: =IF(I24>12,1,I24/12) -> 1 | K24: pobočky zahraničných bánk so sídlom mimo územia členského štátu | L24: 0 | M24: =IF(L24="N",0,L24) -> 0 | N24: In (zvyšuje náklady) | P24: 150 | Q24: jednorazovo | R24: =VLOOKUP(Q24,[1]vstupy!$B$3:$C$15,2,FALSE) -> 0.25 | U24: Vyberte frekvenciu | V24: =VLOOKUP(U24,[1]vstupy!$B$3:$C$15,2,FALSE) -> 0 | X24: Vyberte typ povinnosti | Y24: Vyberte veľkosť | Z24: =VLOOKUP($X24,vstupy!$B$18:$F$31,MATCH($Y24,vstupy!$B$17:$F$17,0),0) -> 0 | AA24: Vyber | AB24: =VLOOKUP($AA24,[1]vstupy!$B$34:$C$36,2,FALSE) -> 0 | AC24: =Z24+AB24 -> 0 | AD24: Vyberte frekvenciu | AE24: =VLOOKUP(AD24,vstupy!$B$3:$C$15,2,FALSE) -> 0 | AF24: =IFERROR(IF(M24=0,"N",O24/L24*J24),0) -> N | AG24: =O24*J24 -> 0 | AH24: =P24*R24*J24 -> 37.5 | AI24: =IFERROR(AH24*M24,0) -> 0 | AJ24: =IFERROR(IF(M24=0,"N",S24/L24*J24),0) -> N | AK24: =S24*J24 -> 0 | AL24: =T24*V24*J24 -> 0 | AM24: =IFERROR(AL24*M24,0) -> 0 | AN24: =IF(W24>0,IF(AE24>0,($G$5/160)*(W24/60)*AE24*J24,0),IF(AE24>0,($G$5/160)*((AC24+AC25+AC26)/60)*AE24*J24,0)) -> 0 | AO24: =IFERROR(AN24*M24,0) -> 0 | AP24: =IF($N24="In (zvyšuje náklady)",AF24,0) -> N | AQ24: =IF($N24="In (zvyšuje náklady)",AG24,0) -> 0 | AR24: =IF($N24="In (zvyšuje náklady)",AH24,0) -> 37.5 | AS24: =IF($N24="In (zvyšuje náklady)",AI24,0) -> 0 | AT24: =IF($N24="In (zvyšuje náklady)",AJ24,0) -> N | AU24: =IF($N24="In (zvyšuje náklady)",AK24,0) -> 0 | AV24: =IF($N24="In (zvyšuje náklady)",AL24,0) -> 0 | AW24: =IF($N24="In (zvyšuje náklady)",AM24,0) -> 0 | ... AY24: =IF($N24="In (zvyšuje náklady)",AO24,0) -> 0 | AZ24: =IF($N24="Out (znižuje náklady)",AF24,"0") -> 0 | BA24: =IF($N24="Out (znižuje náklady)",AG24,"0") -> 0 | BB24: =IF($N24="Out (znižuje náklady)",AH24,"0") -> 0 | BC24: =IF($N24="Out (znižuje náklady)",AI24,"0") -> 0 | BD24: =IF($N24="Out (znižuje náklady)",AJ24,"0") -> 0 | BE24: =IF($N24="Out (znižuje náklady)",AK24,"0") -> 0 | BF24: =IF($N24="Out (znižuje náklady)",AL24,"0") -> 0 | BG24: =IF($N24="Out (znižuje náklady)",AM24,"0") -> 0 | ... BI24: =IF($N24="Out (znižuje náklady)",AO24,"0") -> 0 | BJ24: =IF(F24=vstupy!$B$47,0,1) -> 1 | BK24: =$BJ24*AP24 -> #VALUE! | BL24: =$BJ24*AQ24 -> 0 | BM24: =$BJ24*AR24 -> 37.5 | BN24: =$BJ24*AS24 -> 0 | BO24: =$BJ24*AT24 -> #VALUE! | BP24: =$BJ24*AU24 -> 0 | BQ24: =$BJ24*AV24 -> 0 | BR24: =$BJ24*AW24 -> 0 | ... CD24: =$BJ24*BI24 -> 0 | CE24: =IF(N24="Nemení sa",1,0) -> 0 | CF24: =AG24*$CE24 -> 0 | CG24: =AI24*$CE24 -> 0 | CH24: =AK24*$CE24 -> 0 | CI24: =AM24*$CE24 -> 0 | CJ24: =AO24*$CE24 -> 0 | CK24: =SUM(CF24:CJ26) -> 0 | CL24: =IF(F24=vstupy!B$42,"1",0) -> 0 | CM24: =IF($CL24="1",AP24,0) -> 0 | CN24: =IF($CL24="1",AQ24,0) -> 0 | CO24: =IF($CL24="1",AR24,0) -> 0 | CP24: =IF($CL24="1",AS24,0) -> 0 | CQ24: =IF($CL24="1",AT24,0) -> 0 | CR24: =IF($CL24="1",AU24,0) -> 0 | CS24: =IF($CL24="1",AV24,0) -> 0 | CT24: =IF($CL24="1",AW24,0) -> 0 | ... CV24: =IF($CL24="1",AY24,0) -> 0 | CW24: =CP24+CT24+CV24 -> 0 | CX24: =CN24+CR24 -> 0 | CY24: =IF($CL24="1",AZ24,0) -> 0 | CZ24: =IF($CL24="1",BA24,0) -> 0 | DA24: =IF($CL24="1",BB24,0) -> 0 | DB24: =IF($CL24="1",BC24,0) -> 0 | DC24: =IF($CL24="1",BD24,0) -> 0 | DD24: =IF($CL24="1",BE24,0) -> 0 | DE24: =IF($CL24="1",BF24,0) -> 0 | DF24: =IF($CL24="1",BG24,0) -> 0 | ... DH24: =IF($CL24="1",BI24,0) -> 0 | DI24: =DB24+DF24+DH24 -> 0 | DJ24: =CZ24+DD24 -> 0 | DK24: =IF(CE24=0,1,0) -> 1 | DL24: =IFERROR(IF($AF24="N",AH24+AJ24+AL24+AN24,AF24+AH24+AJ24+AL24+AN24),0)*$DK24 -> 0 | DM24: =(AG24+AI24+AK24+AM24+AO24)*$DK24 -> 0 | DN24: =AS24+AW24+AY24-CW24 -> 0 | DO24: =BC24+BG24+BI24-DI24 -> 0 | DP24: =DN24+DO24 -> 0 | DQ24: =IF(OR(F24=vstupy!B$40,F24=vstupy!B$41,F24=vstupy!B$42,),"0","1") -> 0 | DR24: =IF($DQ24="1",AQ24,"0")+CF24 -> 0 | DS24: =IF($DQ24="1",AS24,"0")+CG24 -> 0 | DT24: =IF($DQ24="1",AU24,"0")+CH24 -> 0 | DU24: =IF($DQ24="1",AW24,"0")+CI24 -> 0 | DV24: =IF($DQ24="1",AY24,"0")+CJ24 -> 0 | DW24: =SUM(DR24:DV26) -> 0 | DX24: =IF($DQ24="1",BA24,"0") -> 0 | DY24: =IF($DQ24="1",BC24,"0") -> 0 | DZ24: =IF($DQ24="1",BE24,"0") -> 0 | EA24: =IF($DQ24="1",BG24,"0") -> 0 | EB24: =IF($DQ24="1",BI24,"0") -> 0 | EC24: =SUM(DX24:EB26) -> 0 | ED24: =EC24+DW24 -> 0
X25: Vyberte typ povinnosti | Y25: Vyberte veľkosť | Z25: =VLOOKUP($X25,vstupy!$B$18:$F$31,MATCH($Y25,vstupy!$B$17:$F$17,0),0) -> 0 | AA25: Vyber | AB25: =VLOOKUP($AA25,[1]vstupy!$B$34:$C$36,2,FALSE) -> 0 | AC25: =Z25+AB25 -> 0
X26: Vyberte typ povinnosti | Y26: Vyberte veľkosť | Z26: =VLOOKUP($X26,vstupy!$B$18:$F$31,MATCH($Y26,vstupy!$B$17:$F$17,0),0) -> 0 | AA26: Vyber | AB26: =VLOOKUP($AA26,[1]vstupy!$B$34:$C$36,2,FALSE) -> 0 | AC26: =Z26+AB26 -> 0
B27: 7 | C27: vypustenie úkonu a poplatku za udelenie predchádzajúceho súhlasu na zmenu vedúceho pobočky zahraničnej banky (špecifický symbol 1320) | D27: zákon č. 483/2001 Z. z. v znení neskorších predpisov | E27: § 9 ods. 5 | F27: 1.SK | G27: 46388 | H27: =IF($F27="3e) Skoršia transpozícia - zavedenie transpozície pred termínom ktorý určuje smernica EÚ. "," ","") | I27: =IF($F27="3e) Skoršia transpozícia - zavedenie transpozície pred termínom ktorý určuje smernica EÚ. ",$H27,"NA") -> NA | J27: =IF(I27>12,1,I27/12) -> 1 | K27: pobočky zahraničných bánk | L27: 0 | M27: =IF(L27="N",0,L27) -> 0 | N27: Out (znižuje náklady) | P27: 40 | Q27: jednorazovo | R27: =VLOOKUP(Q27,[1]vstupy!$B$3:$C$15,2,FALSE) -> 0.25 | U27: Vyberte frekvenciu | V27: =VLOOKUP(U27,[1]vstupy!$B$3:$C$15,2,FALSE) -> 0 | X27: Vyberte typ povinnosti | Y27: Vyberte veľkosť | Z27: =VLOOKUP($X27,vstupy!$B$18:$F$31,MATCH($Y27,vstupy!$B$17:$F$17,0),0) -> 0 | AA27: Vyber | AB27: =VLOOKUP($AA27,[1]vstupy!$B$34:$C$36,2,FALSE) -> 0 | AC27: =Z27+AB27 -> 0 | AD27: Vyberte frekvenciu | AE27: =VLOOKUP(AD27,vstupy!$B$3:$C$15,2,FALSE) -> 0 | AF27: =IFERROR(IF(M27=0,"N",O27/L27*J27),0) -> N | AG27: =O27*J27 -> 0 | AH27: =P27*R27*J27 -> 10 | AI27: =IFERROR(AH27*M27,0) -> 0 | AJ27: =IFERROR(IF(M27=0,"N",S27/L27*J27),0) -> N | AK27: =S27*J27 -> 0 | AL27: =T27*V27*J27 -> 0 | AM27: =IFERROR(AL27*M27,0) -> 0 | AN27: =IF(W27>0,IF(AE27>0,($G$5/160)*(W27/60)*AE27*J27,0),IF(AE27>0,($G$5/160)*((AC27+AC28+AC29)/60)*AE27*J27,0)) -> 0 | AO27: =IFERROR(AN27*M27,0) -> 0 | AP27: =IF($N27="In (zvyšuje náklady)",AF27,0) -> 0 | AQ27: =IF($N27="In (zvyšuje náklady)",AG27,0) -> 0 | AR27: =IF($N27="In (zvyšuje náklady)",AH27,0) -> 0 | AS27: =IF($N27="In (zvyšuje náklady)",AI27,0) -> 0 | AT27: =IF($N27="In (zvyšuje náklady)",AJ27,0) -> 0 | AU27: =IF($N27="In (zvyšuje náklady)",AK27,0) -> 0 | AV27: =IF($N27="In (zvyšuje náklady)",AL27,0) -> 0 | AW27: =IF($N27="In (zvyšuje náklady)",AM27,0) -> 0 | ... AY27: =IF($N27="In (zvyšuje náklady)",AO27,0) -> 0 | AZ27: =IF($N27="Out (znižuje náklady)",AF27,"0") -> N | BA27: =IF($N27="Out (znižuje náklady)",AG27,"0") -> 0 | BB27: =IF($N27="Out (znižuje náklady)",AH27,"0") -> 10 | BC27: =IF($N27="Out (znižuje náklady)",AI27,"0") -> 0 | BD27: =IF($N27="Out (znižuje náklady)",AJ27,"0") -> N | BE27: =IF($N27="Out (znižuje náklady)",AK27,"0") -> 0 | BF27: =IF($N27="Out (znižuje náklady)",AL27,"0") -> 0 | BG27: =IF($N27="Out (znižuje náklady)",AM27,"0") -> 0 | ... BI27: =IF($N27="Out (znižuje náklady)",AO27,"0") -> 0 | BJ27: =IF(F27=vstupy!$B$47,0,1) -> 1 | BK27: =$BJ27*AP27 -> 0 | BL27: =$BJ27*AQ27 -> 0 | BM27: =$BJ27*AR27 -> 0 | BN27: =$BJ27*AS27 -> 0 | BO27: =$BJ27*AT27 -> 0 | BP27: =$BJ27*AU27 -> 0 | BQ27: =$BJ27*AV27 -> 0 | BR27: =$BJ27*AW27 -> 0 | ... CD27: =$BJ27*BI27 -> 0 | CE27: =IF(N27="Nemení sa",1,0) -> 0 | CF27: =AG27*$CE27 -> 0 | CG27: =AI27*$CE27 -> 0 | CH27: =AK27*$CE27 -> 0 | CI27: =AM27*$CE27 -> 0 | CJ27: =AO27*$CE27 -> 0 | CK27: =SUM(CF27:CJ29) -> 0 | CL27: =IF(F27=vstupy!B$42,"1",0) -> 0 | CM27: =IF($CL27="1",AP27,0) -> 0 | CN27: =IF($CL27="1",AQ27,0) -> 0 | CO27: =IF($CL27="1",AR27,0) -> 0 | CP27: =IF($CL27="1",AS27,0) -> 0 | CQ27: =IF($CL27="1",AT27,0) -> 0 | CR27: =IF($CL27="1",AU27,0) -> 0 | CS27: =IF($CL27="1",AV27,0) -> 0 | CT27: =IF($CL27="1",AW27,0) -> 0 | ... CV27: =IF($CL27="1",AY27,0) -> 0 | CW27: =CP27+CT27+CV27 -> 0 | CX27: =CN27+CR27 -> 0 | CY27: =IF($CL27="1",AZ27,0) -> 0 | CZ27: =IF($CL27="1",BA27,0) -> 0 | DA27: =IF($CL27="1",BB27,0) -> 0 | DB27: =IF($CL27="1",BC27,0) -> 0 | DC27: =IF($CL27="1",BD27,0) -> 0 | DD27: =IF($CL27="1",BE27,0) -> 0 | DE27: =IF($CL27="1",BF27,0) -> 0 | DF27: =IF($CL27="1",BG27,0) -> 0 | ... DH27: =IF($CL27="1",BI27,0) -> 0 | DI27: =DB27+DF27+DH27 -> 0 | DJ27: =CZ27+DD27 -> 0 | DK27: =IF(CE27=0,1,0) -> 1 | DL27: =IFERROR(IF($AF27="N",AH27+AJ27+AL27+AN27,AF27+AH27+AJ27+AL27+AN27),0)*$DK27 -> 0 | DM27: =(AG27+AI27+AK27+AM27+AO27)*$DK27 -> 0 | DN27: =AS27+AW27+AY27-CW27 -> 0 | DO27: =BC27+BG27+BI27-DI27 -> 0 | DP27: =DN27+DO27 -> 0 | DQ27: =IF(OR(F27=vstupy!B$40,F27=vstupy!B$41,F27=vstupy!B$42,),"0","1") -> 0 | DR27: =IF($DQ27="1",AQ27,"0")+CF27 -> 0 | DS27: =IF($DQ27="1",AS27,"0")+CG27 -> 0 | DT27: =IF($DQ27="1",AU27,"0")+CH27 -> 0 | DU27: =IF($DQ27="1",AW27,"0")+CI27 -> 0 | DV27: =IF($DQ27="1",AY27,"0")+CJ27 -> 0 | DW27: =SUM(DR27:DV29) -> 0 | DX27: =IF($DQ27="1",BA27,"0") -> 0 | DY27: =IF($DQ27="1",BC27,"0") -> 0 | DZ27: =IF($DQ27="1",BE27,"0") -> 0 | EA27: =IF($DQ27="1",BG27,"0") -> 0 | EB27: =IF($DQ27="1",BI27,"0") -> 0 | EC27: =SUM(DX27:EB29) -> 0 | ED27: =EC27+DW27 -> 0
X28: Vyberte typ povinnosti | Y28: Vyberte veľkosť | Z28: =VLOOKUP($X28,vstupy!$B$18:$F$31,MATCH($Y28,vstupy!$B$17:$F$17,0),0) -> 0 | AA28: Vyber | AB28: =VLOOKUP($AA28,[1]vstupy!$B$34:$C$36,2,FALSE) -> 0 | AC28: =Z28+AB28 -> 0
X29: Vyberte typ povinnosti | Y29: Vyberte veľkosť | Z29: =VLOOKUP($X29,vstupy!$B$18:$F$31,MATCH($Y29,vstupy!$B$17:$F$17,0),0) -> 0 | AA29: Vyber | AB29: =VLOOKUP($AA29,[1]vstupy!$B$34:$C$36,2,FALSE) -> 0 | AC29: =Z29+AB29 -> 0
B30: 8 | C30: stanovenie poplatku za udelenie povolenia na zahrnutie predbežných alebo koncoročných ziskov do vlastného kapitálu Tier 1 (špecifický symbol 2128) | D30: nariadenie (EÚ) č. 575/2013 v platnom znení | E30: Čl. 26 ods. 2 | F30: 1.SK | G30: 46388 | I30: =IF($F30="3e) Skoršia transpozícia - zavedenie transpozície pred termínom ktorý určuje smernica EÚ. ",$H30,"NA") -> NA | J30: =IF(I30>12,1,I30/12) -> 1 | K30: obchodníci s cennými papiermi | L30: 1 | M30: =IF(L30="N",0,L30) -> 1 | N30: In (zvyšuje náklady) | P30: 1700 | Q30: jednorazovo | R30: =VLOOKUP(Q30,[1]vstupy!$B$3:$C$15,2,FALSE) -> 0.25 | U30: Vyberte frekvenciu | V30: =VLOOKUP(U30,[1]vstupy!$B$3:$C$15,2,FALSE) -> 0 | X30: Vyberte typ povinnosti | Y30: Vyberte veľkosť | Z30: =VLOOKUP($X30,vstupy!$B$18:$F$31,MATCH($Y30,vstupy!$B$17:$F$17,0),0) -> 0 | AA30: Vyber | AB30: =VLOOKUP($AA30,[1]vstupy!$B$34:$C$36,2,FALSE) -> 0 | AC30: =Z30+AB30 -> 0 | AD30: Vyberte frekvenciu | AE30: =VLOOKUP(AD30,vstupy!$B$3:$C$15,2,FALSE) -> 0 | AF30: =IFERROR(IF(M30=0,"N",O30/L30*J30),0) -> 0 | AG30: =O30*J30 -> 0 | AH30: =P30*R30*J30 -> 425 | AI30: =IFERROR(AH30*M30,0) -> 425 | AJ30: =IFERROR(IF(M30=0,"N",S30/L30*J30),0) -> 0 | AK30: =S30*J30 -> 0 | AL30: =T30*V30*J30 -> 0 | AM30: =IFERROR(AL30*M30,0) -> 0 | AN30: =IF(W30>0,IF(AE30>0,($G$5/160)*(W30/60)*AE30*J30,0),IF(AE30>0,($G$5/160)*((AC30+AC31+AC32)/60)*AE30*J30,0)) -> 0 | AO30: =IFERROR(AN30*M30,0) -> 0 | AP30: =IF($N30="In (zvyšuje náklady)",AF30,0) -> 0 | AQ30: =IF($N30="In (zvyšuje náklady)",AG30,0) -> 0 | AR30: =IF($N30="In (zvyšuje náklady)",AH30,0) -> 425 | AS30: =IF($N30="In (zvyšuje náklady)",AI30,0) -> 425 | AT30: =IF($N30="In (zvyšuje náklady)",AJ30,0) -> 0 | AU30: =IF($N30="In (zvyšuje náklady)",AK30,0) -> 0 | AV30: =IF($N30="In (zvyšuje náklady)",AL30,0) -> 0 | AW30: =IF($N30="In (zvyšuje náklady)",AM30,0) -> 0 | ... AY30: =IF($N30="In (zvyšuje náklady)",AO30,0) -> 0 | AZ30: =IF($N30="Out (znižuje náklady)",AF30,"0") -> 0 | BA30: =IF($N30="Out (znižuje náklady)",AG30,"0") -> 0 | BB30: =IF($N30="Out (znižuje náklady)",AH30,"0") -> 0 | BC30: =IF($N30="Out (znižuje náklady)",AI30,"0") -> 0 | BD30: =IF($N30="Out (znižuje náklady)",AJ30,"0") -> 0 | BE30: =IF($N30="Out (znižuje náklady)",AK30,"0") -> 0 | BF30: =IF($N30="Out (znižuje náklady)",AL30,"0") -> 0 | BG30: =IF($N30="Out (znižuje náklady)",AM30,"0") -> 0 | ... BI30: =IF($N30="Out (znižuje náklady)",AO30,"0") -> 0 | BJ30: =IF(F30=vstupy!$B$47,0,1) -> 1 | BK30: =$BJ30*AP30 -> 0 | BL30: =$BJ30*AQ30 -> 0 | BM30: =$BJ30*AR30 -> 425 | BN30: =$BJ30*AS30 -> 425 | BO30: =$BJ30*AT30 -> 0 | BP30: =$BJ30*AU30 -> 0 | BQ30: =$BJ30*AV30 -> 0 | BR30: =$BJ30*AW30 -> 0 | ... CD30: =$BJ30*BI30 -> 0 | CE30: =IF(N30="Nemení sa",1,0) -> 0 | CF30: =AG30*$CE30 -> 0 | CG30: =AI30*$CE30 -> 0 | CH30: =AK30*$CE30 -> 0 | CI30: =AM30*$CE30 -> 0 | CJ30: =AO30*$CE30 -> 0 | CK30: =SUM(CF30:CJ32) -> 0 | CL30: =IF(F30=vstupy!B$42,"1",0) -> 0 | CM30: =IF($CL30="1",AP30,0) -> 0 | CN30: =IF($CL30="1",AQ30,0) -> 0 | CO30: =IF($CL30="1",AR30,0) -> 0 | CP30: =IF($CL30="1",AS30,0) -> 0 | CQ30: =IF($CL30="1",AT30,0) -> 0 | CR30: =IF($CL30="1",AU30,0) -> 0 | CS30: =IF($CL30="1",AV30,0) -> 0 | CT30: =IF($CL30="1",AW30,0) -> 0 | ... CV30: =IF($CL30="1",AY30,0) -> 0 | CW30: =CP30+CT30+CV30 -> 0 | CX30: =CN30+CR30 -> 0 | CY30: =IF($CL30="1",AZ30,0) -> 0 | CZ30: =IF($CL30="1",BA30,0) -> 0 | DA30: =IF($CL30="1",BB30,0) -> 0 | DB30: =IF($CL30="1",BC30,0) -> 0 | DC30: =IF($CL30="1",BD30,0) -> 0 | DD30: =IF($CL30="1",BE30,0) -> 0 | DE30: =IF($CL30="1",BF30,0) -> 0 | DF30: =IF($CL30="1",BG30,0) -> 0 | ... DH30: =IF($CL30="1",BI30,0) -> 0 | DI30: =DB30+DF30+DH30 -> 0 | DJ30: =CZ30+DD30 -> 0 | DK30: =IF(CE30=0,1,0) -> 1 | DL30: =IFERROR(IF($AF30="N",AH30+AJ30+AL30+AN30,AF30+AH30+AJ30+AL30+AN30),0)*$DK30 -> 425 | DM30: =(AG30+AI30+AK30+AM30+AO30)*$DK30 -> 425 | DN30: =AS30+AW30+AY30-CW30 -> 425 | DO30: =BC30+BG30+BI30-DI30 -> 0 | DP30: =DN30+DO30 -> 425 | DQ30: =IF(OR(F30=vstupy!B$40,F30=vstupy!B$41,F30=vstupy!B$42,),"0","1") -> 0 | DR30: =IF($DQ30="1",AQ30,"0")+CF30 -> 0 | DS30: =IF($DQ30="1",AS30,"0")+CG30 -> 0 | DT30: =IF($DQ30="1",AU30,"0")+CH30 -> 0 | DU30: =IF($DQ30="1",AW30,"0")+CI30 -> 0 | DV30: =IF($DQ30="1",AY30,"0")+CJ30 -> 0 | DW30: =SUM(DR30:DV32) -> 0 | DX30: =IF($DQ30="1",BA30,"0") -> 0 | DY30: =IF($DQ30="1",BC30,"0") -> 0 | DZ30: =IF($DQ30="1",BE30,"0") -> 0 | EA30: =IF($DQ30="1",BG30,"0") -> 0 | EB30: =IF($DQ30="1",BI30,"0") -> 0 | EC30: =SUM(DX30:EB32) -> 0 | ED30: =EC30+DW30 -> 0
X31: Vyberte typ povinnosti | Y31: Vyberte veľkosť | Z31: =VLOOKUP($X31,vstupy!$B$18:$F$31,MATCH($Y31,vstupy!$B$17:$F$17,0),0) -> 0 | AA31: Vyber | AB31: =VLOOKUP($AA31,[1]vstupy!$B$34:$C$36,2,FALSE) -> 0 | AC31: =Z31+AB31 -> 0
X32: Vyberte typ povinnosti | Y32: Vyberte veľkosť | Z32: =VLOOKUP($X32,vstupy!$B$18:$F$31,MATCH($Y32,vstupy!$B$17:$F$17,0),0) -> 0 | AA32: Vyber | AB32: =VLOOKUP($AA32,[1]vstupy!$B$34:$C$36,2,FALSE) -> 0 | AC32: =Z32+AB32 -> 0
B33: =B30+1 -> 9 | C33: stanovenie poplatku za udelenie povolenia na používanie alternatívnych interných modelov na výpočet požiadaviek na vlastné zdroje (špecifický symbol 2129) | D33: nariadenie (EÚ) č. 575/2013 v platnom znení | E33: Čl. 325az | F33: 1.SK | G33: 46388 | H33: =IF($F33="3e) Skoršia transpozícia - zavedenie transpozície pred termínom ktorý určuje smernica EÚ. "," ","") | I33: =IF($F33="3e) Skoršia transpozícia - zavedenie transpozície pred termínom ktorý určuje smernica EÚ. ",$H33,"NA") -> NA | J33: =IF(I33>12,1,I33/12) -> 1 | K33: obchodníci s cennými papiermi | L33: 0 | M33: =IF(L33="N",0,L33) -> 0 | N33: In (zvyšuje náklady) | P33: 1700 | Q33: jednorazovo | R33: =VLOOKUP(Q33,[1]vstupy!$B$3:$C$15,2,FALSE) -> 0.25 | U33: Vyberte frekvenciu | V33: =VLOOKUP(U33,[1]vstupy!$B$3:$C$15,2,FALSE) -> 0 | X33: Vyberte typ povinnosti | Y33: Vyberte veľkosť | Z33: =VLOOKUP($X33,vstupy!$B$18:$F$31,MATCH($Y33,vstupy!$B$17:$F$17,0),0) -> 0 | AA33: Vyber | AB33: =VLOOKUP($AA33,[1]vstupy!$B$34:$C$36,2,FALSE) -> 0 | AC33: =Z33+AB33 -> 0 | AD33: Vyberte frekvenciu | AE33: =VLOOKUP(AD33,vstupy!$B$3:$C$15,2,FALSE) -> 0 | AF33: =IFERROR(IF(M33=0,"N",O33/L33*J33),0) -> N | AG33: =O33*J33 -> 0 | AH33: =P33*R33*J33 -> 425 | AI33: =IFERROR(AH33*M33,0) -> 0 | AJ33: =IFERROR(IF(M33=0,"N",S33/L33*J33),0) -> N | AK33: =S33*J33 -> 0 | AL33: =T33*V33*J33 -> 0 | AM33: =IFERROR(AL33*M33,0) -> 0 | AN33: =IF(W33>0,IF(AE33>0,($G$5/160)*(W33/60)*AE33*J33,0),IF(AE33>0,($G$5/160)*((AC33+AC34+AC35)/60)*AE33*J33,0)) -> 0 | AO33: =IFERROR(AN33*M33,0) -> 0 | AP33: =IF($N33="In (zvyšuje náklady)",AF33,0) -> N | AQ33: =IF($N33="In (zvyšuje náklady)",AG33,0) -> 0 | AR33: =IF($N33="In (zvyšuje náklady)",AH33,0) -> 425 | AS33: =IF($N33="In (zvyšuje náklady)",AI33,0) -> 0 | AT33: =IF($N33="In (zvyšuje náklady)",AJ33,0) -> N | AU33: =IF($N33="In (zvyšuje náklady)",AK33,0) -> 0 | AV33: =IF($N33="In (zvyšuje náklady)",AL33,0) -> 0 | AW33: =IF($N33="In (zvyšuje náklady)",AM33,0) -> 0 | ... AY33: =IF($N33="In (zvyšuje náklady)",AO33,0) -> 0 | AZ33: =IF($N33="Out (znižuje náklady)",AF33,"0") -> 0 | BA33: =IF($N33="Out (znižuje náklady)",AG33,"0") -> 0 | BB33: =IF($N33="Out (znižuje náklady)",AH33,"0") -> 0 | BC33: =IF($N33="Out (znižuje náklady)",AI33,"0") -> 0 | BD33: =IF($N33="Out (znižuje náklady)",AJ33,"0") -> 0 | BE33: =IF($N33="Out (znižuje náklady)",AK33,"0") -> 0 | BF33: =IF($N33="Out (znižuje náklady)",AL33,"0") -> 0 | BG33: =IF($N33="Out (znižuje náklady)",AM33,"0") -> 0 | ... BI33: =IF($N33="Out (znižuje náklady)",AO33,"0") -> 0 | BJ33: =IF(F33=vstupy!$B$47,0,1) -> 1 | BK33: =$BJ33*AP33 -> #VALUE! | BL33: =$BJ33*AQ33 -> 0 | BM33: =$BJ33*AR33 -> 425 | BN33: =$BJ33*AS33 -> 0 | BO33: =$BJ33*AT33 -> #VALUE! | BP33: =$BJ33*AU33 -> 0 | BQ33: =$BJ33*AV33 -> 0 | BR33: =$BJ33*AW33 -> 0 | ... CD33: =$BJ33*BI33 -> 0 | CE33: =IF(N33="Nemení sa",1,0) -> 0 | CF33: =AG33*$CE33 -> 0 | CG33: =AI33*$CE33 -> 0 | CH33: =AK33*$CE33 -> 0 | CI33: =AM33*$CE33 -> 0 | CJ33: =AO33*$CE33 -> 0 | CK33: =SUM(CF33:CJ35) -> 0 | CL33: =IF(F33=vstupy!B$42,"1",0) -> 0 | CM33: =IF($CL33="1",AP33,0) -> 0 | CN33: =IF($CL33="1",AQ33,0) -> 0 | CO33: =IF($CL33="1",AR33,0) -> 0 | CP33: =IF($CL33="1",AS33,0) -> 0 | CQ33: =IF($CL33="1",AT33,0) -> 0 | CR33: =IF($CL33="1",AU33,0) -> 0 | CS33: =IF($CL33="1",AV33,0) -> 0 | CT33: =IF($CL33="1",AW33,0) -> 0 | ... CV33: =IF($CL33="1",AY33,0) -> 0 | CW33: =CP33+CT33+CV33 -> 0 | CX33: =CN33+CR33 -> 0 | CY33: =IF($CL33="1",AZ33,0) -> 0 | CZ33: =IF($CL33="1",BA33,0) -> 0 | DA33: =IF($CL33="1",BB33,0) -> 0 | DB33: =IF($CL33="1",BC33,0) -> 0 | DC33: =IF($CL33="1",BD33,0) -> 0 | DD33: =IF($CL33="1",BE33,0) -> 0 | DE33: =IF($CL33="1",BF33,0) -> 0 | DF33: =IF($CL33="1",BG33,0) -> 0 | ... DH33: =IF($CL33="1",BI33,0) -> 0 | DI33: =DB33+DF33+DH33 -> 0 | DJ33: =CZ33+DD33 -> 0 | DK33: =IF(CE33=0,1,0) -> 1 | DL33: =IFERROR(IF($AF33="N",AH33+AJ33+AL33+AN33,AF33+AH33+AJ33+AL33+AN33),0)*$DK33 -> 0 | DM33: =(AG33+AI33+AK33+AM33+AO33)*$DK33 -> 0 | DN33: =AS33+AW33+AY33-CW33 -> 0 | DO33: =BC33+BG33+BI33-DI33 -> 0 | DP33: =DN33+DO33 -> 0 | DQ33: =IF(OR(F33=vstupy!B$40,F33=vstupy!B$41,F33=vstupy!B$42,),"0","1") -> 0 | DR33: =IF($DQ33="1",AQ33,"0")+CF33 -> 0 | DS33: =IF($DQ33="1",AS33,"0")+CG33 -> 0 | DT33: =IF($DQ33="1",AU33,"0")+CH33 -> 0 | DU33: =IF($DQ33="1",AW33,"0")+CI33 -> 0 | DV33: =IF($DQ33="1",AY33,"0")+CJ33 -> 0 | DW33: =SUM(DR33:DV35) -> 0 | DX33: =IF($DQ33="1",BA33,"0") -> 0 | DY33: =IF($DQ33="1",BC33,"0") -> 0 | DZ33: =IF($DQ33="1",BE33,"0") -> 0 | EA33: =IF($DQ33="1",BG33,"0") -> 0 | EB33: =IF($DQ33="1",BI33,"0") -> 0 | EC33: =SUM(DX33:EB35) -> 0 | ED33: =EC33+DW33 -> 0
X34: Vyberte typ povinnosti | Y34: Vyberte veľkosť | Z34: =VLOOKUP($X34,vstupy!$B$18:$F$31,MATCH($Y34,vstupy!$B$17:$F$17,0),0) -> 0 | AA34: Vyber | AB34: =VLOOKUP($AA34,[1]vstupy!$B$34:$C$36,2,FALSE) -> 0 | AC34: =Z34+AB34 -> 0
X35: Vyberte typ povinnosti | Y35: Vyberte veľkosť | Z35: =VLOOKUP($X35,vstupy!$B$18:$F$31,MATCH($Y35,vstupy!$B$17:$F$17,0),0) -> 0 | AA35: Vyber | AB35: =VLOOKUP($AA35,[1]vstupy!$B$34:$C$36,2,FALSE) -> 0 | AC35: =Z35+AB35 -> 0
B36: =B33+1 -> 10 | C36: stanovenie poplatku za udelenie predchádzajúceho súhlasu na predĺženie časového obdobia podľa § 37e ods. 10 písm. a) zákona č. 203/2011 Z. z. v znení neskorších predpisov najviac o ďalších 12 mesiacov (špecifický symbol 2371) | D36: zákon č. 203/2011 Z. z. v znení zákona č. 85/2026 Z. z. | E36: § 163 ods. 1 písm. x) | F36: 1.SK | G36: 46388 | H36: =IF($F36="3e) Skoršia transpozícia - zavedenie transpozície pred termínom ktorý určuje smernica EÚ. "," ","") | I36: =IF($F36="3e) Skoršia transpozícia - zavedenie transpozície pred termínom ktorý určuje smernica EÚ. ",$H36,"NA") -> NA | J36: =IF(I36>12,1,I36/12) -> 1 | K36: správcovské spoločnosti | L36: 0 | M36: =IF(L36="N",0,L36) -> 0 | N36: In (zvyšuje náklady) | P36: 100 | Q36: jednorazovo | R36: =VLOOKUP(Q36,[1]vstupy!$B$3:$C$15,2,FALSE) -> 0.25 | U36: Vyberte frekvenciu | V36: =VLOOKUP(U36,[1]vstupy!$B$3:$C$15,2,FALSE) -> 0 | X36: Vyberte typ povinnosti | Y36: Vyberte veľkosť | Z36: =VLOOKUP($X36,vstupy!$B$18:$F$31,MATCH($Y36,vstupy!$B$17:$F$17,0),0) -> 0 | AA36: Vyber | AB36: =VLOOKUP($AA36,[1]vstupy!$B$34:$C$36,2,FALSE) -> 0 | AC36: =Z36+AB36 -> 0 | AD36: Vyberte frekvenciu | AE36: =VLOOKUP(AD36,vstupy!$B$3:$C$15,2,FALSE) -> 0 | AF36: =IFERROR(IF(M36=0,"N",O36/L36*J36),0) -> N | AG36: =O36*J36 -> 0 | AH36: =P36*R36*J36 -> 25 | AI36: =IFERROR(AH36*M36,0) -> 0 | AJ36: =IFERROR(IF(M36=0,"N",S36/L36*J36),0) -> N | AK36: =S36*J36 -> 0 | AL36: =T36*V36*J36 -> 0 | AM36: =IFERROR(AL36*M36,0) -> 0 | AN36: =IF(W36>0,IF(AE36>0,($G$5/160)*(W36/60)*AE36*J36,0),IF(AE36>0,($G$5/160)*((AC36+AC37+AC38)/60)*AE36*J36,0)) -> 0 | AO36: =IFERROR(AN36*M36,0) -> 0 | AP36: =IF($N36="In (zvyšuje náklady)",AF36,0) -> N | AQ36: =IF($N36="In (zvyšuje náklady)",AG36,0) -> 0 | AR36: =IF($N36="In (zvyšuje náklady)",AH36,0) -> 25 | AS36: =IF($N36="In (zvyšuje náklady)",AI36,0) -> 0 | AT36: =IF($N36="In (zvyšuje náklady)",AJ36,0) -> N | AU36: =IF($N36="In (zvyšuje náklady)",AK36,0) -> 0 | AV36: =IF($N36="In (zvyšuje náklady)",AL36,0) -> 0 | AW36: =IF($N36="In (zvyšuje náklady)",AM36,0) -> 0 | ... AY36: =IF($N36="In (zvyšuje náklady)",AO36,0) -> 0 | AZ36: =IF($N36="Out (znižuje náklady)",AF36,"0") -> 0 | BA36: =IF($N36="Out (znižuje náklady)",AG36,"0") -> 0 | BB36: =IF($N36="Out (znižuje náklady)",AH36,"0") -> 0 | BC36: =IF($N36="Out (znižuje náklady)",AI36,"0") -> 0 | BD36: =IF($N36="Out (znižuje náklady)",AJ36,"0") -> 0 | BE36: =IF($N36="Out (znižuje náklady)",AK36,"0") -> 0 | BF36: =IF($N36="Out (znižuje náklady)",AL36,"0") -> 0 | BG36: =IF($N36="Out (znižuje náklady)",AM36,"0") -> 0 | ... BI36: =IF($N36="Out (znižuje náklady)",AO36,"0") -> 0 | BJ36: =IF(F36=vstupy!$B$47,0,1) -> 1 | BK36: =$BJ36*AP36 -> #VALUE! | BL36: =$BJ36*AQ36 -> 0 | BM36: =$BJ36*AR36 -> 25 | BN36: =$BJ36*AS36 -> 0 | BO36: =$BJ36*AT36 -> #VALUE! | BP36: =$BJ36*AU36 -> 0 | BQ36: =$BJ36*AV36 -> 0 | BR36: =$BJ36*AW36 -> 0 | ... CD36: =$BJ36*BI36 -> 0 | CE36: =IF(N36="Nemení sa",1,0) -> 0 | CF36: =AG36*$CE36 -> 0 | CG36: =AI36*$CE36 -> 0 | CH36: =AK36*$CE36 -> 0 | CI36: =AM36*$CE36 -> 0 | CJ36: =AO36*$CE36 -> 0 | CK36: =SUM(CF36:CJ38) -> 0 | CL36: =IF(F36=vstupy!B$42,"1",0) -> 0 | CM36: =IF($CL36="1",AP36,0) -> 0 | CN36: =IF($CL36="1",AQ36,0) -> 0 | CO36: =IF($CL36="1",AR36,0) -> 0 | CP36: =IF($CL36="1",AS36,0) -> 0 | CQ36: =IF($CL36="1",AT36,0) -> 0 | CR36: =IF($CL36="1",AU36,0) -> 0 | CS36: =IF($CL36="1",AV36,0) -> 0 | CT36: =IF($CL36="1",AW36,0) -> 0 | ... CV36: =IF($CL36="1",AY36,0) -> 0 | CW36: =CP36+CT36+CV36 -> 0 | CX36: =CN36+CR36 -> 0 | CY36: =IF($CL36="1",AZ36,0) -> 0 | CZ36: =IF($CL36="1",BA36,0) -> 0 | DA36: =IF($CL36="1",BB36,0) -> 0 | DB36: =IF($CL36="1",BC36,0) -> 0 | DC36: =IF($CL36="1",BD36,0) -> 0 | DD36: =IF($CL36="1",BE36,0) -> 0 | DE36: =IF($CL36="1",BF36,0) -> 0 | DF36: =IF($CL36="1",BG36,0) -> 0 | ... DH36: =IF($CL36="1",BI36,0) -> 0 | DI36: =DB36+DF36+DH36 -> 0 | DJ36: =CZ36+DD36 -> 0 | DK36: =IF(CE36=0,1,0) -> 1 | DL36: =IFERROR(IF($AF36="N",AH36+AJ36+AL36+AN36,AF36+AH36+AJ36+AL36+AN36),0)*$DK36 -> 0 | DM36: =(AG36+AI36+AK36+AM36+AO36)*$DK36 -> 0 | DN36: =AS36+AW36+AY36-CW36 -> 0 | DO36: =BC36+BG36+BI36-DI36 -> 0 | DP36: =DN36+DO36 -> 0 | DQ36: =IF(OR(F36=vstupy!B$40,F36=vstupy!B$41,F36=vstupy!B$42,),"0","1") -> 0 | DR36: =IF($DQ36="1",AQ36,"0")+CF36 -> 0 | DS36: =IF($DQ36="1",AS36,"0")+CG36 -> 0 | DT36: =IF($DQ36="1",AU36,"0")+CH36 -> 0 | DU36: =IF($DQ36="1",AW36,"0")+CI36 -> 0 | DV36: =IF($DQ36="1",AY36,"0")+CJ36 -> 0 | DW36: =SUM(DR36:DV38) -> 0 | DX36: =IF($DQ36="1",BA36,"0") -> 0 | DY36: =IF($DQ36="1",BC36,"0") -> 0 | DZ36: =IF($DQ36="1",BE36,"0") -> 0 | EA36: =IF($DQ36="1",BG36,"0") -> 0 | EB36: =IF($DQ36="1",BI36,"0") -> 0 | EC36: =SUM(DX36:EB38) -> 0 | ED36: =EC36+DW36 -> 0
X37: Vyberte typ povinnosti | Y37: Vyberte veľkosť | Z37: =VLOOKUP($X37,vstupy!$B$18:$F$31,MATCH($Y37,vstupy!$B$17:$F$17,0),0) -> 0 | AA37: Vyber | AB37: =VLOOKUP($AA37,[1]vstupy!$B$34:$C$36,2,FALSE) -> 0 | AC37: =Z37+AB37 -> 0
X38: Vyberte typ povinnosti | Y38: Vyberte veľkosť | Z38: =VLOOKUP($X38,vstupy!$B$18:$F$31,MATCH($Y38,vstupy!$B$17:$F$17,0),0) -> 0 | AA38: Vyber | AB38: =VLOOKUP($AA38,[1]vstupy!$B$34:$C$36,2,FALSE) -> 0 | AC38: =Z38+AB38 -> 0
B39: =B36+1 -> 11 | C39: stanovenie poplatku za udelenie predchádzajúceho súhlasu na vydanie Všeobecných podmienok vyplácania náhrad za nedostupný klientsky majetok Garančným fondom investícií (špecifický symbol 2372) | D39: zákon č. 566/2001 Z. z. v znení neskorších predpisov | E39: § 90 ods. 3 | F39: 1.SK | G39: 46388 | H39: =IF($F39="3e) Skoršia transpozícia - zavedenie transpozície pred termínom ktorý určuje smernica EÚ. "," ","") | I39: =IF($F39="3e) Skoršia transpozícia - zavedenie transpozície pred termínom ktorý určuje smernica EÚ. ",$H39,"NA") -> NA | J39: =IF(I39>12,1,I39/12) -> 1 | K39: Garančný fond investícií | L39: 0 | M39: =IF(L39="N",0,L39) -> 0 | N39: In (zvyšuje náklady) | P39: 850 | Q39: jednorazovo | R39: =VLOOKUP(Q39,vstupy!$B$3:$C$15,2,FALSE) -> 0.25 | U39: Vyberte frekvenciu | V39: =VLOOKUP(U39,vstupy!$B$3:$C$15,2,FALSE) -> 0 | X39: Vyberte typ povinnosti | Y39: Vyberte veľkosť | Z39: =VLOOKUP($X39,vstupy!$B$18:$F$31,MATCH($Y39,vstupy!$B$17:$F$17,0),0) -> 0 | AA39: Vyber | AB39: =VLOOKUP($AA39,vstupy!$B$34:$C$36,2,FALSE) -> 0 | AC39: =Z39+AB39 -> 0 | AD39: Vyberte frekvenciu | AE39: =VLOOKUP(AD39,vstupy!$B$3:$C$15,2,FALSE) -> 0 | AF39: =IFERROR(IF(M39=0,"N",O39/L39*J39),0) -> N | AG39: =O39*J39 -> 0 | AH39: =P39*R39*J39 -> 212.5 | AI39: =IFERROR(AH39*M39,0) -> 0 | AJ39: =IFERROR(IF(M39=0,"N",S39/L39*J39),0) -> N | AK39: =S39*J39 -> 0 | AL39: =T39*V39*J39 -> 0 | AM39: =IFERROR(AL39*M39,0) -> 0 | AN39: =IF(W39>0,IF(AE39>0,($G$5/160)*(W39/60)*AE39*J39,0),IF(AE39>0,($G$5/160)*((AC39+AC40+AC41)/60)*AE39*J39,0)) -> 0 | AO39: =IFERROR(AN39*M39,0) -> 0 | AP39: =IF($N39="In (zvyšuje náklady)",AF39,0) -> N | AQ39: =IF($N39="In (zvyšuje náklady)",AG39,0) -> 0 | AR39: =IF($N39="In (zvyšuje náklady)",AH39,0) -> 212.5 | AS39: =IF($N39="In (zvyšuje náklady)",AI39,0) -> 0 | AT39: =IF($N39="In (zvyšuje náklady)",AJ39,0) -> N | AU39: =IF($N39="In (zvyšuje náklady)",AK39,0) -> 0 | AV39: =IF($N39="In (zvyšuje náklady)",AL39,0) -> 0 | AW39: =IF($N39="In (zvyšuje náklady)",AM39,0) -> 0 | ... AY39: =IF($N39="In (zvyšuje náklady)",AO39,0) -> 0 | AZ39: =IF($N39="Out (znižuje náklady)",AF39,"0") -> 0 | BA39: =IF($N39="Out (znižuje náklady)",AG39,"0") -> 0 | BB39: =IF($N39="Out (znižuje náklady)",AH39,"0") -> 0 | BC39: =IF($N39="Out (znižuje náklady)",AI39,"0") -> 0 | BD39: =IF($N39="Out (znižuje náklady)",AJ39,"0") -> 0 | BE39: =IF($N39="Out (znižuje náklady)",AK39,"0") -> 0 | BF39: =IF($N39="Out (znižuje náklady)",AL39,"0") -> 0 | BG39: =IF($N39="Out (znižuje náklady)",AM39,"0") -> 0 | ... BI39: =IF($N39="Out (znižuje náklady)",AO39,"0") -> 0 | BJ39: =IF(F39=vstupy!$B$47,0,1) -> 1 | BK39: =$BJ39*AP39 -> #VALUE! | BL39: =$BJ39*AQ39 -> 0 | BM39: =$BJ39*AR39 -> 212.5 | BN39: =$BJ39*AS39 -> 0 | BO39: =$BJ39*AT39 -> #VALUE! | BP39: =$BJ39*AU39 -> 0 | BQ39: =$BJ39*AV39 -> 0 | BR39: =$BJ39*AW39 -> 0 | ... CD39: =$BJ39*BI39 -> 0 | CE39: =IF(N39="Nemení sa",1,0) -> 0 | CF39: =AG39*$CE39 -> 0 | CG39: =AI39*$CE39 -> 0 | CH39: =AK39*$CE39 -> 0 | CI39: =AM39*$CE39 -> 0 | CJ39: =AO39*$CE39 -> 0 | CK39: =SUM(CF39:CJ41) -> 0 | CL39: =IF(F39=vstupy!B$42,"1",0) -> 0 | CM39: =IF($CL39="1",AP39,0) -> 0 | CN39: =IF($CL39="1",AQ39,0) -> 0 | CO39: =IF($CL39="1",AR39,0) -> 0 | CP39: =IF($CL39="1",AS39,0) -> 0 | CQ39: =IF($CL39="1",AT39,0) -> 0 | CR39: =IF($CL39="1",AU39,0) -> 0 | CS39: =IF($CL39="1",AV39,0) -> 0 | CT39: =IF($CL39="1",AW39,0) -> 0 | ... CV39: =IF($CL39="1",AY39,0) -> 0 | CW39: =CP39+CT39+CV39 -> 0 | CX39: =CN39+CR39 -> 0 | CY39: =IF($CL39="1",AZ39,0) -> 0 | CZ39: =IF($CL39="1",BA39,0) -> 0 | DA39: =IF($CL39="1",BB39,0) -> 0 | DB39: =IF($CL39="1",BC39,0) -> 0 | DC39: =IF($CL39="1",BD39,0) -> 0 | DD39: =IF($CL39="1",BE39,0) -> 0 | DE39: =IF($CL39="1",BF39,0) -> 0 | DF39: =IF($CL39="1",BG39,0) -> 0 | ... DH39: =IF($CL39="1",BI39,0) -> 0 | DI39: =DB39+DF39+DH39 -> 0 | DJ39: =CZ39+DD39 -> 0 | DK39: =IF(CE39=0,1,0) -> 1 | DL39: =IFERROR(IF($AF39="N",AH39+AJ39+AL39+AN39,AF39+AH39+AJ39+AL39+AN39),0)*$DK39 -> 0 | DM39: =(AG39+AI39+AK39+AM39+AO39)*$DK39 -> 0 | DN39: =AS39+AW39+AY39-CW39 -> 0 | DO39: =BC39+BG39+BI39-DI39 -> 0 | DP39: =DN39+DO39 -> 0 | DQ39: =IF(OR(F39=vstupy!B$40,F39=vstupy!B$41,F39=vstupy!B$42,),"0","1") -> 0 | DR39: =IF($DQ39="1",AQ39,"0")+CF39 -> 0 | DS39: =IF($DQ39="1",AS39,"0")+CG39 -> 0 | DT39: =IF($DQ39="1",AU39,"0")+CH39 -> 0 | DU39: =IF($DQ39="1",AW39,"0")+CI39 -> 0 | DV39: =IF($DQ39="1",AY39,"0")+CJ39 -> 0 | DW39: =SUM(DR39:DV41) -> 0 | DX39: =IF($DQ39="1",BA39,"0") -> 0 | DY39: =IF($DQ39="1",BC39,"0") -> 0 | DZ39: =IF($DQ39="1",BE39,"0") -> 0 | EA39: =IF($DQ39="1",BG39,"0") -> 0 | EB39: =IF($DQ39="1",BI39,"0") -> 0 | EC39: =SUM(DX39:EB41) -> 0 | ED39: =EC39+DW39 -> 0
X40: Vyberte typ povinnosti | Y40: Vyberte veľkosť | Z40: =VLOOKUP($X40,vstupy!$B$18:$F$31,MATCH($Y40,vstupy!$B$17:$F$17,0),0) -> 0 | AA40: Vyber | AB40: =VLOOKUP($AA40,vstupy!$B$34:$C$36,2,FALSE) -> 0 | AC40: =Z40+AB40 -> 0
X41: Vyberte typ povinnosti | Y41: Vyberte veľkosť | Z41: =VLOOKUP($X41,vstupy!$B$18:$F$31,MATCH($Y41,vstupy!$B$17:$F$17,0),0) -> 0 | AA41: Vyber | AB41: =VLOOKUP($AA41,vstupy!$B$34:$C$36,2,FALSE) -> 0 | AC41: =Z41+AB41 -> 0
B42: =B39+1 -> 12 | C42: stanovenie poplatku za udelenie predchádzajúceho súhlasu na zmenu Všeobecných podmienok vyplácania náhrad za nedostupný klientsky majetok Garančným fondom investícií (špecifický symbol 2373) | D42: zákon č. 566/2001 Z. z. v znení neskorších predpisov | E42: § 90 ods. 3 | F42: 1.SK | G42: 46388 | H42: =IF($F42="3e) Skoršia transpozícia - zavedenie transpozície pred termínom ktorý určuje smernica EÚ. "," ","") | I42: =IF($F42="3e) Skoršia transpozícia - zavedenie transpozície pred termínom ktorý určuje smernica EÚ. ",$H42,"NA") -> NA | J42: =IF(I42>12,1,I42/12) -> 1 | K42: Garančný fond investícií | L42: 1 | M42: =IF(L42="N",0,L42) -> 1 | N42: In (zvyšuje náklady) | P42: 350 | Q42: jednorazovo | R42: =VLOOKUP(Q42,vstupy!$B$3:$C$15,2,FALSE) -> 0.25 | U42: Vyberte frekvenciu | V42: =VLOOKUP(U42,vstupy!$B$3:$C$15,2,FALSE) -> 0 | X42: Vyberte typ povinnosti | Y42: Vyberte veľkosť | Z42: =VLOOKUP($X42,vstupy!$B$18:$F$31,MATCH($Y42,vstupy!$B$17:$F$17,0),0) -> 0 | AA42: Vyber | AB42: =VLOOKUP($AA42,vstupy!$B$34:$C$36,2,FALSE) -> 0 | AC42: =Z42+AB42 -> 0 | AD42: Vyberte frekvenciu | AE42: =VLOOKUP(AD42,vstupy!$B$3:$C$15,2,FALSE) -> 0 | AF42: =IFERROR(IF(M42=0,"N",O42/L42*J42),0) -> 0 | AG42: =O42*J42 -> 0 | AH42: =P42*R42*J42 -> 87.5 | AI42: =IFERROR(AH42*M42,0) -> 87.5 | AJ42: =IFERROR(IF(M42=0,"N",S42/L42*J42),0) -> 0 | AK42: =S42*J42 -> 0 | AL42: =T42*V42*J42 -> 0 | AM42: =IFERROR(AL42*M42,0) -> 0 | AN42: =IF(W42>0,IF(AE42>0,($G$5/160)*(W42/60)*AE42*J42,0),IF(AE42>0,($G$5/160)*((AC42+AC43+AC44)/60)*AE42*J42,0)) -> 0 | AO42: =IFERROR(AN42*M42,0) -> 0 | AP42: =IF($N42="In (zvyšuje náklady)",AF42,0) -> 0 | AQ42: =IF($N42="In (zvyšuje náklady)",AG42,0) -> 0 | AR42: =IF($N42="In (zvyšuje náklady)",AH42,0) -> 87.5 | AS42: =IF($N42="In (zvyšuje náklady)",AI42,0) -> 87.5 | AT42: =IF($N42="In (zvyšuje náklady)",AJ42,0) -> 0 | AU42: =IF($N42="In (zvyšuje náklady)",AK42,0) -> 0 | AV42: =IF($N42="In (zvyšuje náklady)",AL42,0) -> 0 | AW42: =IF($N42="In (zvyšuje náklady)",AM42,0) -> 0 | ... AY42: =IF($N42="In (zvyšuje náklady)",AO42,0) -> 0 | AZ42: =IF($N42="Out (znižuje náklady)",AF42,"0") -> 0 | BA42: =IF($N42="Out (znižuje náklady)",AG42,"0") -> 0 | BB42: =IF($N42="Out (znižuje náklady)",AH42,"0") -> 0 | BC42: =IF($N42="Out (znižuje náklady)",AI42,"0") -> 0 | BD42: =IF($N42="Out (znižuje náklady)",AJ42,"0") -> 0 | BE42: =IF($N42="Out (znižuje náklady)",AK42,"0") -> 0 | BF42: =IF($N42="Out (znižuje náklady)",AL42,"0") -> 0 | BG42: =IF($N42="Out (znižuje náklady)",AM42,"0") -> 0 | ... BI42: =IF($N42="Out (znižuje náklady)",AO42,"0") -> 0 | BJ42: =IF(F42=vstupy!$B$47,0,1) -> 1 | BK42: =$BJ42*AP42 -> 0 | BL42: =$BJ42*AQ42 -> 0 | BM42: =$BJ42*AR42 -> 87.5 | BN42: =$BJ42*AS42 -> 87.5 | BO42: =$BJ42*AT42 -> 0 | BP42: =$BJ42*AU42 -> 0 | BQ42: =$BJ42*AV42 -> 0 | BR42: =$BJ42*AW42 -> 0 | ... CD42: =$BJ42*BI42 -> 0 | CE42: =IF(N42="Nemení sa",1,0) -> 0 | CF42: =AG42*$CE42 -> 0 | CG42: =AI42*$CE42 -> 0 | CH42: =AK42*$CE42 -> 0 | CI42: =AM42*$CE42 -> 0 | CJ42: =AO42*$CE42 -> 0 | CK42: =SUM(CF42:CJ44) -> 0 | CL42: =IF(F42=vstupy!B$42,"1",0) -> 0 | CM42: =IF($CL42="1",AP42,0) -> 0 | CN42: =IF($CL42="1",AQ42,0) -> 0 | CO42: =IF($CL42="1",AR42,0) -> 0 | CP42: =IF($CL42="1",AS42,0) -> 0 | CQ42: =IF($CL42="1",AT42,0) -> 0 | CR42: =IF($CL42="1",AU42,0) -> 0 | CS42: =IF($CL42="1",AV42,0) -> 0 | CT42: =IF($CL42="1",AW42,0) -> 0 | ... CV42: =IF($CL42="1",AY42,0) -> 0 | CW42: =CP42+CT42+CV42 -> 0 | CX42: =CN42+CR42 -> 0 | CY42: =IF($CL42="1",AZ42,0) -> 0 | CZ42: =IF($CL42="1",BA42,0) -> 0 | DA42: =IF($CL42="1",BB42,0) -> 0 | DB42: =IF($CL42="1",BC42,0) -> 0 | DC42: =IF($CL42="1",BD42,0) -> 0 | DD42: =IF($CL42="1",BE42,0) -> 0 | DE42: =IF($CL42="1",BF42,0) -> 0 | DF42: =IF($CL42="1",BG42,0) -> 0 | ... DH42: =IF($CL42="1",BI42,0) -> 0 | DI42: =DB42+DF42+DH42 -> 0 | DJ42: =CZ42+DD42 -> 0 | DK42: =IF(CE42=0,1,0) -> 1 | DL42: =IFERROR(IF($AF42="N",AH42+AJ42+AL42+AN42,AF42+AH42+AJ42+AL42+AN42),0)*$DK42 -> 87.5 | DM42: =(AG42+AI42+AK42+AM42+AO42)*$DK42 -> 87.5 | DN42: =AS42+AW42+AY42-CW42 -> 87.5 | DO42: =BC42+BG42+BI42-DI42 -> 0 | DP42: =DN42+DO42 -> 87.5 | DQ42: =IF(OR(F42=vstupy!B$40,F42=vstupy!B$41,F42=vstupy!B$42,),"0","1") -> 0 | DR42: =IF($DQ42="1",AQ42,"0")+CF42 -> 0 | DS42: =IF($DQ42="1",AS42,"0")+CG42 -> 0 | DT42: =IF($DQ42="1",AU42,"0")+CH42 -> 0 | DU42: =IF($DQ42="1",AW42,"0")+CI42 -> 0 | DV42: =IF($DQ42="1",AY42,"0")+CJ42 -> 0 | DW42: =SUM(DR42:DV44) -> 0 | DX42: =IF($DQ42="1",BA42,"0") -> 0 | DY42: =IF($DQ42="1",BC42,"0") -> 0 | DZ42: =IF($DQ42="1",BE42,"0") -> 0 | EA42: =IF($DQ42="1",BG42,"0") -> 0 | EB42: =IF($DQ42="1",BI42,"0") -> 0 | EC42: =SUM(DX42:EB44) -> 0 | ED42: =EC42+DW42 -> 0
X43: Vyberte typ povinnosti | Y43: Vyberte veľkosť | Z43: =VLOOKUP($X43,vstupy!$B$18:$F$31,MATCH($Y43,vstupy!$B$17:$F$17,0),0) -> 0 | AA43: Vyber | AB43: =VLOOKUP($AA43,vstupy!$B$34:$C$36,2,FALSE) -> 0 | AC43: =Z43+AB43 -> 0
X44: Vyberte typ povinnosti | Y44: Vyberte veľkosť | Z44: =VLOOKUP($X44,vstupy!$B$18:$F$31,MATCH($Y44,vstupy!$B$17:$F$17,0),0) -> 0 | AA44: Vyber | AB44: =VLOOKUP($AA44,vstupy!$B$34:$C$36,2,FALSE) -> 0 | AC44: =Z44+AB44 -> 0
B45: =B42+1 -> 13 | C45: vypustenie úkonu a poplatku za schválenie základného prospektu cenného papiera vypracovaného ako jeden dokument, ak je žiadateľom emitent (špecifický symbol 2427 - iba v opatrení č. 5/2021 v znení opatrenia č. 8/2024) | D45: nariadenie (EÚ) 2017/1129 v platnom znení | E45: Čl. 8 a 20 | F45: 1.SK | G45: 46388 | H45: =IF($F45="3e) Skoršia transpozícia - zavedenie transpozície pred termínom ktorý určuje smernica EÚ. "," ","") | I45: =IF($F45="3e) Skoršia transpozícia - zavedenie transpozície pred termínom ktorý určuje smernica EÚ. ",$H45,"NA") -> NA | J45: =IF(I45>12,1,I45/12) -> 1 | K45: emitenti | L45: 19 | M45: =IF(L45="N",0,L45) -> 19 | N45: Out (znižuje náklady) | P45: 1000 | Q45: jednorazovo | R45: =VLOOKUP(Q45,vstupy!$B$3:$C$15,2,FALSE) -> 0.25 | U45: Vyberte frekvenciu | V45: =VLOOKUP(U45,vstupy!$B$3:$C$15,2,FALSE) -> 0 | X45: Vyberte typ povinnosti | Y45: Vyberte veľkosť | Z45: =VLOOKUP($X45,vstupy!$B$18:$F$31,MATCH($Y45,vstupy!$B$17:$F$17,0),0) -> 0 | AA45: Vyber | AB45: =VLOOKUP($AA45,vstupy!$B$34:$C$36,2,FALSE) -> 0 | AC45: =Z45+AB45 -> 0 | AD45: Vyberte frekvenciu | AE45: =VLOOKUP(AD45,vstupy!$B$3:$C$15,2,FALSE) -> 0 | AF45: =IFERROR(IF(M45=0,"N",O45/L45*J45),0) -> 0 | AG45: =O45*J45 -> 0 | AH45: =P45*R45*J45 -> 250 | AI45: =IFERROR(AH45*M45,0) -> 4750 | AJ45: =IFERROR(IF(M45=0,"N",S45/L45*J45),0) -> 0 | AK45: =S45*J45 -> 0 | AL45: =T45*V45*J45 -> 0 | AM45: =IFERROR(AL45*M45,0) -> 0 | AN45: =IF(W45>0,IF(AE45>0,($G$5/160)*(W45/60)*AE45*J45,0),IF(AE45>0,($G$5/160)*((AC45+AC46+AC47)/60)*AE45*J45,0)) -> 0 | AO45: =IFERROR(AN45*M45,0) -> 0 | AP45: =IF($N45="In (zvyšuje náklady)",AF45,0) -> 0 | AQ45: =IF($N45="In (zvyšuje náklady)",AG45,0) -> 0 | AR45: =IF($N45="In (zvyšuje náklady)",AH45,0) -> 0 | AS45: =IF($N45="In (zvyšuje náklady)",AI45,0) -> 0 | AT45: =IF($N45="In (zvyšuje náklady)",AJ45,0) -> 0 | AU45: =IF($N45="In (zvyšuje náklady)",AK45,0) -> 0 | AV45: =IF($N45="In (zvyšuje náklady)",AL45,0) -> 0 | AW45: =IF($N45="In (zvyšuje náklady)",AM45,0) -> 0 | ... AY45: =IF($N45="In (zvyšuje náklady)",AO45,0) -> 0 | AZ45: =IF($N45="Out (znižuje náklady)",AF45,"0") -> 0 | BA45: =IF($N45="Out (znižuje náklady)",AG45,"0") -> 0 | BB45: =IF($N45="Out (znižuje náklady)",AH45,"0") -> 250 | BC45: =IF($N45="Out (znižuje náklady)",AI45,"0") -> 4750 | BD45: =IF($N45="Out (znižuje náklady)",AJ45,"0") -> 0 | BE45: =IF($N45="Out (znižuje náklady)",AK45,"0") -> 0 | BF45: =IF($N45="Out (znižuje náklady)",AL45,"0") -> 0 | BG45: =IF($N45="Out (znižuje náklady)",AM45,"0") -> 0 | ... BI45: =IF($N45="Out (znižuje náklady)",AO45,"0") -> 0 | BJ45: =IF(F45=vstupy!$B$47,0,1) -> 1 | BK45: =$BJ45*AP45 -> 0 | BL45: =$BJ45*AQ45 -> 0 | BM45: =$BJ45*AR45 -> 0 | BN45: =$BJ45*AS45 -> 0 | BO45: =$BJ45*AT45 -> 0 | BP45: =$BJ45*AU45 -> 0 | BQ45: =$BJ45*AV45 -> 0 | BR45: =$BJ45*AW45 -> 0 | ... CD45: =$BJ45*BI45 -> 0 | CE45: =IF(N45="Nemení sa",1,0) -> 0 | CF45: =AG45*$CE45 -> 0 | CG45: =AI45*$CE45 -> 0 | CH45: =AK45*$CE45 -> 0 | CI45: =AM45*$CE45 -> 0 | CJ45: =AO45*$CE45 -> 0 | CK45: =SUM(CF45:CJ47) -> 0 | CL45: =IF(F45=vstupy!B$42,"1",0) -> 0 | CM45: =IF($CL45="1",AP45,0) -> 0 | CN45: =IF($CL45="1",AQ45,0) -> 0 | CO45: =IF($CL45="1",AR45,0) -> 0 | CP45: =IF($CL45="1",AS45,0) -> 0 | CQ45: =IF($CL45="1",AT45,0) -> 0 | CR45: =IF($CL45="1",AU45,0) -> 0 | CS45: =IF($CL45="1",AV45,0) -> 0 | CT45: =IF($CL45="1",AW45,0) -> 0 | ... CV45: =IF($CL45="1",AY45,0) -> 0 | CW45: =CP45+CT45+CV45 -> 0 | CX45: =CN45+CR45 -> 0 | CY45: =IF($CL45="1",AZ45,0) -> 0 | CZ45: =IF($CL45="1",BA45,0) -> 0 | DA45: =IF($CL45="1",BB45,0) -> 0 | DB45: =IF($CL45="1",BC45,0) -> 0 | DC45: =IF($CL45="1",BD45,0) -> 0 | DD45: =IF($CL45="1",BE45,0) -> 0 | DE45: =IF($CL45="1",BF45,0) -> 0 | DF45: =IF($CL45="1",BG45,0) -> 0 | ... DH45: =IF($CL45="1",BI45,0) -> 0 | DI45: =DB45+DF45+DH45 -> 0 | DJ45: =CZ45+DD45 -> 0 | DK45: =IF(CE45=0,1,0) -> 1 | DL45: =IFERROR(IF($AF45="N",AH45+AJ45+AL45+AN45,AF45+AH45+AJ45+AL45+AN45),0)*$DK45 -> 250 | DM45: =(AG45+AI45+AK45+AM45+AO45)*$DK45 -> 4750 | DN45: =AS45+AW45+AY45-CW45 -> 0 | DO45: =BC45+BG45+BI45-DI45 -> 4750 | DP45: =DN45+DO45 -> 4750 | DQ45: =IF(OR(F45=vstupy!B$40,F45=vstupy!B$41,F45=vstupy!B$42,),"0","1") -> 0 | DR45: =IF($DQ45="1",AQ45,"0")+CF45 -> 0 | DS45: =IF($DQ45="1",AS45,"0")+CG45 -> 0 | DT45: =IF($DQ45="1",AU45,"0")+CH45 -> 0 | DU45: =IF($DQ45="1",AW45,"0")+CI45 -> 0 | DV45: =IF($DQ45="1",AY45,"0")+CJ45 -> 0 | DW45: =SUM(DR45:DV47) -> 0 | DX45: =IF($DQ45="1",BA45,"0") -> 0 | DY45: =IF($DQ45="1",BC45,"0") -> 0 | DZ45: =IF($DQ45="1",BE45,"0") -> 0 | EA45: =IF($DQ45="1",BG45,"0") -> 0 | EB45: =IF($DQ45="1",BI45,"0") -> 0 | EC45: =SUM(DX45:EB47) -> 0 | ED45: =EC45+DW45 -> 0
X46: Vyberte typ povinnosti | Y46: Vyberte veľkosť | Z46: =VLOOKUP($X46,vstupy!$B$18:$F$31,MATCH($Y46,vstupy!$B$17:$F$17,0),0) -> 0 | AA46: Vyber | AB46: =VLOOKUP($AA46,vstupy!$B$34:$C$36,2,FALSE) -> 0 | AC46: =Z46+AB46 -> 0
X47: Vyberte typ povinnosti | Y47: Vyberte veľkosť | Z47: =VLOOKUP($X47,vstupy!$B$18:$F$31,MATCH($Y47,vstupy!$B$17:$F$17,0),0) -> 0 | AA47: Vyber | AB47: =VLOOKUP($AA47,vstupy!$B$34:$C$36,2,FALSE) -> 0 | AC47: =Z47+AB47 -> 0
B48: =B45+1 -> 14 | C48: vypustenie úkonu a poplatku za schválenie základného prospektu cenného papiera skladajúceho sa zo samostatných dokumentov, ak je žiadateľom emitent (špecifický symbol 2428 - iba v opatrení č. 5/2021 v znení opatrenia č. 8/2024) | D48: nariadenie (EÚ) 2017/1129 v platnom znení | E48: Čl. 8 a 20 | F48: 1.SK | G48: 46388 | H48: =IF($F48="3e) Skoršia transpozícia - zavedenie transpozície pred termínom ktorý určuje smernica EÚ. "," ","") | I48: =IF($F48="3e) Skoršia transpozícia - zavedenie transpozície pred termínom ktorý určuje smernica EÚ. ",$H48,"NA") -> NA | J48: =IF(I48>12,1,I48/12) -> 1 | K48: emitenti | L48: 0 | M48: =IF(L48="N",0,L48) -> 0 | N48: Out (znižuje náklady) | P48: 700 | Q48: jednorazovo | R48: =VLOOKUP(Q48,vstupy!$B$3:$C$15,2,FALSE) -> 0.25 | U48: Vyberte frekvenciu | V48: =VLOOKUP(U48,vstupy!$B$3:$C$15,2,FALSE) -> 0 | X48: Vyberte typ povinnosti | Y48: Vyberte veľkosť | Z48: =VLOOKUP($X48,vstupy!$B$18:$F$31,MATCH($Y48,vstupy!$B$17:$F$17,0),0) -> 0 | AA48: Vyber | AB48: =VLOOKUP($AA48,vstupy!$B$34:$C$36,2,FALSE) -> 0 | AC48: =Z48+AB48 -> 0 | AD48: Vyberte frekvenciu | AE48: =VLOOKUP(AD48,vstupy!$B$3:$C$15,2,FALSE) -> 0 | AF48: =IFERROR(IF(M48=0,"N",O48/L48*J48),0) -> N | AG48: =O48*J48 -> 0 | AH48: =P48*R48*J48 -> 175 | AI48: =IFERROR(AH48*M48,0) -> 0 | AJ48: =IFERROR(IF(M48=0,"N",S48/L48*J48),0) -> N | AK48: =S48*J48 -> 0 | AL48: =T48*V48*J48 -> 0 | AM48: =IFERROR(AL48*M48,0) -> 0 | AN48: =IF(W48>0,IF(AE48>0,($G$5/160)*(W48/60)*AE48*J48,0),IF(AE48>0,($G$5/160)*((AC48+AC49+AC50)/60)*AE48*J48,0)) -> 0 | AO48: =IFERROR(AN48*M48,0) -> 0 | AP48: =IF($N48="In (zvyšuje náklady)",AF48,0) -> 0 | AQ48: =IF($N48="In (zvyšuje náklady)",AG48,0) -> 0 | AR48: =IF($N48="In (zvyšuje náklady)",AH48,0) -> 0 | AS48: =IF($N48="In (zvyšuje náklady)",AI48,0) -> 0 | AT48: =IF($N48="In (zvyšuje náklady)",AJ48,0) -> 0 | AU48: =IF($N48="In (zvyšuje náklady)",AK48,0) -> 0 | AV48: =IF($N48="In (zvyšuje náklady)",AL48,0) -> 0 | AW48: =IF($N48="In (zvyšuje náklady)",AM48,0) -> 0 | ... AY48: =IF($N48="In (zvyšuje náklady)",AO48,0) -> 0 | AZ48: =IF($N48="Out (znižuje náklady)",AF48,"0") -> N | BA48: =IF($N48="Out (znižuje náklady)",AG48,"0") -> 0 | BB48: =IF($N48="Out (znižuje náklady)",AH48,"0") -> 175 | BC48: =IF($N48="Out (znižuje náklady)",AI48,"0") -> 0 | BD48: =IF($N48="Out (znižuje náklady)",AJ48,"0") -> N | BE48: =IF($N48="Out (znižuje náklady)",AK48,"0") -> 0 | BF48: =IF($N48="Out (znižuje náklady)",AL48,"0") -> 0 | BG48: =IF($N48="Out (znižuje náklady)",AM48,"0") -> 0 | ... BI48: =IF($N48="Out (znižuje náklady)",AO48,"0") -> 0 | BJ48: =IF(F48=vstupy!$B$47,0,1) -> 1 | BK48: =$BJ48*AP48 -> 0 | BL48: =$BJ48*AQ48 -> 0 | BM48: =$BJ48*AR48 -> 0 | BN48: =$BJ48*AS48 -> 0 | BO48: =$BJ48*AT48 -> 0 | BP48: =$BJ48*AU48 -> 0 | BQ48: =$BJ48*AV48 -> 0 | BR48: =$BJ48*AW48 -> 0 | ... CD48: =$BJ48*BI48 -> 0 | CE48: =IF(N48="Nemení sa",1,0) -> 0 | CF48: =AG48*$CE48 -> 0 | CG48: =AI48*$CE48 -> 0 | CH48: =AK48*$CE48 -> 0 | CI48: =AM48*$CE48 -> 0 | CJ48: =AO48*$CE48 -> 0 | CK48: =SUM(CF48:CJ50) -> 0 | CL48: =IF(F48=vstupy!B$42,"1",0) -> 0 | CM48: =IF($CL48="1",AP48,0) -> 0 | CN48: =IF($CL48="1",AQ48,0) -> 0 | CO48: =IF($CL48="1",AR48,0) -> 0 | CP48: =IF($CL48="1",AS48,0) -> 0 | CQ48: =IF($CL48="1",AT48,0) -> 0 | CR48: =IF($CL48="1",AU48,0) -> 0 | CS48: =IF($CL48="1",AV48,0) -> 0 | CT48: =IF($CL48="1",AW48,0) -> 0 | ... CV48: =IF($CL48="1",AY48,0) -> 0 | CW48: =CP48+CT48+CV48 -> 0 | CX48: =CN48+CR48 -> 0 | CY48: =IF($CL48="1",AZ48,0) -> 0 | CZ48: =IF($CL48="1",BA48,0) -> 0 | DA48: =IF($CL48="1",BB48,0) -> 0 | DB48: =IF($CL48="1",BC48,0) -> 0 | DC48: =IF($CL48="1",BD48,0) -> 0 | DD48: =IF($CL48="1",BE48,0) -> 0 | DE48: =IF($CL48="1",BF48,0) -> 0 | DF48: =IF($CL48="1",BG48,0) -> 0 | ... DH48: =IF($CL48="1",BI48,0) -> 0 | DI48: =DB48+DF48+DH48 -> 0 | DJ48: =CZ48+DD48 -> 0 | DK48: =IF(CE48=0,1,0) -> 1 | DL48: =IFERROR(IF($AF48="N",AH48+AJ48+AL48+AN48,AF48+AH48+AJ48+AL48+AN48),0)*$DK48 -> 0 | DM48: =(AG48+AI48+AK48+AM48+AO48)*$DK48 -> 0 | DN48: =AS48+AW48+AY48-CW48 -> 0 | DO48: =BC48+BG48+BI48-DI48 -> 0 | DP48: =DN48+DO48 -> 0 | DQ48: =IF(OR(F48=vstupy!B$40,F48=vstupy!B$41,F48=vstupy!B$42,),"0","1") -> 0 | DR48: =IF($DQ48="1",AQ48,"0")+CF48 -> 0 | DS48: =IF($DQ48="1",AS48,"0")+CG48 -> 0 | DT48: =IF($DQ48="1",AU48,"0")+CH48 -> 0 | DU48: =IF($DQ48="1",AW48,"0")+CI48 -> 0 | DV48: =IF($DQ48="1",AY48,"0")+CJ48 -> 0 | DW48: =SUM(DR48:DV50) -> 0 | DX48: =IF($DQ48="1",BA48,"0") -> 0 | DY48: =IF($DQ48="1",BC48,"0") -> 0 | DZ48: =IF($DQ48="1",BE48,"0") -> 0 | EA48: =IF($DQ48="1",BG48,"0") -> 0 | EB48: =IF($DQ48="1",BI48,"0") -> 0 | EC48: =SUM(DX48:EB50) -> 0 | ED48: =EC48+DW48 -> 0
X49: Vyberte typ povinnosti | Y49: Vyberte veľkosť | Z49: =VLOOKUP($X49,vstupy!$B$18:$F$31,MATCH($Y49,vstupy!$B$17:$F$17,0),0) -> 0 | AA49: Vyber | AB49: =VLOOKUP($AA49,vstupy!$B$34:$C$36,2,FALSE) -> 0 | AC49: =Z49+AB49 -> 0
X50: Vyberte typ povinnosti | Y50: Vyberte veľkosť | Z50: =VLOOKUP($X50,vstupy!$B$18:$F$31,MATCH($Y50,vstupy!$B$17:$F$17,0),0) -> 0 | AA50: Vyber | AB50: =VLOOKUP($AA50,vstupy!$B$34:$C$36,2,FALSE) -> 0 | AC50: =Z50+AB50 -> 0
B51: =B48+1 -> 15 | C51: vypustenie úkonu a poplatku za schválenie základného prospektu cenného papiera skladajúceho sa zo samostatných dokumentov, ak je žiadateľom emitent (špecifický symbol 2429 - iba v opatrení č. 5/2021 v znení opatrenia č. 8/2024) | D51: nariadenie (EÚ) 2017/1129 v platnom znení | E51: Čl. 8 a 20 | F51: 1.SK | G51: 46388 | H51: =IF($F51="3e) Skoršia transpozícia - zavedenie transpozície pred termínom ktorý určuje smernica EÚ. "," ","") | I51: =IF($F51="3e) Skoršia transpozícia - zavedenie transpozície pred termínom ktorý určuje smernica EÚ. ",$H51,"NA") -> NA | J51: =IF(I51>12,1,I51/12) -> 1 | K51: emitenti | L51: 0 | M51: =IF(L51="N",0,L51) -> 0 | N51: Out (znižuje náklady) | P51: 250 | Q51: jednorazovo | R51: =VLOOKUP(Q51,vstupy!$B$3:$C$15,2,FALSE) -> 0.25 | U51: Vyberte frekvenciu | V51: =VLOOKUP(U51,vstupy!$B$3:$C$15,2,FALSE) -> 0 | X51: Vyberte typ povinnosti | Y51: Vyberte veľkosť | Z51: =VLOOKUP($X51,vstupy!$B$18:$F$31,MATCH($Y51,vstupy!$B$17:$F$17,0),0) -> 0 | AA51: Vyber | AB51: =VLOOKUP($AA51,vstupy!$B$34:$C$36,2,FALSE) -> 0 | AC51: =Z51+AB51 -> 0 | AD51: Vyberte frekvenciu | AE51: =VLOOKUP(AD51,vstupy!$B$3:$C$15,2,FALSE) -> 0 | AF51: =IFERROR(IF(M51=0,"N",O51/L51*J51),0) -> N | AG51: =O51*J51 -> 0 | AH51: =P51*R51*J51 -> 62.5 | AI51: =IFERROR(AH51*M51,0) -> 0 | AJ51: =IFERROR(IF(M51=0,"N",S51/L51*J51),0) -> N | AK51: =S51*J51 -> 0 | AL51: =T51*V51*J51 -> 0 | AM51: =IFERROR(AL51*M51,0) -> 0 | AN51: =IF(W51>0,IF(AE51>0,($G$5/160)*(W51/60)*AE51*J51,0),IF(AE51>0,($G$5/160)*((AC51+AC52+AC53)/60)*AE51*J51,0)) -> 0 | AO51: =IFERROR(AN51*M51,0) -> 0 | AP51: =IF($N51="In (zvyšuje náklady)",AF51,0) -> 0 | AQ51: =IF($N51="In (zvyšuje náklady)",AG51,0) -> 0 | AR51: =IF($N51="In (zvyšuje náklady)",AH51,0) -> 0 | AS51: =IF($N51="In (zvyšuje náklady)",AI51,0) -> 0 | AT51: =IF($N51="In (zvyšuje náklady)",AJ51,0) -> 0 | AU51: =IF($N51="In (zvyšuje náklady)",AK51,0) -> 0 | AV51: =IF($N51="In (zvyšuje náklady)",AL51,0) -> 0 | AW51: =IF($N51="In (zvyšuje náklady)",AM51,0) -> 0 | ... AY51: =IF($N51="In (zvyšuje náklady)",AO51,0) -> 0 | AZ51: =IF($N51="Out (znižuje náklady)",AF51,"0") -> N | BA51: =IF($N51="Out (znižuje náklady)",AG51,"0") -> 0 | BB51: =IF($N51="Out (znižuje náklady)",AH51,"0") -> 62.5 | BC51: =IF($N51="Out (znižuje náklady)",AI51,"0") -> 0 | BD51: =IF($N51="Out (znižuje náklady)",AJ51,"0") -> N | BE51: =IF($N51="Out (znižuje náklady)",AK51,"0") -> 0 | BF51: =IF($N51="Out (znižuje náklady)",AL51,"0") -> 0 | BG51: =IF($N51="Out (znižuje náklady)",AM51,"0") -> 0 | ... BI51: =IF($N51="Out (znižuje náklady)",AO51,"0") -> 0 | BJ51: =IF(F51=vstupy!$B$47,0,1) -> 1 | BK51: =$BJ51*AP51 -> 0 | BL51: =$BJ51*AQ51 -> 0 | BM51: =$BJ51*AR51 -> 0 | BN51: =$BJ51*AS51 -> 0 | BO51: =$BJ51*AT51 -> 0 | BP51: =$BJ51*AU51 -> 0 | BQ51: =$BJ51*AV51 -> 0 | BR51: =$BJ51*AW51 -> 0 | ... CD51: =$BJ51*BI51 -> 0 | CE51: =IF(N51="Nemení sa",1,0) -> 0 | CF51: =AG51*$CE51 -> 0 | CG51: =AI51*$CE51 -> 0 | CH51: =AK51*$CE51 -> 0 | CI51: =AM51*$CE51 -> 0 | CJ51: =AO51*$CE51 -> 0 | CK51: =SUM(CF51:CJ53) -> 0 | CL51: =IF(F51=vstupy!B$42,"1",0) -> 0 | CM51: =IF($CL51="1",AP51,0) -> 0 | CN51: =IF($CL51="1",AQ51,0) -> 0 | CO51: =IF($CL51="1",AR51,0) -> 0 | CP51: =IF($CL51="1",AS51,0) -> 0 | CQ51: =IF($CL51="1",AT51,0) -> 0 | CR51: =IF($CL51="1",AU51,0) -> 0 | CS51: =IF($CL51="1",AV51,0) -> 0 | CT51: =IF($CL51="1",AW51,0) -> 0 | ... CV51: =IF($CL51="1",AY51,0) -> 0 | CW51: =CP51+CT51+CV51 -> 0 | CX51: =CN51+CR51 -> 0 | CY51: =IF($CL51="1",AZ51,0) -> 0 | CZ51: =IF($CL51="1",BA51,0) -> 0 | DA51: =IF($CL51="1",BB51,0) -> 0 | DB51: =IF($CL51="1",BC51,0) -> 0 | DC51: =IF($CL51="1",BD51,0) -> 0 | DD51: =IF($CL51="1",BE51,0) -> 0 | DE51: =IF($CL51="1",BF51,0) -> 0 | DF51: =IF($CL51="1",BG51,0) -> 0 | ... DH51: =IF($CL51="1",BI51,0) -> 0 | DI51: =DB51+DF51+DH51 -> 0 | DJ51: =CZ51+DD51 -> 0 | DK51: =IF(CE51=0,1,0) -> 1 | DL51: =IFERROR(IF($AF51="N",AH51+AJ51+AL51+AN51,AF51+AH51+AJ51+AL51+AN51),0)*$DK51 -> 0 | DM51: =(AG51+AI51+AK51+AM51+AO51)*$DK51 -> 0 | DN51: =AS51+AW51+AY51-CW51 -> 0 | DO51: =BC51+BG51+BI51-DI51 -> 0 | DP51: =DN51+DO51 -> 0 | DQ51: =IF(OR(F51=vstupy!B$40,F51=vstupy!B$41,F51=vstupy!B$42,),"0","1") -> 0 | DR51: =IF($DQ51="1",AQ51,"0")+CF51 -> 0 | DS51: =IF($DQ51="1",AS51,"0")+CG51 -> 0 | DT51: =IF($DQ51="1",AU51,"0")+CH51 -> 0 | DU51: =IF($DQ51="1",AW51,"0")+CI51 -> 0 | DV51: =IF($DQ51="1",AY51,"0")+CJ51 -> 0 | DW51: =SUM(DR51:DV53) -> 0 | DX51: =IF($DQ51="1",BA51,"0") -> 0 | DY51: =IF($DQ51="1",BC51,"0") -> 0 | DZ51: =IF($DQ51="1",BE51,"0") -> 0 | EA51: =IF($DQ51="1",BG51,"0") -> 0 | EB51: =IF($DQ51="1",BI51,"0") -> 0 | EC51: =SUM(DX51:EB53) -> 0 | ED51: =EC51+DW51 -> 0
X52: Vyberte typ povinnosti | Y52: Vyberte veľkosť | Z52: =VLOOKUP($X52,vstupy!$B$18:$F$31,MATCH($Y52,vstupy!$B$17:$F$17,0),0) -> 0 | AA52: Vyber | AB52: =VLOOKUP($AA52,vstupy!$B$34:$C$36,2,FALSE) -> 0 | AC52: =Z52+AB52 -> 0
X53: Vyberte typ povinnosti | Y53: Vyberte veľkosť | Z53: =VLOOKUP($X53,vstupy!$B$18:$F$31,MATCH($Y53,vstupy!$B$17:$F$17,0),0) -> 0 | AA53: Vyber | AB53: =VLOOKUP($AA53,vstupy!$B$34:$C$36,2,FALSE) -> 0 | AC53: =Z53+AB53 -> 0
B54: =B51+1 -> 16 | C54: vypustenie úkonu a poplatku za schválenie základného prospektu cenného papiera skladajúceho sa zo samostatných dokumentov, ak je žiadateľom emitent (špecifický symbol 2430 - iba v opatrení č. 5/2021 v znení opatrenia č. 8/2024) | D54: nariadenie (EÚ) 2017/1129 v platnom znení | E54: Čl. 8 a 20 | F54: 1.SK | G54: 46388 | H54: =IF($F54="3e) Skoršia transpozícia - zavedenie transpozície pred termínom ktorý určuje smernica EÚ. "," ","") | I54: =IF($F54="3e) Skoršia transpozícia - zavedenie transpozície pred termínom ktorý určuje smernica EÚ. ",$H54,"NA") -> NA | J54: =IF(I54>12,1,I54/12) -> 1 | K54: emitenti | L54: 0 | M54: =IF(L54="N",0,L54) -> 0 | N54: Out (znižuje náklady) | P54: 250 | Q54: jednorazovo | R54: =VLOOKUP(Q54,vstupy!$B$3:$C$15,2,FALSE) -> 0.25 | U54: Vyberte frekvenciu | V54: =VLOOKUP(U54,vstupy!$B$3:$C$15,2,FALSE) -> 0 | X54: Vyberte typ povinnosti | Y54: Vyberte veľkosť | Z54: =VLOOKUP($X54,vstupy!$B$18:$F$31,MATCH($Y54,vstupy!$B$17:$F$17,0),0) -> 0 | AA54: Vyber | AB54: =VLOOKUP($AA54,vstupy!$B$34:$C$36,2,FALSE) -> 0 | AC54: =Z54+AB54 -> 0 | AD54: Vyberte frekvenciu | AE54: =VLOOKUP(AD54,vstupy!$B$3:$C$15,2,FALSE) -> 0 | AF54: =IFERROR(IF(M54=0,"N",O54/L54*J54),0) -> N | AG54: =O54*J54 -> 0 | AH54: =P54*R54*J54 -> 62.5 | AI54: =IFERROR(AH54*M54,0) -> 0 | AJ54: =IFERROR(IF(M54=0,"N",S54/L54*J54),0) -> N | AK54: =S54*J54 -> 0 | AL54: =T54*V54*J54 -> 0 | AM54: =IFERROR(AL54*M54,0) -> 0 | AN54: =IF(W54>0,IF(AE54>0,($G$5/160)*(W54/60)*AE54*J54,0),IF(AE54>0,($G$5/160)*((AC54+AC55+AC56)/60)*AE54*J54,0)) -> 0 | AO54: =IFERROR(AN54*M54,0) -> 0 | AP54: =IF($N54="In (zvyšuje náklady)",AF54,0) -> 0 | AQ54: =IF($N54="In (zvyšuje náklady)",AG54,0) -> 0 | AR54: =IF($N54="In (zvyšuje náklady)",AH54,0) -> 0 | AS54: =IF($N54="In (zvyšuje náklady)",AI54,0) -> 0 | AT54: =IF($N54="In (zvyšuje náklady)",AJ54,0) -> 0 | AU54: =IF($N54="In (zvyšuje náklady)",AK54,0) -> 0 | AV54: =IF($N54="In (zvyšuje náklady)",AL54,0) -> 0 | AW54: =IF($N54="In (zvyšuje náklady)",AM54,0) -> 0 | ... AY54: =IF($N54="In (zvyšuje náklady)",AO54,0) -> 0 | AZ54: =IF($N54="Out (znižuje náklady)",AF54,"0") -> N | BA54: =IF($N54="Out (znižuje náklady)",AG54,"0") -> 0 | BB54: =IF($N54="Out (znižuje náklady)",AH54,"0") -> 62.5 | BC54: =IF($N54="Out (znižuje náklady)",AI54,"0") -> 0 | BD54: =IF($N54="Out (znižuje náklady)",AJ54,"0") -> N | BE54: =IF($N54="Out (znižuje náklady)",AK54,"0") -> 0 | BF54: =IF($N54="Out (znižuje náklady)",AL54,"0") -> 0 | BG54: =IF($N54="Out (znižuje náklady)",AM54,"0") -> 0 | ... BI54: =IF($N54="Out (znižuje náklady)",AO54,"0") -> 0 | BJ54: =IF(F54=vstupy!$B$47,0,1) -> 1 | BK54: =$BJ54*AP54 -> 0 | BL54: =$BJ54*AQ54 -> 0 | BM54: =$BJ54*AR54 -> 0 | BN54: =$BJ54*AS54 -> 0 | BO54: =$BJ54*AT54 -> 0 | BP54: =$BJ54*AU54 -> 0 | BQ54: =$BJ54*AV54 -> 0 | BR54: =$BJ54*AW54 -> 0 | ... CD54: =$BJ54*BI54 -> 0 | CE54: =IF(N54="Nemení sa",1,0) -> 0 | CF54: =AG54*$CE54 -> 0 | CG54: =AI54*$CE54 -> 0 | CH54: =AK54*$CE54 -> 0 | CI54: =AM54*$CE54 -> 0 | CJ54: =AO54*$CE54 -> 0 | CK54: =SUM(CF54:CJ56) -> 0 | CL54: =IF(F54=vstupy!B$42,"1",0) -> 0 | CM54: =IF($CL54="1",AP54,0) -> 0 | CN54: =IF($CL54="1",AQ54,0) -> 0 | CO54: =IF($CL54="1",AR54,0) -> 0 | CP54: =IF($CL54="1",AS54,0) -> 0 | CQ54: =IF($CL54="1",AT54,0) -> 0 | CR54: =IF($CL54="1",AU54,0) -> 0 | CS54: =IF($CL54="1",AV54,0) -> 0 | CT54: =IF($CL54="1",AW54,0) -> 0 | ... CV54: =IF($CL54="1",AY54,0) -> 0 | CW54: =CP54+CT54+CV54 -> 0 | CX54: =CN54+CR54 -> 0 | CY54: =IF($CL54="1",AZ54,0) -> 0 | CZ54: =IF($CL54="1",BA54,0) -> 0 | DA54: =IF($CL54="1",BB54,0) -> 0 | DB54: =IF($CL54="1",BC54,0) -> 0 | DC54: =IF($CL54="1",BD54,0) -> 0 | DD54: =IF($CL54="1",BE54,0) -> 0 | DE54: =IF($CL54="1",BF54,0) -> 0 | DF54: =IF($CL54="1",BG54,0) -> 0 | ... DH54: =IF($CL54="1",BI54,0) -> 0 | DI54: =DB54+DF54+DH54 -> 0 | DJ54: =CZ54+DD54 -> 0 | DK54: =IF(CE54=0,1,0) -> 1 | DL54: =IFERROR(IF($AF54="N",AH54+AJ54+AL54+AN54,AF54+AH54+AJ54+AL54+AN54),0)*$DK54 -> 0 | DM54: =(AG54+AI54+AK54+AM54+AO54)*$DK54 -> 0 | DN54: =AS54+AW54+AY54-CW54 -> 0 | DO54: =BC54+BG54+BI54-DI54 -> 0 | DP54: =DN54+DO54 -> 0 | DQ54: =IF(OR(F54=vstupy!B$40,F54=vstupy!B$41,F54=vstupy!B$42,),"0","1") -> 0 | DR54: =IF($DQ54="1",AQ54,"0")+CF54 -> 0 | DS54: =IF($DQ54="1",AS54,"0")+CG54 -> 0 | DT54: =IF($DQ54="1",AU54,"0")+CH54 -> 0 | DU54: =IF($DQ54="1",AW54,"0")+CI54 -> 0 | DV54: =IF($DQ54="1",AY54,"0")+CJ54 -> 0 | DW54: =SUM(DR54:DV56) -> 0 | DX54: =IF($DQ54="1",BA54,"0") -> 0 | DY54: =IF($DQ54="1",BC54,"0") -> 0 | DZ54: =IF($DQ54="1",BE54,"0") -> 0 | EA54: =IF($DQ54="1",BG54,"0") -> 0 | EB54: =IF($DQ54="1",BI54,"0") -> 0 | EC54: =SUM(DX54:EB56) -> 0 | ED54: =EC54+DW54 -> 0
X55: Vyberte typ povinnosti | Y55: Vyberte veľkosť | Z55: =VLOOKUP($X55,vstupy!$B$18:$F$31,MATCH($Y55,vstupy!$B$17:$F$17,0),0) -> 0 | AA55: Vyber | AB55: =VLOOKUP($AA55,vstupy!$B$34:$C$36,2,FALSE) -> 0 | AC55: =Z55+AB55 -> 0
X56: Vyberte typ povinnosti | Y56: Vyberte veľkosť | Z56: =VLOOKUP($X56,vstupy!$B$18:$F$31,MATCH($Y56,vstupy!$B$17:$F$17,0),0) -> 0 | AA56: Vyber | AB56: =VLOOKUP($AA56,vstupy!$B$34:$C$36,2,FALSE) -> 0 | AC56: =Z56+AB56 -> 0
B57: =B54+1 -> 17 | C57: vypustenie úkonu a poplatku za schválenie základného prospektu cenného papiera vypracovaného ako jeden dokument, ak žiadateľom je vyhlasovateľ verejnej ponuky cenných papierov, ktorý nie je emitentom cenných papierov, ktoré sú predmetom verejnej ponuky cenných papierov, alebo osoba, ktorá nie je emitentom žiadajúca o prijatie na obchodovanie na regulovanom trhu (špecifický symbol 2431 - iba v opatrení č. 5/2021 v znení opatrenia č. 8/2024) | D57: nariadenie (EÚ) 2017/1129 v platnom znení | E57: Čl. 8 a 20 | F57: 1.SK | G57: 46388 | H57: =IF($F57="3e) Skoršia transpozícia - zavedenie transpozície pred termínom ktorý určuje smernica EÚ. "," ","") | I57: =IF($F57="3e) Skoršia transpozícia - zavedenie transpozície pred termínom ktorý určuje smernica EÚ. ",$H57,"NA") -> NA | J57: =IF(I57>12,1,I57/12) -> 1 | K57: vyhlasovatelia verejnej ponuky cenných papierov, ktorí nie sú emitentmi cenných papierov, ktoré sú predmetom verejnej ponuky cenných papierov a osoby, ktoré nie sú emitentmi žiadajúce o prijatie na obchodovanie na regulovanom trhu | L57: 0 | M57: =IF(L57="N",0,L57) -> 0 | N57: Out (znižuje náklady) | P57: 200 | Q57: jednorazovo | R57: =VLOOKUP(Q57,vstupy!$B$3:$C$15,2,FALSE) -> 0.25 | U57: Vyberte frekvenciu | V57: =VLOOKUP(U57,vstupy!$B$3:$C$15,2,FALSE) -> 0 | X57: Vyberte typ povinnosti | Y57: Vyberte veľkosť | Z57: =VLOOKUP($X57,vstupy!$B$18:$F$31,MATCH($Y57,vstupy!$B$17:$F$17,0),0) -> 0 | AA57: Vyber | AB57: =VLOOKUP($AA57,vstupy!$B$34:$C$36,2,FALSE) -> 0 | AC57: =Z57+AB57 -> 0 | AD57: Vyberte frekvenciu | AE57: =VLOOKUP(AD57,vstupy!$B$3:$C$15,2,FALSE) -> 0 | AF57: =IFERROR(IF(M57=0,"N",O57/L57*J57),0) -> N | AG57: =O57*J57 -> 0 | AH57: =P57*R57*J57 -> 50 | AI57: =IFERROR(AH57*M57,0) -> 0 | AJ57: =IFERROR(IF(M57=0,"N",S57/L57*J57),0) -> N | AK57: =S57*J57 -> 0 | AL57: =T57*V57*J57 -> 0 | AM57: =IFERROR(AL57*M57,0) -> 0 | AN57: =IF(W57>0,IF(AE57>0,($G$5/160)*(W57/60)*AE57*J57,0),IF(AE57>0,($G$5/160)*((AC57+AC58+AC59)/60)*AE57*J57,0)) -> 0 | AO57: =IFERROR(AN57*M57,0) -> 0 | AP57: =IF($N57="In (zvyšuje náklady)",AF57,0) -> 0 | AQ57: =IF($N57="In (zvyšuje náklady)",AG57,0) -> 0 | AR57: =IF($N57="In (zvyšuje náklady)",AH57,0) -> 0 | AS57: =IF($N57="In (zvyšuje náklady)",AI57,0) -> 0 | AT57: =IF($N57="In (zvyšuje náklady)",AJ57,0) -> 0 | AU57: =IF($N57="In (zvyšuje náklady)",AK57,0) -> 0 | AV57: =IF($N57="In (zvyšuje náklady)",AL57,0) -> 0 | AW57: =IF($N57="In (zvyšuje náklady)",AM57,0) -> 0 | ... AY57: =IF($N57="In (zvyšuje náklady)",AO57,0) -> 0 | AZ57: =IF($N57="Out (znižuje náklady)",AF57,"0") -> N | BA57: =IF($N57="Out (znižuje náklady)",AG57,"0") -> 0 | BB57: =IF($N57="Out (znižuje náklady)",AH57,"0") -> 50 | BC57: =IF($N57="Out (znižuje náklady)",AI57,"0") -> 0 | BD57: =IF($N57="Out (znižuje náklady)",AJ57,"0") -> N | BE57: =IF($N57="Out (znižuje náklady)",AK57,"0") -> 0 | BF57: =IF($N57="Out (znižuje náklady)",AL57,"0") -> 0 | BG57: =IF($N57="Out (znižuje náklady)",AM57,"0") -> 0 | ... BI57: =IF($N57="Out (znižuje náklady)",AO57,"0") -> 0 | BJ57: =IF(F57=vstupy!$B$47,0,1) -> 1 | BK57: =$BJ57*AP57 -> 0 | BL57: =$BJ57*AQ57 -> 0 | BM57: =$BJ57*AR57 -> 0 | BN57: =$BJ57*AS57 -> 0 | BO57: =$BJ57*AT57 -> 0 | BP57: =$BJ57*AU57 -> 0 | BQ57: =$BJ57*AV57 -> 0 | BR57: =$BJ57*AW57 -> 0 | ... CD57: =$BJ57*BI57 -> 0 | CE57: =IF(N57="Nemení sa",1,0) -> 0 | CF57: =AG57*$CE57 -> 0 | CG57: =AI57*$CE57 -> 0 | CH57: =AK57*$CE57 -> 0 | CI57: =AM57*$CE57 -> 0 | CJ57: =AO57*$CE57 -> 0 | CK57: =SUM(CF57:CJ59) -> 0 | CL57: =IF(F57=vstupy!B$42,"1",0) -> 0 | CM57: =IF($CL57="1",AP57,0) -> 0 | CN57: =IF($CL57="1",AQ57,0) -> 0 | CO57: =IF($CL57="1",AR57,0) -> 0 | CP57: =IF($CL57="1",AS57,0) -> 0 | CQ57: =IF($CL57="1",AT57,0) -> 0 | CR57: =IF($CL57="1",AU57,0) -> 0 | CS57: =IF($CL57="1",AV57,0) -> 0 | CT57: =IF($CL57="1",AW57,0) -> 0 | ... CV57: =IF($CL57="1",AY57,0) -> 0 | CW57: =CP57+CT57+CV57 -> 0 | CX57: =CN57+CR57 -> 0 | CY57: =IF($CL57="1",AZ57,0) -> 0 | CZ57: =IF($CL57="1",BA57,0) -> 0 | DA57: =IF($CL57="1",BB57,0) -> 0 | DB57: =IF($CL57="1",BC57,0) -> 0 | DC57: =IF($CL57="1",BD57,0) -> 0 | DD57: =IF($CL57="1",BE57,0) -> 0 | DE57: =IF($CL57="1",BF57,0) -> 0 | DF57: =IF($CL57="1",BG57,0) -> 0 | ... DH57: =IF($CL57="1",BI57,0) -> 0 | DI57: =DB57+DF57+DH57 -> 0 | DJ57: =CZ57+DD57 -> 0 | DK57: =IF(CE57=0,1,0) -> 1 | DL57: =IFERROR(IF($AF57="N",AH57+AJ57+AL57+AN57,AF57+AH57+AJ57+AL57+AN57),0)*$DK57 -> 0 | DM57: =(AG57+AI57+AK57+AM57+AO57)*$DK57 -> 0 | DN57: =AS57+AW57+AY57-CW57 -> 0 | DO57: =BC57+BG57+BI57-DI57 -> 0 | DP57: =DN57+DO57 -> 0 | DQ57: =IF(OR(F57=vstupy!B$40,F57=vstupy!B$41,F57=vstupy!B$42,),"0","1") -> 0 | DR57: =IF($DQ57="1",AQ57,"0")+CF57 -> 0 | DS57: =IF($DQ57="1",AS57,"0")+CG57 -> 0 | DT57: =IF($DQ57="1",AU57,"0")+CH57 -> 0 | DU57: =IF($DQ57="1",AW57,"0")+CI57 -> 0 | DV57: =IF($DQ57="1",AY57,"0")+CJ57 -> 0 | DW57: =SUM(DR57:DV59) -> 0 | DX57: =IF($DQ57="1",BA57,"0") -> 0 | DY57: =IF($DQ57="1",BC57,"0") -> 0 | DZ57: =IF($DQ57="1",BE57,"0") -> 0 | EA57: =IF($DQ57="1",BG57,"0") -> 0 | EB57: =IF($DQ57="1",BI57,"0") -> 0 | EC57: =SUM(DX57:EB59) -> 0 | ED57: =EC57+DW57 -> 0
X58: Vyberte typ povinnosti | Y58: Vyberte veľkosť | Z58: =VLOOKUP($X58,vstupy!$B$18:$F$31,MATCH($Y58,vstupy!$B$17:$F$17,0),0) -> 0 | AA58: Vyber | AB58: =VLOOKUP($AA58,vstupy!$B$34:$C$36,2,FALSE) -> 0 | AC58: =Z58+AB58 -> 0
X59: Vyberte typ povinnosti | Y59: Vyberte veľkosť | Z59: =VLOOKUP($X59,vstupy!$B$18:$F$31,MATCH($Y59,vstupy!$B$17:$F$17,0),0) -> 0 | AA59: Vyber | AB59: =VLOOKUP($AA59,vstupy!$B$34:$C$36,2,FALSE) -> 0 | AC59: =Z59+AB59 -> 0
B60: =B57+1 -> 18 | C60: vypustenie úkonu a poplatku za schválenie základného prospektu cenného papiera skladajúceho sa zo samostatných dokumentov, ak žiadateľom je vyhlasovateľ verejnej ponuky cenných papierov, ktorý nie je emitentom cenných papierov, ktoré sú predmetom verejnej ponuky cenných papierov, alebo osoba, ktorá nie je emitentom žiadajúca o prijatie na obchodovanie na regulovanom trhu (špecifický symbol 2432 - iba v opatrení č. 5/2021 v znení opatrenia č. 8/2024) | D60: nariadenie (EÚ) 2017/1129 v platnom znení | E60: Čl. 8 a 21 | F60: 1.SK | G60: 46388 | H60: =IF($F60="3e) Skoršia transpozícia - zavedenie transpozície pred termínom ktorý určuje smernica EÚ. "," ","") | I60: =IF($F60="3e) Skoršia transpozícia - zavedenie transpozície pred termínom ktorý určuje smernica EÚ. ",$H60,"NA") -> NA | J60: =IF(I60>12,1,I60/12) -> 1 | K60: vyhlasovatelia verejnej ponuky cenných papierov, ktorí nie sú emitentmi cenných papierov, ktoré sú predmetom verejnej ponuky cenných papierov a osoby, ktoré nie sú emitentmi žiadajúce o prijatie na obchodovanie na regulovanom trhu | L60: 0 | M60: =IF(L60="N",0,L60) -> 0 | N60: Out (znižuje náklady) | P60: 100 | Q60: jednorazovo | R60: =VLOOKUP(Q60,vstupy!$B$3:$C$15,2,FALSE) -> 0.25 | U60: Vyberte frekvenciu | V60: =VLOOKUP(U60,vstupy!$B$3:$C$15,2,FALSE) -> 0 | X60: Vyberte typ povinnosti | Y60: Vyberte veľkosť | Z60: =VLOOKUP($X60,vstupy!$B$18:$F$31,MATCH($Y60,vstupy!$B$17:$F$17,0),0) -> 0 | AA60: Vyber | AB60: =VLOOKUP($AA60,vstupy!$B$34:$C$36,2,FALSE) -> 0 | AC60: =Z60+AB60 -> 0 | AD60: Vyberte frekvenciu | AE60: =VLOOKUP(AD60,vstupy!$B$3:$C$15,2,FALSE) -> 0 | AF60: =IFERROR(IF(M60=0,"N",O60/L60*J60),0) -> N | AG60: =O60*J60 -> 0 | AH60: =P60*R60*J60 -> 25 | AI60: =IFERROR(AH60*M60,0) -> 0 | AJ60: =IFERROR(IF(M60=0,"N",S60/L60*J60),0) -> N | AK60: =S60*J60 -> 0 | AL60: =T60*V60*J60 -> 0 | AM60: =IFERROR(AL60*M60,0) -> 0 | AN60: =IF(W60>0,IF(AE60>0,($G$5/160)*(W60/60)*AE60*J60,0),IF(AE60>0,($G$5/160)*((AC60+AC61+AC62)/60)*AE60*J60,0)) -> 0 | AO60: =IFERROR(AN60*M60,0) -> 0 | AP60: =IF($N60="In (zvyšuje náklady)",AF60,0) -> 0 | AQ60: =IF($N60="In (zvyšuje náklady)",AG60,0) -> 0 | AR60: =IF($N60="In (zvyšuje náklady)",AH60,0) -> 0 | AS60: =IF($N60="In (zvyšuje náklady)",AI60,0) -> 0 | AT60: =IF($N60="In (zvyšuje náklady)",AJ60,0) -> 0 | AU60: =IF($N60="In (zvyšuje náklady)",AK60,0) -> 0 | AV60: =IF($N60="In (zvyšuje náklady)",AL60,0) -> 0 | AW60: =IF($N60="In (zvyšuje náklady)",AM60,0) -> 0 | ... AY60: =IF($N60="In (zvyšuje náklady)",AO60,0) -> 0 | AZ60: =IF($N60="Out (znižuje náklady)",AF60,"0") -> N | BA60: =IF($N60="Out (znižuje náklady)",AG60,"0") -> 0 | BB60: =IF($N60="Out (znižuje náklady)",AH60,"0") -> 25 | BC60: =IF($N60="Out (znižuje náklady)",AI60,"0") -> 0 | BD60: =IF($N60="Out (znižuje náklady)",AJ60,"0") -> N | BE60: =IF($N60="Out (znižuje náklady)",AK60,"0") -> 0 | BF60: =IF($N60="Out (znižuje náklady)",AL60,"0") -> 0 | BG60: =IF($N60="Out (znižuje náklady)",AM60,"0") -> 0 | ... BI60: =IF($N60="Out (znižuje náklady)",AO60,"0") -> 0 | BJ60: =IF(F60=vstupy!$B$47,0,1) -> 1 | BK60: =$BJ60*AP60 -> 0 | BL60: =$BJ60*AQ60 -> 0 | BM60: =$BJ60*AR60 -> 0 | BN60: =$BJ60*AS60 -> 0 | BO60: =$BJ60*AT60 -> 0 | BP60: =$BJ60*AU60 -> 0 | BQ60: =$BJ60*AV60 -> 0 | BR60: =$BJ60*AW60 -> 0 | ... CD60: =$BJ60*BI60 -> 0 | CE60: =IF(N60="Nemení sa",1,0) -> 0 | CF60: =AG60*$CE60 -> 0 | CG60: =AI60*$CE60 -> 0 | CH60: =AK60*$CE60 -> 0 | CI60: =AM60*$CE60 -> 0 | CJ60: =AO60*$CE60 -> 0 | CK60: =SUM(CF60:CJ62) -> 0 | CL60: =IF(F60=vstupy!B$42,"1",0) -> 0 | CM60: =IF($CL60="1",AP60,0) -> 0 | CN60: =IF($CL60="1",AQ60,0) -> 0 | CO60: =IF($CL60="1",AR60,0) -> 0 | CP60: =IF($CL60="1",AS60,0) -> 0 | CQ60: =IF($CL60="1",AT60,0) -> 0 | CR60: =IF($CL60="1",AU60,0) -> 0 | CS60: =IF($CL60="1",AV60,0) -> 0 | CT60: =IF($CL60="1",AW60,0) -> 0 | ... CV60: =IF($CL60="1",AY60,0) -> 0 | CW60: =CP60+CT60+CV60 -> 0 | CX60: =CN60+CR60 -> 0 | CY60: =IF($CL60="1",AZ60,0) -> 0 | CZ60: =IF($CL60="1",BA60,0) -> 0 | DA60: =IF($CL60="1",BB60,0) -> 0 | DB60: =IF($CL60="1",BC60,0) -> 0 | DC60: =IF($CL60="1",BD60,0) -> 0 | DD60: =IF($CL60="1",BE60,0) -> 0 | DE60: =IF($CL60="1",BF60,0) -> 0 | DF60: =IF($CL60="1",BG60,0) -> 0 | ... DH60: =IF($CL60="1",BI60,0) -> 0 | DI60: =DB60+DF60+DH60 -> 0 | DJ60: =CZ60+DD60 -> 0 | DK60: =IF(CE60=0,1,0) -> 1 | DL60: =IFERROR(IF($AF60="N",AH60+AJ60+AL60+AN60,AF60+AH60+AJ60+AL60+AN60),0)*$DK60 -> 0 | DM60: =(AG60+AI60+AK60+AM60+AO60)*$DK60 -> 0 | DN60: =AS60+AW60+AY60-CW60 -> 0 | DO60: =BC60+BG60+BI60-DI60 -> 0 | DP60: =DN60+DO60 -> 0 | DQ60: =IF(OR(F60=vstupy!B$40,F60=vstupy!B$41,F60=vstupy!B$42,),"0","1") -> 0 | DR60: =IF($DQ60="1",AQ60,"0")+CF60 -> 0 | DS60: =IF($DQ60="1",AS60,"0")+CG60 -> 0 | DT60: =IF($DQ60="1",AU60,"0")+CH60 -> 0 | DU60: =IF($DQ60="1",AW60,"0")+CI60 -> 0 | DV60: =IF($DQ60="1",AY60,"0")+CJ60 -> 0 | DW60: =SUM(DR60:DV62) -> 0 | DX60: =IF($DQ60="1",BA60,"0") -> 0 | DY60: =IF($DQ60="1",BC60,"0") -> 0 | DZ60: =IF($DQ60="1",BE60,"0") -> 0 | EA60: =IF($DQ60="1",BG60,"0") -> 0 | EB60: =IF($DQ60="1",BI60,"0") -> 0 | EC60: =SUM(DX60:EB62) -> 0 | ED60: =EC60+DW60 -> 0
X61: Vyberte typ povinnosti | Y61: Vyberte veľkosť | Z61: =VLOOKUP($X61,vstupy!$B$18:$F$31,MATCH($Y61,vstupy!$B$17:$F$17,0),0) -> 0 | AA61: Vyber | AB61: =VLOOKUP($AA61,vstupy!$B$34:$C$36,2,FALSE) -> 0 | AC61: =Z61+AB61 -> 0
X62: Vyberte typ povinnosti | Y62: Vyberte veľkosť | Z62: =VLOOKUP($X62,vstupy!$B$18:$F$31,MATCH($Y62,vstupy!$B$17:$F$17,0),0) -> 0 | AA62: Vyber | AB62: =VLOOKUP($AA62,vstupy!$B$34:$C$36,2,FALSE) -> 0 | AC62: =Z62+AB62 -> 0
B63: =B60+1 -> 19 | C63: vypustenie úkonu a poplatku za schválenie základného prospektu cenného papiera skladajúceho sa zo samostatných dokumentov, ak žiadateľom je vyhlasovateľ verejnej ponuky cenných papierov, ktorý nie je emitentom cenných papierov, ktoré sú predmetom verejnej ponuky cenných papierov, alebo osoba, ktorá nie je emitentom žiadajúca o prijatie na obchodovanie na regulovanom trhu (špecifický symbol 2433 - iba v opatrení č. 5/2021 v znení opatrenia č. 8/2024) | D63: nariadenie (EÚ) 2017/1129 v platnom znení | E63: Čl. 8 a 22 | F63: 1.SK | G63: 46388 | H63: =IF($F63="3e) Skoršia transpozícia - zavedenie transpozície pred termínom ktorý určuje smernica EÚ. "," ","") | I63: =IF($F63="3e) Skoršia transpozícia - zavedenie transpozície pred termínom ktorý určuje smernica EÚ. ",$H63,"NA") -> NA | J63: =IF(I63>12,1,I63/12) -> 1 | K63: vyhlasovatelia verejnej ponuky cenných papierov, ktorí nie sú emitentmi cenných papierov, ktoré sú predmetom verejnej ponuky cenných papierov a osoby, ktoré nie sú emitentmi žiadajúce o prijatie na obchodovanie na regulovanom trhu | L63: 0 | M63: =IF(L63="N",0,L63) -> 0 | N63: Out (znižuje náklady) | P63: 60 | Q63: jednorazovo | R63: =VLOOKUP(Q63,vstupy!$B$3:$C$15,2,FALSE) -> 0.25 | U63: Vyberte frekvenciu | V63: =VLOOKUP(U63,vstupy!$B$3:$C$15,2,FALSE) -> 0 | X63: Vyberte typ povinnosti | Y63: Vyberte veľkosť | Z63: =VLOOKUP($X63,vstupy!$B$18:$F$31,MATCH($Y63,vstupy!$B$17:$F$17,0),0) -> 0 | AA63: Vyber | AB63: =VLOOKUP($AA63,vstupy!$B$34:$C$36,2,FALSE) -> 0 | AC63: =Z63+AB63 -> 0 | AD63: Vyberte frekvenciu | AE63: =VLOOKUP(AD63,vstupy!$B$3:$C$15,2,FALSE) -> 0 | AF63: =IFERROR(IF(M63=0,"N",O63/L63*J63),0) -> N | AG63: =O63*J63 -> 0 | AH63: =P63*R63*J63 -> 15 | AI63: =IFERROR(AH63*M63,0) -> 0 | AJ63: =IFERROR(IF(M63=0,"N",S63/L63*J63),0) -> N | AK63: =S63*J63 -> 0 | AL63: =T63*V63*J63 -> 0 | AM63: =IFERROR(AL63*M63,0) -> 0 | AN63: =IF(W63>0,IF(AE63>0,($G$5/160)*(W63/60)*AE63*J63,0),IF(AE63>0,($G$5/160)*((AC63+AC64+AC65)/60)*AE63*J63,0)) -> 0 | AO63: =IFERROR(AN63*M63,0) -> 0 | AP63: =IF($N63="In (zvyšuje náklady)",AF63,0) -> 0 | AQ63: =IF($N63="In (zvyšuje náklady)",AG63,0) -> 0 | AR63: =IF($N63="In (zvyšuje náklady)",AH63,0) -> 0 | AS63: =IF($N63="In (zvyšuje náklady)",AI63,0) -> 0 | AT63: =IF($N63="In (zvyšuje náklady)",AJ63,0) -> 0 | AU63: =IF($N63="In (zvyšuje náklady)",AK63,0) -> 0 | AV63: =IF($N63="In (zvyšuje náklady)",AL63,0) -> 0 | AW63: =IF($N63="In (zvyšuje náklady)",AM63,0) -> 0 | ... AY63: =IF($N63="In (zvyšuje náklady)",AO63,0) -> 0 | AZ63: =IF($N63="Out (znižuje náklady)",AF63,"0") -> N | BA63: =IF($N63="Out (znižuje náklady)",AG63,"0") -> 0 | BB63: =IF($N63="Out (znižuje náklady)",AH63,"0") -> 15 | BC63: =IF($N63="Out (znižuje náklady)",AI63,"0") -> 0 | BD63: =IF($N63="Out (znižuje náklady)",AJ63,"0") -> N | BE63: =IF($N63="Out (znižuje náklady)",AK63,"0") -> 0 | BF63: =IF($N63="Out (znižuje náklady)",AL63,"0") -> 0 | BG63: =IF($N63="Out (znižuje náklady)",AM63,"0") -> 0 | ... BI63: =IF($N63="Out (znižuje náklady)",AO63,"0") -> 0 | BJ63: =IF(F63=vstupy!$B$47,0,1) -> 1 | BK63: =$BJ63*AP63 -> 0 | BL63: =$BJ63*AQ63 -> 0 | BM63: =$BJ63*AR63 -> 0 | BN63: =$BJ63*AS63 -> 0 | BO63: =$BJ63*AT63 -> 0 | BP63: =$BJ63*AU63 -> 0 | BQ63: =$BJ63*AV63 -> 0 | BR63: =$BJ63*AW63 -> 0 | ... CD63: =$BJ63*BI63 -> 0 | CE63: =IF(N63="Nemení sa",1,0) -> 0 | CF63: =AG63*$CE63 -> 0 | CG63: =AI63*$CE63 -> 0 | CH63: =AK63*$CE63 -> 0 | CI63: =AM63*$CE63 -> 0 | CJ63: =AO63*$CE63 -> 0 | CK63: =SUM(CF63:CJ65) -> 0 | CL63: =IF(F63=vstupy!B$42,"1",0) -> 0 | CM63: =IF($CL63="1",AP63,0) -> 0 | CN63: =IF($CL63="1",AQ63,0) -> 0 | CO63: =IF($CL63="1",AR63,0) -> 0 | CP63: =IF($CL63="1",AS63,0) -> 0 | CQ63: =IF($CL63="1",AT63,0) -> 0 | CR63: =IF($CL63="1",AU63,0) -> 0 | CS63: =IF($CL63="1",AV63,0) -> 0 | CT63: =IF($CL63="1",AW63,0) -> 0 | ... CV63: =IF($CL63="1",AY63,0) -> 0 | CW63: =CP63+CT63+CV63 -> 0 | CX63: =CN63+CR63 -> 0 | CY63: =IF($CL63="1",AZ63,0) -> 0 | CZ63: =IF($CL63="1",BA63,0) -> 0 | DA63: =IF($CL63="1",BB63,0) -> 0 | DB63: =IF($CL63="1",BC63,0) -> 0 | DC63: =IF($CL63="1",BD63,0) -> 0 | DD63: =IF($CL63="1",BE63,0) -> 0 | DE63: =IF($CL63="1",BF63,0) -> 0 | DF63: =IF($CL63="1",BG63,0) -> 0 | ... DH63: =IF($CL63="1",BI63,0) -> 0 | DI63: =DB63+DF63+DH63 -> 0 | DJ63: =CZ63+DD63 -> 0 | DK63: =IF(CE63=0,1,0) -> 1 | DL63: =IFERROR(IF($AF63="N",AH63+AJ63+AL63+AN63,AF63+AH63+AJ63+AL63+AN63),0)*$DK63 -> 0 | DM63: =(AG63+AI63+AK63+AM63+AO63)*$DK63 -> 0 | DN63: =AS63+AW63+AY63-CW63 -> 0 | DO63: =BC63+BG63+BI63-DI63 -> 0 | DP63: =DN63+DO63 -> 0 | DQ63: =IF(OR(F63=vstupy!B$40,F63=vstupy!B$41,F63=vstupy!B$42,),"0","1") -> 0 | DR63: =IF($DQ63="1",AQ63,"0")+CF63 -> 0 | DS63: =IF($DQ63="1",AS63,"0")+CG63 -> 0 | DT63: =IF($DQ63="1",AU63,"0")+CH63 -> 0 | DU63: =IF($DQ63="1",AW63,"0")+CI63 -> 0 | DV63: =IF($DQ63="1",AY63,"0")+CJ63 -> 0 | DW63: =SUM(DR63:DV65) -> 0 | DX63: =IF($DQ63="1",BA63,"0") -> 0 | DY63: =IF($DQ63="1",BC63,"0") -> 0 | DZ63: =IF($DQ63="1",BE63,"0") -> 0 | EA63: =IF($DQ63="1",BG63,"0") -> 0 | EB63: =IF($DQ63="1",BI63,"0") -> 0 | EC63: =SUM(DX63:EB65) -> 0 | ED63: =EC63+DW63 -> 0
X64: Vyberte typ povinnosti | Y64: Vyberte veľkosť | Z64: =VLOOKUP($X64,vstupy!$B$18:$F$31,MATCH($Y64,vstupy!$B$17:$F$17,0),0) -> 0 | AA64: Vyber | AB64: =VLOOKUP($AA64,vstupy!$B$34:$C$36,2,FALSE) -> 0 | AC64: =Z64+AB64 -> 0
X65: Vyberte typ povinnosti | Y65: Vyberte veľkosť | Z65: =VLOOKUP($X65,vstupy!$B$18:$F$31,MATCH($Y65,vstupy!$B$17:$F$17,0),0) -> 0 | AA65: Vyber | AB65: =VLOOKUP($AA65,vstupy!$B$34:$C$36,2,FALSE) -> 0 | AC65: =Z65+AB65 -> 0
B66: =B63+1 -> 20 | C66: vypustenie úkonu a poplatku za schválenie základného prospektu cenného papiera skladajúceho sa zo samostatných dokumentov, ak žiadateľom je vyhlasovateľ verejnej ponuky cenných papierov, ktorý nie je emitentom cenných papierov, ktoré sú predmetom verejnej ponuky cenných papierov, alebo osoba, ktorá nie je emitentom žiadajúca o prijatie na obchodovanie na regulovanom trhu (špecifický symbol 2434 - iba v opatrení č. 5/2021 v znení opatrenia č. 8/2024) | D66: nariadenie (EÚ) 2017/1129 v platnom znení | E66: Čl. 8 a 23 | F66: 1.SK | G66: 46388 | H66: =IF($F66="3e) Skoršia transpozícia - zavedenie transpozície pred termínom ktorý určuje smernica EÚ. "," ","") | I66: =IF($F66="3e) Skoršia transpozícia - zavedenie transpozície pred termínom ktorý určuje smernica EÚ. ",$H66,"NA") -> NA | J66: =IF(I66>12,1,I66/12) -> 1 | K66: vyhlasovatelia verejnej ponuky cenných papierov, ktorí nie sú emitentmi cenných papierov, ktoré sú predmetom verejnej ponuky cenných papierov a osoby, ktoré nie sú emitentmi žiadajúce o prijatie na obchodovanie na regulovanom trhu | L66: 0 | M66: =IF(L66="N",0,L66) -> 0 | N66: Out (znižuje náklady) | P66: 60 | Q66: jednorazovo | R66: =VLOOKUP(Q66,vstupy!$B$3:$C$15,2,FALSE) -> 0.25 | U66: Vyberte frekvenciu | V66: =VLOOKUP(U66,vstupy!$B$3:$C$15,2,FALSE) -> 0 | X66: Vyberte typ povinnosti | Y66: Vyberte veľkosť | Z66: =VLOOKUP($X66,vstupy!$B$18:$F$31,MATCH($Y66,vstupy!$B$17:$F$17,0),0) -> 0 | AA66: Vyber | AB66: =VLOOKUP($AA66,vstupy!$B$34:$C$36,2,FALSE) -> 0 | AC66: =Z66+AB66 -> 0 | AD66: Vyberte frekvenciu | AE66: =VLOOKUP(AD66,vstupy!$B$3:$C$15,2,FALSE) -> 0 | AF66: =IFERROR(IF(M66=0,"N",O66/L66*J66),0) -> N | AG66: =O66*J66 -> 0 | AH66: =P66*R66*J66 -> 15 | AI66: =IFERROR(AH66*M66,0) -> 0 | AJ66: =IFERROR(IF(M66=0,"N",S66/L66*J66),0) -> N | AK66: =S66*J66 -> 0 | AL66: =T66*V66*J66 -> 0 | AM66: =IFERROR(AL66*M66,0) -> 0 | AN66: =IF(W66>0,IF(AE66>0,($G$5/160)*(W66/60)*AE66*J66,0),IF(AE66>0,($G$5/160)*((AC66+AC67+AC68)/60)*AE66*J66,0)) -> 0 | AO66: =IFERROR(AN66*M66,0) -> 0 | AP66: =IF($N66="In (zvyšuje náklady)",AF66,0) -> 0 | AQ66: =IF($N66="In (zvyšuje náklady)",AG66,0) -> 0 | AR66: =IF($N66="In (zvyšuje náklady)",AH66,0) -> 0 | AS66: =IF($N66="In (zvyšuje náklady)",AI66,0) -> 0 | AT66: =IF($N66="In (zvyšuje náklady)",AJ66,0) -> 0 | AU66: =IF($N66="In (zvyšuje náklady)",AK66,0) -> 0 | AV66: =IF($N66="In (zvyšuje náklady)",AL66,0) -> 0 | AW66: =IF($N66="In (zvyšuje náklady)",AM66,0) -> 0 | ... AY66: =IF($N66="In (zvyšuje náklady)",AO66,0) -> 0 | AZ66: =IF($N66="Out (znižuje náklady)",AF66,"0") -> N | BA66: =IF($N66="Out (znižuje náklady)",AG66,"0") -> 0 | BB66: =IF($N66="Out (znižuje náklady)",AH66,"0") -> 15 | BC66: =IF($N66="Out (znižuje náklady)",AI66,"0") -> 0 | BD66: =IF($N66="Out (znižuje náklady)",AJ66,"0") -> N | BE66: =IF($N66="Out (znižuje náklady)",AK66,"0") -> 0 | BF66: =IF($N66="Out (znižuje náklady)",AL66,"0") -> 0 | BG66: =IF($N66="Out (znižuje náklady)",AM66,"0") -> 0 | ... BI66: =IF($N66="Out (znižuje náklady)",AO66,"0") -> 0 | BJ66: =IF(F66=vstupy!$B$47,0,1) -> 1 | BK66: =$BJ66*AP66 -> 0 | BL66: =$BJ66*AQ66 -> 0 | BM66: =$BJ66*AR66 -> 0 | BN66: =$BJ66*AS66 -> 0 | BO66: =$BJ66*AT66 -> 0 | BP66: =$BJ66*AU66 -> 0 | BQ66: =$BJ66*AV66 -> 0 | BR66: =$BJ66*AW66 -> 0 | ... CD66: =$BJ66*BI66 -> 0 | CE66: =IF(N66="Nemení sa",1,0) -> 0 | CF66: =AG66*$CE66 -> 0 | CG66: =AI66*$CE66 -> 0 | CH66: =AK66*$CE66 -> 0 | CI66: =AM66*$CE66 -> 0 | CJ66: =AO66*$CE66 -> 0 | CK66: =SUM(CF66:CJ68) -> 0 | CL66: =IF(F66=vstupy!B$42,"1",0) -> 0 | CM66: =IF($CL66="1",AP66,0) -> 0 | CN66: =IF($CL66="1",AQ66,0) -> 0 | CO66: =IF($CL66="1",AR66,0) -> 0 | CP66: =IF($CL66="1",AS66,0) -> 0 | CQ66: =IF($CL66="1",AT66,0) -> 0 | CR66: =IF($CL66="1",AU66,0) -> 0 | CS66: =IF($CL66="1",AV66,0) -> 0 | CT66: =IF($CL66="1",AW66,0) -> 0 | ... CV66: =IF($CL66="1",AY66,0) -> 0 | CW66: =CP66+CT66+CV66 -> 0 | CX66: =CN66+CR66 -> 0 | CY66: =IF($CL66="1",AZ66,0) -> 0 | CZ66: =IF($CL66="1",BA66,0) -> 0 | DA66: =IF($CL66="1",BB66,0) -> 0 | DB66: =IF($CL66="1",BC66,0) -> 0 | DC66: =IF($CL66="1",BD66,0) -> 0 | DD66: =IF($CL66="1",BE66,0) -> 0 | DE66: =IF($CL66="1",BF66,0) -> 0 | DF66: =IF($CL66="1",BG66,0) -> 0 | ... DH66: =IF($CL66="1",BI66,0) -> 0 | DI66: =DB66+DF66+DH66 -> 0 | DJ66: =CZ66+DD66 -> 0 | DK66: =IF(CE66=0,1,0) -> 1 | DL66: =IFERROR(IF($AF66="N",AH66+AJ66+AL66+AN66,AF66+AH66+AJ66+AL66+AN66),0)*$DK66 -> 0 | DM66: =(AG66+AI66+AK66+AM66+AO66)*$DK66 -> 0 | DN66: =AS66+AW66+AY66-CW66 -> 0 | DO66: =BC66+BG66+BI66-DI66 -> 0 | DP66: =DN66+DO66 -> 0 | DQ66: =IF(OR(F66=vstupy!B$40,F66=vstupy!B$41,F66=vstupy!B$42,),"0","1") -> 0 | DR66: =IF($DQ66="1",AQ66,"0")+CF66 -> 0 | DS66: =IF($DQ66="1",AS66,"0")+CG66 -> 0 | DT66: =IF($DQ66="1",AU66,"0")+CH66 -> 0 | DU66: =IF($DQ66="1",AW66,"0")+CI66 -> 0 | DV66: =IF($DQ66="1",AY66,"0")+CJ66 -> 0 | DW66: =SUM(DR66:DV68) -> 0 | DX66: =IF($DQ66="1",BA66,"0") -> 0 | DY66: =IF($DQ66="1",BC66,"0") -> 0 | DZ66: =IF($DQ66="1",BE66,"0") -> 0 | EA66: =IF($DQ66="1",BG66,"0") -> 0 | EB66: =IF($DQ66="1",BI66,"0") -> 0 | EC66: =SUM(DX66:EB68) -> 0 | ED66: =EC66+DW66 -> 0
X67: Vyberte typ povinnosti | Y67: Vyberte veľkosť | Z67: =VLOOKUP($X67,vstupy!$B$18:$F$31,MATCH($Y67,vstupy!$B$17:$F$17,0),0) -> 0 | AA67: Vyber | AB67: =VLOOKUP($AA67,vstupy!$B$34:$C$36,2,FALSE) -> 0 | AC67: =Z67+AB67 -> 0
X68: Vyberte typ povinnosti | Y68: Vyberte veľkosť | Z68: =VLOOKUP($X68,vstupy!$B$18:$F$31,MATCH($Y68,vstupy!$B$17:$F$17,0),0) -> 0 | AA68: Vyber | AB68: =VLOOKUP($AA68,vstupy!$B$34:$C$36,2,FALSE) -> 0 | AC68: =Z68+AB68 -> 0
B69: =B66+1 -> 21 | C69: vypustenie úkonu a poplatku za schválenie prospektu cenného papiera vypracovaného ako jeden dokument, ak je žiadateľom emitent (špecifický symbol 2411 - iba v opatrení č. 5/2021 v znení opatrenia č. 8/2024) | D69: nariadenie (EÚ) 2017/1129 v platnom znení | E69: Čl. 6 a 20 | F69: 1.SK | G69: 46388 | H69: =IF($F69="3e) Skoršia transpozícia - zavedenie transpozície pred termínom ktorý určuje smernica EÚ. "," ","") | I69: =IF($F69="3e) Skoršia transpozícia - zavedenie transpozície pred termínom ktorý určuje smernica EÚ. ",$H69,"NA") -> NA | J69: =IF(I69>12,1,I69/12) -> 1 | K69: emitenti | L69: 29 | M69: =IF(L69="N",0,L69) -> 29 | N69: Out (znižuje náklady) | P69: 650 | Q69: jednorazovo | R69: =VLOOKUP(Q69,vstupy!$B$3:$C$15,2,FALSE) -> 0.25 | U69: Vyberte frekvenciu | V69: =VLOOKUP(U69,vstupy!$B$3:$C$15,2,FALSE) -> 0 | X69: Vyberte typ povinnosti | Y69: Vyberte veľkosť | Z69: =VLOOKUP($X69,vstupy!$B$18:$F$31,MATCH($Y69,vstupy!$B$17:$F$17,0),0) -> 0 | AA69: Vyber | AB69: =VLOOKUP($AA69,vstupy!$B$34:$C$36,2,FALSE) -> 0 | AC69: =Z69+AB69 -> 0 | AD69: Vyberte frekvenciu | AE69: =VLOOKUP(AD69,vstupy!$B$3:$C$15,2,FALSE) -> 0 | AF69: =IFERROR(IF(M69=0,"N",O69/L69*J69),0) -> 0 | AG69: =O69*J69 -> 0 | AH69: =P69*R69*J69 -> 162.5 | AI69: =IFERROR(AH69*M69,0) -> 4712.5 | AJ69: =IFERROR(IF(M69=0,"N",S69/L69*J69),0) -> 0 | AK69: =S69*J69 -> 0 | AL69: =T69*V69*J69 -> 0 | AM69: =IFERROR(AL69*M69,0) -> 0 | AN69: =IF(W69>0,IF(AE69>0,($G$5/160)*(W69/60)*AE69*J69,0),IF(AE69>0,($G$5/160)*((AC69+AC70+AC71)/60)*AE69*J69,0)) -> 0 | AO69: =IFERROR(AN69*M69,0) -> 0 | AP69: =IF($N69="In (zvyšuje náklady)",AF69,0) -> 0 | AQ69: =IF($N69="In (zvyšuje náklady)",AG69,0) -> 0 | AR69: =IF($N69="In (zvyšuje náklady)",AH69,0) -> 0 | AS69: =IF($N69="In (zvyšuje náklady)",AI69,0) -> 0 | AT69: =IF($N69="In (zvyšuje náklady)",AJ69,0) -> 0 | AU69: =IF($N69="In (zvyšuje náklady)",AK69,0) -> 0 | AV69: =IF($N69="In (zvyšuje náklady)",AL69,0) -> 0 | AW69: =IF($N69="In (zvyšuje náklady)",AM69,0) -> 0 | ... AY69: =IF($N69="In (zvyšuje náklady)",AO69,0) -> 0 | AZ69: =IF($N69="Out (znižuje náklady)",AF69,"0") -> 0 | BA69: =IF($N69="Out (znižuje náklady)",AG69,"0") -> 0 | BB69: =IF($N69="Out (znižuje náklady)",AH69,"0") -> 162.5 | BC69: =IF($N69="Out (znižuje náklady)",AI69,"0") -> 4712.5 | BD69: =IF($N69="Out (znižuje náklady)",AJ69,"0") -> 0 | BE69: =IF($N69="Out (znižuje náklady)",AK69,"0") -> 0 | BF69: =IF($N69="Out (znižuje náklady)",AL69,"0") -> 0 | BG69: =IF($N69="Out (znižuje náklady)",AM69,"0") -> 0 | ... BI69: =IF($N69="Out (znižuje náklady)",AO69,"0") -> 0 | BJ69: =IF(F69=vstupy!$B$47,0,1) -> 1 | BK69: =$BJ69*AP69 -> 0 | BL69: =$BJ69*AQ69 -> 0 | BM69: =$BJ69*AR69 -> 0 | BN69: =$BJ69*AS69 -> 0 | BO69: =$BJ69*AT69 -> 0 | BP69: =$BJ69*AU69 -> 0 | BQ69: =$BJ69*AV69 -> 0 | BR69: =$BJ69*AW69 -> 0 | ... CD69: =$BJ69*BI69 -> 0 | CE69: =IF(N69="Nemení sa",1,0) -> 0 | CF69: =AG69*$CE69 -> 0 | CG69: =AI69*$CE69 -> 0 | CH69: =AK69*$CE69 -> 0 | CI69: =AM69*$CE69 -> 0 | CJ69: =AO69*$CE69 -> 0 | CK69: =SUM(CF69:CJ71) -> 0 | CL69: =IF(F69=vstupy!B$42,"1",0) -> 0 | CM69: =IF($CL69="1",AP69,0) -> 0 | CN69: =IF($CL69="1",AQ69,0) -> 0 | CO69: =IF($CL69="1",AR69,0) -> 0 | CP69: =IF($CL69="1",AS69,0) -> 0 | CQ69: =IF($CL69="1",AT69,0) -> 0 | CR69: =IF($CL69="1",AU69,0) -> 0 | CS69: =IF($CL69="1",AV69,0) -> 0 | CT69: =IF($CL69="1",AW69,0) -> 0 | ... CV69: =IF($CL69="1",AY69,0) -> 0 | CW69: =CP69+CT69+CV69 -> 0 | CX69: =CN69+CR69 -> 0 | CY69: =IF($CL69="1",AZ69,0) -> 0 | CZ69: =IF($CL69="1",BA69,0) -> 0 | DA69: =IF($CL69="1",BB69,0) -> 0 | DB69: =IF($CL69="1",BC69,0) -> 0 | DC69: =IF($CL69="1",BD69,0) -> 0 | DD69: =IF($CL69="1",BE69,0) -> 0 | DE69: =IF($CL69="1",BF69,0) -> 0 | DF69: =IF($CL69="1",BG69,0) -> 0 | ... DH69: =IF($CL69="1",BI69,0) -> 0 | DI69: =DB69+DF69+DH69 -> 0 | DJ69: =CZ69+DD69 -> 0 | DK69: =IF(CE69=0,1,0) -> 1 | DL69: =IFERROR(IF($AF69="N",AH69+AJ69+AL69+AN69,AF69+AH69+AJ69+AL69+AN69),0)*$DK69 -> 162.5 | DM69: =(AG69+AI69+AK69+AM69+AO69)*$DK69 -> 4712.5 | DN69: =AS69+AW69+AY69-CW69 -> 0 | DO69: =BC69+BG69+BI69-DI69 -> 4712.5 | DP69: =DN69+DO69 -> 4712.5 | DQ69: =IF(OR(F69=vstupy!B$40,F69=vstupy!B$41,F69=vstupy!B$42,),"0","1") -> 0 | DR69: =IF($DQ69="1",AQ69,"0")+CF69 -> 0 | DS69: =IF($DQ69="1",AS69,"0")+CG69 -> 0 | DT69: =IF($DQ69="1",AU69,"0")+CH69 -> 0 | DU69: =IF($DQ69="1",AW69,"0")+CI69 -> 0 | DV69: =IF($DQ69="1",AY69,"0")+CJ69 -> 0 | DW69: =SUM(DR69:DV71) -> 0 | DX69: =IF($DQ69="1",BA69,"0") -> 0 | DY69: =IF($DQ69="1",BC69,"0") -> 0 | DZ69: =IF($DQ69="1",BE69,"0") -> 0 | EA69: =IF($DQ69="1",BG69,"0") -> 0 | EB69: =IF($DQ69="1",BI69,"0") -> 0 | EC69: =SUM(DX69:EB71) -> 0 | ED69: =EC69+DW69 -> 0
X70: Vyberte typ povinnosti | Y70: Vyberte veľkosť | Z70: =VLOOKUP($X70,vstupy!$B$18:$F$31,MATCH($Y70,vstupy!$B$17:$F$17,0),0) -> 0 | AA70: Vyber | AB70: =VLOOKUP($AA70,vstupy!$B$34:$C$36,2,FALSE) -> 0 | AC70: =Z70+AB70 -> 0
X71: Vyberte typ povinnosti | Y71: Vyberte veľkosť | Z71: =VLOOKUP($X71,vstupy!$B$18:$F$31,MATCH($Y71,vstupy!$B$17:$F$17,0),0) -> 0 | AA71: Vyber | AB71: =VLOOKUP($AA71,vstupy!$B$34:$C$36,2,FALSE) -> 0 | AC71: =Z71+AB71 -> 0
B72: =B69+1 -> 22 | C72: vypustenie úkonu a poplatku za schválenie prospektu cenného papiera skladajúceho sa zo samostatných dokumentov, ak je žiadateľom emitent (špecifický symbol 2412 - iba v opatrení č. 5/2021 v znení opatrenia č. 8/2024) | D72: nariadenie (EÚ) 2017/1129 v platnom znení | E72: Čl. 10 a 20 | F72: 1.SK | G72: 46388 | H72: =IF($F72="3e) Skoršia transpozícia - zavedenie transpozície pred termínom ktorý určuje smernica EÚ. "," ","") | I72: =IF($F72="3e) Skoršia transpozícia - zavedenie transpozície pred termínom ktorý určuje smernica EÚ. ",$H72,"NA") -> NA | J72: =IF(I72>12,1,I72/12) -> 1 | K72: emitenti | L72: 0 | M72: =IF(L72="N",0,L72) -> 0 | N72: Out (znižuje náklady) | P72: 350 | Q72: jednorazovo | R72: =VLOOKUP(Q72,vstupy!$B$3:$C$15,2,FALSE) -> 0.25 | U72: Vyberte frekvenciu | V72: =VLOOKUP(U72,vstupy!$B$3:$C$15,2,FALSE) -> 0 | X72: Vyberte typ povinnosti | Y72: Vyberte veľkosť | Z72: =VLOOKUP($X72,vstupy!$B$18:$F$31,MATCH($Y72,vstupy!$B$17:$F$17,0),0) -> 0 | AA72: Vyber | AB72: =VLOOKUP($AA72,vstupy!$B$34:$C$36,2,FALSE) -> 0 | AC72: =Z72+AB72 -> 0 | AD72: Vyberte frekvenciu | AE72: =VLOOKUP(AD72,vstupy!$B$3:$C$15,2,FALSE) -> 0 | AF72: =IFERROR(IF(M72=0,"N",O72/L72*J72),0) -> N | AG72: =O72*J72 -> 0 | AH72: =P72*R72*J72 -> 87.5 | AI72: =IFERROR(AH72*M72,0) -> 0 | AJ72: =IFERROR(IF(M72=0,"N",S72/L72*J72),0) -> N | AK72: =S72*J72 -> 0 | AL72: =T72*V72*J72 -> 0 | AM72: =IFERROR(AL72*M72,0) -> 0 | AN72: =IF(W72>0,IF(AE72>0,($G$5/160)*(W72/60)*AE72*J72,0),IF(AE72>0,($G$5/160)*((AC72+AC73+AC74)/60)*AE72*J72,0)) -> 0 | AO72: =IFERROR(AN72*M72,0) -> 0 | AP72: =IF($N72="In (zvyšuje náklady)",AF72,0) -> 0 | AQ72: =IF($N72="In (zvyšuje náklady)",AG72,0) -> 0 | AR72: =IF($N72="In (zvyšuje náklady)",AH72,0) -> 0 | AS72: =IF($N72="In (zvyšuje náklady)",AI72,0) -> 0 | AT72: =IF($N72="In (zvyšuje náklady)",AJ72,0) -> 0 | AU72: =IF($N72="In (zvyšuje náklady)",AK72,0) -> 0 | AV72: =IF($N72="In (zvyšuje náklady)",AL72,0) -> 0 | AW72: =IF($N72="In (zvyšuje náklady)",AM72,0) -> 0 | ... AY72: =IF($N72="In (zvyšuje náklady)",AO72,0) -> 0 | AZ72: =IF($N72="Out (znižuje náklady)",AF72,"0") -> N | BA72: =IF($N72="Out (znižuje náklady)",AG72,"0") -> 0 | BB72: =IF($N72="Out (znižuje náklady)",AH72,"0") -> 87.5 | BC72: =IF($N72="Out (znižuje náklady)",AI72,"0") -> 0 | BD72: =IF($N72="Out (znižuje náklady)",AJ72,"0") -> N | BE72: =IF($N72="Out (znižuje náklady)",AK72,"0") -> 0 | BF72: =IF($N72="Out (znižuje náklady)",AL72,"0") -> 0 | BG72: =IF($N72="Out (znižuje náklady)",AM72,"0") -> 0 | ... BI72: =IF($N72="Out (znižuje náklady)",AO72,"0") -> 0 | BJ72: =IF(F72=vstupy!$B$47,0,1) -> 1 | BK72: =$BJ72*AP72 -> 0 | BL72: =$BJ72*AQ72 -> 0 | BM72: =$BJ72*AR72 -> 0 | BN72: =$BJ72*AS72 -> 0 | BO72: =$BJ72*AT72 -> 0 | BP72: =$BJ72*AU72 -> 0 | BQ72: =$BJ72*AV72 -> 0 | BR72: =$BJ72*AW72 -> 0 | ... CD72: =$BJ72*BI72 -> 0 | CE72: =IF(N72="Nemení sa",1,0) -> 0 | CF72: =AG72*$CE72 -> 0 | CG72: =AI72*$CE72 -> 0 | CH72: =AK72*$CE72 -> 0 | CI72: =AM72*$CE72 -> 0 | CJ72: =AO72*$CE72 -> 0 | CK72: =SUM(CF72:CJ74) -> 0 | CL72: =IF(F72=vstupy!B$42,"1",0) -> 0 | CM72: =IF($CL72="1",AP72,0) -> 0 | CN72: =IF($CL72="1",AQ72,0) -> 0 | CO72: =IF($CL72="1",AR72,0) -> 0 | CP72: =IF($CL72="1",AS72,0) -> 0 | CQ72: =IF($CL72="1",AT72,0) -> 0 | CR72: =IF($CL72="1",AU72,0) -> 0 | CS72: =IF($CL72="1",AV72,0) -> 0 | CT72: =IF($CL72="1",AW72,0) -> 0 | ... CV72: =IF($CL72="1",AY72,0) -> 0 | CW72: =CP72+CT72+CV72 -> 0 | CX72: =CN72+CR72 -> 0 | CY72: =IF($CL72="1",AZ72,0) -> 0 | CZ72: =IF($CL72="1",BA72,0) -> 0 | DA72: =IF($CL72="1",BB72,0) -> 0 | DB72: =IF($CL72="1",BC72,0) -> 0 | DC72: =IF($CL72="1",BD72,0) -> 0 | DD72: =IF($CL72="1",BE72,0) -> 0 | DE72: =IF($CL72="1",BF72,0) -> 0 | DF72: =IF($CL72="1",BG72,0) -> 0 | ... DH72: =IF($CL72="1",BI72,0) -> 0 | DI72: =DB72+DF72+DH72 -> 0 | DJ72: =CZ72+DD72 -> 0 | DK72: =IF(CE72=0,1,0) -> 1 | DL72: =IFERROR(IF($AF72="N",AH72+AJ72+AL72+AN72,AF72+AH72+AJ72+AL72+AN72),0)*$DK72 -> 0 | DM72: =(AG72+AI72+AK72+AM72+AO72)*$DK72 -> 0 | DN72: =AS72+AW72+AY72-CW72 -> 0 | DO72: =BC72+BG72+BI72-DI72 -> 0 | DP72: =DN72+DO72 -> 0 | DQ72: =IF(OR(F72=vstupy!B$40,F72=vstupy!B$41,F72=vstupy!B$42,),"0","1") -> 0 | DR72: =IF($DQ72="1",AQ72,"0")+CF72 -> 0 | DS72: =IF($DQ72="1",AS72,"0")+CG72 -> 0 | DT72: =IF($DQ72="1",AU72,"0")+CH72 -> 0 | DU72: =IF($DQ72="1",AW72,"0")+CI72 -> 0 | DV72: =IF($DQ72="1",AY72,"0")+CJ72 -> 0 | DW72: =SUM(DR72:DV74) -> 0 | DX72: =IF($DQ72="1",BA72,"0") -> 0 | DY72: =IF($DQ72="1",BC72,"0") -> 0 | DZ72: =IF($DQ72="1",BE72,"0") -> 0 | EA72: =IF($DQ72="1",BG72,"0") -> 0 | EB72: =IF($DQ72="1",BI72,"0") -> 0 | EC72: =SUM(DX72:EB74) -> 0 | ED72: =EC72+DW72 -> 0
X73: Vyberte typ povinnosti | Y73: Vyberte veľkosť | Z73: =VLOOKUP($X73,vstupy!$B$18:$F$31,MATCH($Y73,vstupy!$B$17:$F$17,0),0) -> 0 | AA73: Vyber | AB73: =VLOOKUP($AA73,vstupy!$B$34:$C$36,2,FALSE) -> 0 | AC73: =Z73+AB73 -> 0
X74: Vyberte typ povinnosti | Y74: Vyberte veľkosť | Z74: =VLOOKUP($X74,vstupy!$B$18:$F$31,MATCH($Y74,vstupy!$B$17:$F$17,0),0) -> 0 | AA74: Vyber | AB74: =VLOOKUP($AA74,vstupy!$B$34:$C$36,2,FALSE) -> 0 | AC74: =Z74+AB74 -> 0
B75: =B72+1 -> 23 | C75: vypustenie úkonu a poplatku za schválenie prospektu cenného papiera skladajúceho sa zo samostatných dokumentov, ak je žiadateľom emitent (špecifický symbol 2413 - iba v opatrení č. 5/2021 v znení opatrenia č. 8/2024) | D75: nariadenie (EÚ) 2017/1129 v platnom znení | E75: Čl. 10 a 20 | F75: 1.SK | G75: 46388 | H75: =IF($F75="3e) Skoršia transpozícia - zavedenie transpozície pred termínom ktorý určuje smernica EÚ. "," ","") | I75: =IF($F75="3e) Skoršia transpozícia - zavedenie transpozície pred termínom ktorý určuje smernica EÚ. ",$H75,"NA") -> NA | J75: =IF(I75>12,1,I75/12) -> 1 | K75: emitenti | L75: 0 | M75: =IF(L75="N",0,L75) -> 0 | N75: Out (znižuje náklady) | P75: 175 | Q75: jednorazovo | R75: =VLOOKUP(Q75,vstupy!$B$3:$C$15,2,FALSE) -> 0.25 | U75: Vyberte frekvenciu | V75: =VLOOKUP(U75,vstupy!$B$3:$C$15,2,FALSE) -> 0 | X75: Vyberte typ povinnosti | Y75: Vyberte veľkosť | Z75: =VLOOKUP($X75,vstupy!$B$18:$F$31,MATCH($Y75,vstupy!$B$17:$F$17,0),0) -> 0 | AA75: Vyber | AB75: =VLOOKUP($AA75,vstupy!$B$34:$C$36,2,FALSE) -> 0 | AC75: =Z75+AB75 -> 0 | AD75: Vyberte frekvenciu | AE75: =VLOOKUP(AD75,vstupy!$B$3:$C$15,2,FALSE) -> 0 | AF75: =IFERROR(IF(M75=0,"N",O75/L75*J75),0) -> N | AG75: =O75*J75 -> 0 | AH75: =P75*R75*J75 -> 43.75 | AI75: =IFERROR(AH75*M75,0) -> 0 | AJ75: =IFERROR(IF(M75=0,"N",S75/L75*J75),0) -> N | AK75: =S75*J75 -> 0 | AL75: =T75*V75*J75 -> 0 | AM75: =IFERROR(AL75*M75,0) -> 0 | AN75: =IF(W75>0,IF(AE75>0,($G$5/160)*(W75/60)*AE75*J75,0),IF(AE75>0,($G$5/160)*((AC75+AC76+AC77)/60)*AE75*J75,0)) -> 0 | AO75: =IFERROR(AN75*M75,0) -> 0 | AP75: =IF($N75="In (zvyšuje náklady)",AF75,0) -> 0 | AQ75: =IF($N75="In (zvyšuje náklady)",AG75,0) -> 0 | AR75: =IF($N75="In (zvyšuje náklady)",AH75,0) -> 0 | AS75: =IF($N75="In (zvyšuje náklady)",AI75,0) -> 0 | AT75: =IF($N75="In (zvyšuje náklady)",AJ75,0) -> 0 | AU75: =IF($N75="In (zvyšuje náklady)",AK75,0) -> 0 | AV75: =IF($N75="In (zvyšuje náklady)",AL75,0) -> 0 | AW75: =IF($N75="In (zvyšuje náklady)",AM75,0) -> 0 | ... AY75: =IF($N75="In (zvyšuje náklady)",AO75,0) -> 0 | AZ75: =IF($N75="Out (znižuje náklady)",AF75,"0") -> N | BA75: =IF($N75="Out (znižuje náklady)",AG75,"0") -> 0 | BB75: =IF($N75="Out (znižuje náklady)",AH75,"0") -> 43.75 | BC75: =IF($N75="Out (znižuje náklady)",AI75,"0") -> 0 | BD75: =IF($N75="Out (znižuje náklady)",AJ75,"0") -> N | BE75: =IF($N75="Out (znižuje náklady)",AK75,"0") -> 0 | BF75: =IF($N75="Out (znižuje náklady)",AL75,"0") -> 0 | BG75: =IF($N75="Out (znižuje náklady)",AM75,"0") -> 0 | ... BI75: =IF($N75="Out (znižuje náklady)",AO75,"0") -> 0 | BJ75: =IF(F75=vstupy!$B$47,0,1) -> 1 | BK75: =$BJ75*AP75 -> 0 | BL75: =$BJ75*AQ75 -> 0 | BM75: =$BJ75*AR75 -> 0 | BN75: =$BJ75*AS75 -> 0 | BO75: =$BJ75*AT75 -> 0 | BP75: =$BJ75*AU75 -> 0 | BQ75: =$BJ75*AV75 -> 0 | BR75: =$BJ75*AW75 -> 0 | ... CD75: =$BJ75*BI75 -> 0 | CE75: =IF(N75="Nemení sa",1,0) -> 0 | CF75: =AG75*$CE75 -> 0 | CG75: =AI75*$CE75 -> 0 | CH75: =AK75*$CE75 -> 0 | CI75: =AM75*$CE75 -> 0 | CJ75: =AO75*$CE75 -> 0 | CK75: =SUM(CF75:CJ77) -> 0 | CL75: =IF(F75=vstupy!B$42,"1",0) -> 0 | CM75: =IF($CL75="1",AP75,0) -> 0 | CN75: =IF($CL75="1",AQ75,0) -> 0 | CO75: =IF($CL75="1",AR75,0) -> 0 | CP75: =IF($CL75="1",AS75,0) -> 0 | CQ75: =IF($CL75="1",AT75,0) -> 0 | CR75: =IF($CL75="1",AU75,0) -> 0 | CS75: =IF($CL75="1",AV75,0) -> 0 | CT75: =IF($CL75="1",AW75,0) -> 0 | ... CV75: =IF($CL75="1",AY75,0) -> 0 | CW75: =CP75+CT75+CV75 -> 0 | CX75: =CN75+CR75 -> 0 | CY75: =IF($CL75="1",AZ75,0) -> 0 | CZ75: =IF($CL75="1",BA75,0) -> 0 | DA75: =IF($CL75="1",BB75,0) -> 0 | DB75: =IF($CL75="1",BC75,0) -> 0 | DC75: =IF($CL75="1",BD75,0) -> 0 | DD75: =IF($CL75="1",BE75,0) -> 0 | DE75: =IF($CL75="1",BF75,0) -> 0 | DF75: =IF($CL75="1",BG75,0) -> 0 | ... DH75: =IF($CL75="1",BI75,0) -> 0 | DI75: =DB75+DF75+DH75 -> 0 | DJ75: =CZ75+DD75 -> 0 | DK75: =IF(CE75=0,1,0) -> 1 | DL75: =IFERROR(IF($AF75="N",AH75+AJ75+AL75+AN75,AF75+AH75+AJ75+AL75+AN75),0)*$DK75 -> 0 | DM75: =(AG75+AI75+AK75+AM75+AO75)*$DK75 -> 0 | DN75: =AS75+AW75+AY75-CW75 -> 0 | DO75: =BC75+BG75+BI75-DI75 -> 0 | DP75: =DN75+DO75 -> 0 | DQ75: =IF(OR(F75=vstupy!B$40,F75=vstupy!B$41,F75=vstupy!B$42,),"0","1") -> 0 | DR75: =IF($DQ75="1",AQ75,"0")+CF75 -> 0 | DS75: =IF($DQ75="1",AS75,"0")+CG75 -> 0 | DT75: =IF($DQ75="1",AU75,"0")+CH75 -> 0 | DU75: =IF($DQ75="1",AW75,"0")+CI75 -> 0 | DV75: =IF($DQ75="1",AY75,"0")+CJ75 -> 0 | DW75: =SUM(DR75:DV77) -> 0 | DX75: =IF($DQ75="1",BA75,"0") -> 0 | DY75: =IF($DQ75="1",BC75,"0") -> 0 | DZ75: =IF($DQ75="1",BE75,"0") -> 0 | EA75: =IF($DQ75="1",BG75,"0") -> 0 | EB75: =IF($DQ75="1",BI75,"0") -> 0 | EC75: =SUM(DX75:EB77) -> 0 | ED75: =EC75+DW75 -> 0
X76: Vyberte typ povinnosti | Y76: Vyberte veľkosť | Z76: =VLOOKUP($X76,vstupy!$B$18:$F$31,MATCH($Y76,vstupy!$B$17:$F$17,0),0) -> 0 | AA76: Vyber | AB76: =VLOOKUP($AA76,vstupy!$B$34:$C$36,2,FALSE) -> 0 | AC76: =Z76+AB76 -> 0
X77: Vyberte typ povinnosti | Y77: Vyberte veľkosť | Z77: =VLOOKUP($X77,vstupy!$B$18:$F$31,MATCH($Y77,vstupy!$B$17:$F$17,0),0) -> 0 | AA77: Vyber | AB77: =VLOOKUP($AA77,vstupy!$B$34:$C$36,2,FALSE) -> 0 | AC77: =Z77+AB77 -> 0
B78: =B75+1 -> 24 | C78: vypustenie úkonu a poplatku za schválenie prospektu cenného papiera skladajúceho sa zo samostatných dokumentov, ak je žiadateľom emitent (špecifický symbol 2414 - iba v opatrení č. 5/2021 v znení opatrenia č. 8/2024) | D78: nariadenie (EÚ) 2017/1129 v platnom znení | E78: Čl. 10 a 20 | F78: 1.SK | G78: 46388 | H78: =IF($F78="3e) Skoršia transpozícia - zavedenie transpozície pred termínom ktorý určuje smernica EÚ. "," ","") | I78: =IF($F78="3e) Skoršia transpozícia - zavedenie transpozície pred termínom ktorý určuje smernica EÚ. ",$H78,"NA") -> NA | J78: =IF(I78>12,1,I78/12) -> 1 | K78: emitenti | L78: 0 | M78: =IF(L78="N",0,L78) -> 0 | N78: Out (znižuje náklady) | P78: 175 | Q78: jednorazovo | R78: =VLOOKUP(Q78,vstupy!$B$3:$C$15,2,FALSE) -> 0.25 | U78: Vyberte frekvenciu | V78: =VLOOKUP(U78,vstupy!$B$3:$C$15,2,FALSE) -> 0 | X78: Vyberte typ povinnosti | Y78: Vyberte veľkosť | Z78: =VLOOKUP($X78,vstupy!$B$18:$F$31,MATCH($Y78,vstupy!$B$17:$F$17,0),0) -> 0 | AA78: Vyber | AB78: =VLOOKUP($AA78,vstupy!$B$34:$C$36,2,FALSE) -> 0 | AC78: =Z78+AB78 -> 0 | AD78: Vyberte frekvenciu | AE78: =VLOOKUP(AD78,vstupy!$B$3:$C$15,2,FALSE) -> 0 | AF78: =IFERROR(IF(M78=0,"N",O78/L78*J78),0) -> N | AG78: =O78*J78 -> 0 | AH78: =P78*R78*J78 -> 43.75 | AI78: =IFERROR(AH78*M78,0) -> 0 | AJ78: =IFERROR(IF(M78=0,"N",S78/L78*J78),0) -> N | AK78: =S78*J78 -> 0 | AL78: =T78*V78*J78 -> 0 | AM78: =IFERROR(AL78*M78,0) -> 0 | AN78: =IF(W78>0,IF(AE78>0,($G$5/160)*(W78/60)*AE78*J78,0),IF(AE78>0,($G$5/160)*((AC78+AC79+AC80)/60)*AE78*J78,0)) -> 0 | AO78: =IFERROR(AN78*M78,0) -> 0 | AP78: =IF($N78="In (zvyšuje náklady)",AF78,0) -> 0 | AQ78: =IF($N78="In (zvyšuje náklady)",AG78,0) -> 0 | AR78: =IF($N78="In (zvyšuje náklady)",AH78,0) -> 0 | AS78: =IF($N78="In (zvyšuje náklady)",AI78,0) -> 0 | AT78: =IF($N78="In (zvyšuje náklady)",AJ78,0) -> 0 | AU78: =IF($N78="In (zvyšuje náklady)",AK78,0) -> 0 | AV78: =IF($N78="In (zvyšuje náklady)",AL78,0) -> 0 | AW78: =IF($N78="In (zvyšuje náklady)",AM78,0) -> 0 | ... AY78: =IF($N78="In (zvyšuje náklady)",AO78,0) -> 0 | AZ78: =IF($N78="Out (znižuje náklady)",AF78,"0") -> N | BA78: =IF($N78="Out (znižuje náklady)",AG78,"0") -> 0 | BB78: =IF($N78="Out (znižuje náklady)",AH78,"0") -> 43.75 | BC78: =IF($N78="Out (znižuje náklady)",AI78,"0") -> 0 | BD78: =IF($N78="Out (znižuje náklady)",AJ78,"0") -> N | BE78: =IF($N78="Out (znižuje náklady)",AK78,"0") -> 0 | BF78: =IF($N78="Out (znižuje náklady)",AL78,"0") -> 0 | BG78: =IF($N78="Out (znižuje náklady)",AM78,"0") -> 0 | ... BI78: =IF($N78="Out (znižuje náklady)",AO78,"0") -> 0 | BJ78: =IF(F78=vstupy!$B$47,0,1) -> 1 | BK78: =$BJ78*AP78 -> 0 | BL78: =$BJ78*AQ78 -> 0 | BM78: =$BJ78*AR78 -> 0 | BN78: =$BJ78*AS78 -> 0 | BO78: =$BJ78*AT78 -> 0 | BP78: =$BJ78*AU78 -> 0 | BQ78: =$BJ78*AV78 -> 0 | BR78: =$BJ78*AW78 -> 0 | ... CD78: =$BJ78*BI78 -> 0 | CE78: =IF(N78="Nemení sa",1,0) -> 0 | CF78: =AG78*$CE78 -> 0 | CG78: =AI78*$CE78 -> 0 | CH78: =AK78*$CE78 -> 0 | CI78: =AM78*$CE78 -> 0 | CJ78: =AO78*$CE78 -> 0 | CK78: =SUM(CF78:CJ80) -> 0 | CL78: =IF(F78=vstupy!B$42,"1",0) -> 0 | CM78: =IF($CL78="1",AP78,0) -> 0 | CN78: =IF($CL78="1",AQ78,0) -> 0 | CO78: =IF($CL78="1",AR78,0) -> 0 | CP78: =IF($CL78="1",AS78,0) -> 0 | CQ78: =IF($CL78="1",AT78,0) -> 0 | CR78: =IF($CL78="1",AU78,0) -> 0 | CS78: =IF($CL78="1",AV78,0) -> 0 | CT78: =IF($CL78="1",AW78,0) -> 0 | ... CV78: =IF($CL78="1",AY78,0) -> 0 | CW78: =CP78+CT78+CV78 -> 0 | CX78: =CN78+CR78 -> 0 | CY78: =IF($CL78="1",AZ78,0) -> 0 | CZ78: =IF($CL78="1",BA78,0) -> 0 | DA78: =IF($CL78="1",BB78,0) -> 0 | DB78: =IF($CL78="1",BC78,0) -> 0 | DC78: =IF($CL78="1",BD78,0) -> 0 | DD78: =IF($CL78="1",BE78,0) -> 0 | DE78: =IF($CL78="1",BF78,0) -> 0 | DF78: =IF($CL78="1",BG78,0) -> 0 | ... DH78: =IF($CL78="1",BI78,0) -> 0 | DI78: =DB78+DF78+DH78 -> 0 | DJ78: =CZ78+DD78 -> 0 | DK78: =IF(CE78=0,1,0) -> 1 | DL78: =IFERROR(IF($AF78="N",AH78+AJ78+AL78+AN78,AF78+AH78+AJ78+AL78+AN78),0)*$DK78 -> 0 | DM78: =(AG78+AI78+AK78+AM78+AO78)*$DK78 -> 0 | DN78: =AS78+AW78+AY78-CW78 -> 0 | DO78: =BC78+BG78+BI78-DI78 -> 0 | DP78: =DN78+DO78 -> 0 | DQ78: =IF(OR(F78=vstupy!B$40,F78=vstupy!B$41,F78=vstupy!B$42,),"0","1") -> 0 | DR78: =IF($DQ78="1",AQ78,"0")+CF78 -> 0 | DS78: =IF($DQ78="1",AS78,"0")+CG78 -> 0 | DT78: =IF($DQ78="1",AU78,"0")+CH78 -> 0 | DU78: =IF($DQ78="1",AW78,"0")+CI78 -> 0 | DV78: =IF($DQ78="1",AY78,"0")+CJ78 -> 0 | DW78: =SUM(DR78:DV80) -> 0 | DX78: =IF($DQ78="1",BA78,"0") -> 0 | DY78: =IF($DQ78="1",BC78,"0") -> 0 | DZ78: =IF($DQ78="1",BE78,"0") -> 0 | EA78: =IF($DQ78="1",BG78,"0") -> 0 | EB78: =IF($DQ78="1",BI78,"0") -> 0 | EC78: =SUM(DX78:EB80) -> 0 | ED78: =EC78+DW78 -> 0
X79: Vyberte typ povinnosti | Y79: Vyberte veľkosť | Z79: =VLOOKUP($X79,vstupy!$B$18:$F$31,MATCH($Y79,vstupy!$B$17:$F$17,0),0) -> 0 | AA79: Vyber | AB79: =VLOOKUP($AA79,vstupy!$B$34:$C$36,2,FALSE) -> 0 | AC79: =Z79+AB79 -> 0
X80: Vyberte typ povinnosti | Y80: Vyberte veľkosť | Z80: =VLOOKUP($X80,vstupy!$B$18:$F$31,MATCH($Y80,vstupy!$B$17:$F$17,0),0) -> 0 | AA80: Vyber | AB80: =VLOOKUP($AA80,vstupy!$B$34:$C$36,2,FALSE) -> 0 | AC80: =Z80+AB80 -> 0
B81: =B78+1 -> 25 | C81: vypustenie úkonu a poplatku za schválenie prospektu cenného papiera vypracovaného ako jeden dokument, ak žiadateľom je vyhlasovateľ verejnej ponuky cenných papierov, ktorý nie je emitentom cenných papierov, ktoré sú predmetom verejnej ponuky cenných papierov, alebo osoba, ktorá nie je emitentom žiadajúca o prijatie na obchodovanie na regulovanom trhu (špecifický symbol 2418 - iba v opatrení č. 5/2021 v znení opatrenia č. 8/2024) | D81: nariadenie (EÚ) 2017/1129 v platnom znení | E81: Čl. 6 a 20 | F81: 1.SK | G81: 46388 | H81: =IF($F81="3e) Skoršia transpozícia - zavedenie transpozície pred termínom ktorý určuje smernica EÚ. "," ","") | I81: =IF($F81="3e) Skoršia transpozícia - zavedenie transpozície pred termínom ktorý určuje smernica EÚ. ",$H81,"NA") -> NA | J81: =IF(I81>12,1,I81/12) -> 1 | K81: vyhlasovatelia verejnej ponuky cenných papierov, ktorí nie sú emitentmi cenných papierov, ktoré sú predmetom verejnej ponuky cenných papierov a osoby, ktoré nie sú emitentmi žiadajúce o prijatie na obchodovanie na regulovanom trhu | L81: 1 | M81: =IF(L81="N",0,L81) -> 1 | N81: Out (znižuje náklady) | P81: 100 | Q81: jednorazovo | R81: =VLOOKUP(Q81,vstupy!$B$3:$C$15,2,FALSE) -> 0.25 | U81: Vyberte frekvenciu | V81: =VLOOKUP(U81,vstupy!$B$3:$C$15,2,FALSE) -> 0 | X81: Vyberte typ povinnosti | Y81: Vyberte veľkosť | Z81: =VLOOKUP($X81,vstupy!$B$18:$F$31,MATCH($Y81,vstupy!$B$17:$F$17,0),0) -> 0 | AA81: Vyber | AB81: =VLOOKUP($AA81,vstupy!$B$34:$C$36,2,FALSE) -> 0 | AC81: =Z81+AB81 -> 0 | AD81: Vyberte frekvenciu | AE81: =VLOOKUP(AD81,vstupy!$B$3:$C$15,2,FALSE) -> 0 | AF81: =IFERROR(IF(M81=0,"N",O81/L81*J81),0) -> 0 | AG81: =O81*J81 -> 0 | AH81: =P81*R81*J81 -> 25 | AI81: =IFERROR(AH81*M81,0) -> 25 | AJ81: =IFERROR(IF(M81=0,"N",S81/L81*J81),0) -> 0 | AK81: =S81*J81 -> 0 | AL81: =T81*V81*J81 -> 0 | AM81: =IFERROR(AL81*M81,0) -> 0 | AN81: =IF(W81>0,IF(AE81>0,($G$5/160)*(W81/60)*AE81*J81,0),IF(AE81>0,($G$5/160)*((AC81+AC82+AC83)/60)*AE81*J81,0)) -> 0 | AO81: =IFERROR(AN81*M81,0) -> 0 | AP81: =IF($N81="In (zvyšuje náklady)",AF81,0) -> 0 | AQ81: =IF($N81="In (zvyšuje náklady)",AG81,0) -> 0 | AR81: =IF($N81="In (zvyšuje náklady)",AH81,0) -> 0 | AS81: =IF($N81="In (zvyšuje náklady)",AI81,0) -> 0 | AT81: =IF($N81="In (zvyšuje náklady)",AJ81,0) -> 0 | AU81: =IF($N81="In (zvyšuje náklady)",AK81,0) -> 0 | AV81: =IF($N81="In (zvyšuje náklady)",AL81,0) -> 0 | AW81: =IF($N81="In (zvyšuje náklady)",AM81,0) -> 0 | ... AY81: =IF($N81="In (zvyšuje náklady)",AO81,0) -> 0 | AZ81: =IF($N81="Out (znižuje náklady)",AF81,"0") -> 0 | BA81: =IF($N81="Out (znižuje náklady)",AG81,"0") -> 0 | BB81: =IF($N81="Out (znižuje náklady)",AH81,"0") -> 25 | BC81: =IF($N81="Out (znižuje náklady)",AI81,"0") -> 25 | BD81: =IF($N81="Out (znižuje náklady)",AJ81,"0") -> 0 | BE81: =IF($N81="Out (znižuje náklady)",AK81,"0") -> 0 | BF81: =IF($N81="Out (znižuje náklady)",AL81,"0") -> 0 | BG81: =IF($N81="Out (znižuje náklady)",AM81,"0") -> 0 | ... BI81: =IF($N81="Out (znižuje náklady)",AO81,"0") -> 0 | BJ81: =IF(F81=vstupy!$B$47,0,1) -> 1 | BK81: =$BJ81*AP81 -> 0 | BL81: =$BJ81*AQ81 -> 0 | BM81: =$BJ81*AR81 -> 0 | BN81: =$BJ81*AS81 -> 0 | BO81: =$BJ81*AT81 -> 0 | BP81: =$BJ81*AU81 -> 0 | BQ81: =$BJ81*AV81 -> 0 | BR81: =$BJ81*AW81 -> 0 | ... CD81: =$BJ81*BI81 -> 0 | CE81: =IF(N81="Nemení sa",1,0) -> 0 | CF81: =AG81*$CE81 -> 0 | CG81: =AI81*$CE81 -> 0 | CH81: =AK81*$CE81 -> 0 | CI81: =AM81*$CE81 -> 0 | CJ81: =AO81*$CE81 -> 0 | CK81: =SUM(CF81:CJ83) -> 0 | CL81: =IF(F81=vstupy!B$42,"1",0) -> 0 | CM81: =IF($CL81="1",AP81,0) -> 0 | CN81: =IF($CL81="1",AQ81,0) -> 0 | CO81: =IF($CL81="1",AR81,0) -> 0 | CP81: =IF($CL81="1",AS81,0) -> 0 | CQ81: =IF($CL81="1",AT81,0) -> 0 | CR81: =IF($CL81="1",AU81,0) -> 0 | CS81: =IF($CL81="1",AV81,0) -> 0 | CT81: =IF($CL81="1",AW81,0) -> 0 | ... CV81: =IF($CL81="1",AY81,0) -> 0 | CW81: =CP81+CT81+CV81 -> 0 | CX81: =CN81+CR81 -> 0 | CY81: =IF($CL81="1",AZ81,0) -> 0 | CZ81: =IF($CL81="1",BA81,0) -> 0 | DA81: =IF($CL81="1",BB81,0) -> 0 | DB81: =IF($CL81="1",BC81,0) -> 0 | DC81: =IF($CL81="1",BD81,0) -> 0 | DD81: =IF($CL81="1",BE81,0) -> 0 | DE81: =IF($CL81="1",BF81,0) -> 0 | DF81: =IF($CL81="1",BG81,0) -> 0 | ... DH81: =IF($CL81="1",BI81,0) -> 0 | DI81: =DB81+DF81+DH81 -> 0 | DJ81: =CZ81+DD81 -> 0 | DK81: =IF(CE81=0,1,0) -> 1 | DL81: =IFERROR(IF($AF81="N",AH81+AJ81+AL81+AN81,AF81+AH81+AJ81+AL81+AN81),0)*$DK81 -> 25 | DM81: =(AG81+AI81+AK81+AM81+AO81)*$DK81 -> 25 | DN81: =AS81+AW81+AY81-CW81 -> 0 | DO81: =BC81+BG81+BI81-DI81 -> 25 | DP81: =DN81+DO81 -> 25 | DQ81: =IF(OR(F81=vstupy!B$40,F81=vstupy!B$41,F81=vstupy!B$42,),"0","1") -> 0 | DR81: =IF($DQ81="1",AQ81,"0")+CF81 -> 0 | DS81: =IF($DQ81="1",AS81,"0")+CG81 -> 0 | DT81: =IF($DQ81="1",AU81,"0")+CH81 -> 0 | DU81: =IF($DQ81="1",AW81,"0")+CI81 -> 0 | DV81: =IF($DQ81="1",AY81,"0")+CJ81 -> 0 | DW81: =SUM(DR81:DV83) -> 0 | DX81: =IF($DQ81="1",BA81,"0") -> 0 | DY81: =IF($DQ81="1",BC81,"0") -> 0 | DZ81: =IF($DQ81="1",BE81,"0") -> 0 | EA81: =IF($DQ81="1",BG81,"0") -> 0 | EB81: =IF($DQ81="1",BI81,"0") -> 0 | EC81: =SUM(DX81:EB83) -> 0 | ED81: =EC81+DW81 -> 0
X82: Vyberte typ povinnosti | Y82: Vyberte veľkosť | Z82: =VLOOKUP($X82,vstupy!$B$18:$F$31,MATCH($Y82,vstupy!$B$17:$F$17,0),0) -> 0 | AA82: Vyber | AB82: =VLOOKUP($AA82,vstupy!$B$34:$C$36,2,FALSE) -> 0 | AC82: =Z82+AB82 -> 0
X83: Vyberte typ povinnosti | Y83: Vyberte veľkosť | Z83: =VLOOKUP($X83,vstupy!$B$18:$F$31,MATCH($Y83,vstupy!$B$17:$F$17,0),0) -> 0 | AA83: Vyber | AB83: =VLOOKUP($AA83,vstupy!$B$34:$C$36,2,FALSE) -> 0 | AC83: =Z83+AB83 -> 0
B84: =B81+1 -> 26 | C84: vypustenie úkonu a poplatku za schválenie prospektu cenného papiera skladajúceho sa zo samostatných dokumentov, ak žiadateľom je vyhlasovateľ verejnej ponuky cenných papierov, ktorý nie je emitentom cenných papierov, ktoré sú predmetom verejnej ponuky cenných papierov, alebo osoba, ktorá nie je emitentom žiadajúca o prijatie na obchodovanie na regulovanom trhu (špecifický symbol 2419 - iba v opatrení č. 5/2021 v znení opatrenia č. 8/2024) | D84: nariadenie (EÚ) 2017/1129 v platnom znení | E84: Čl. 10 a 20 | F84: 1.SK | G84: 46388 | H84: =IF($F84="3e) Skoršia transpozícia - zavedenie transpozície pred termínom ktorý určuje smernica EÚ. "," ","") | I84: =IF($F84="3e) Skoršia transpozícia - zavedenie transpozície pred termínom ktorý určuje smernica EÚ. ",$H84,"NA") -> NA | J84: =IF(I84>12,1,I84/12) -> 1 | K84: vyhlasovatelia verejnej ponuky cenných papierov, ktorí nie sú emitentmi cenných papierov, ktoré sú predmetom verejnej ponuky cenných papierov a osoby, ktoré nie sú emitentmi žiadajúce o prijatie na obchodovanie na regulovanom trhu | L84: 0 | M84: =IF(L84="N",0,L84) -> 0 | N84: Out (znižuje náklady) | P84: 35 | Q84: jednorazovo | R84: =VLOOKUP(Q84,vstupy!$B$3:$C$15,2,FALSE) -> 0.25 | U84: Vyberte frekvenciu | V84: =VLOOKUP(U84,vstupy!$B$3:$C$15,2,FALSE) -> 0 | X84: Vyberte typ povinnosti | Y84: Vyberte veľkosť | Z84: =VLOOKUP($X84,vstupy!$B$18:$F$31,MATCH($Y84,vstupy!$B$17:$F$17,0),0) -> 0 | AA84: Vyber | AB84: =VLOOKUP($AA84,vstupy!$B$34:$C$36,2,FALSE) -> 0 | AC84: =Z84+AB84 -> 0 | AD84: Vyberte frekvenciu | AE84: =VLOOKUP(AD84,vstupy!$B$3:$C$15,2,FALSE) -> 0 | AF84: =IFERROR(IF(M84=0,"N",O84/L84*J84),0) -> N | AG84: =O84*J84 -> 0 | AH84: =P84*R84*J84 -> 8.75 | AI84: =IFERROR(AH84*M84,0) -> 0 | AJ84: =IFERROR(IF(M84=0,"N",S84/L84*J84),0) -> N | AK84: =S84*J84 -> 0 | AL84: =T84*V84*J84 -> 0 | AM84: =IFERROR(AL84*M84,0) -> 0 | AN84: =IF(W84>0,IF(AE84>0,($G$5/160)*(W84/60)*AE84*J84,0),IF(AE84>0,($G$5/160)*((AC84+AC85+AC86)/60)*AE84*J84,0)) -> 0 | AO84: =IFERROR(AN84*M84,0) -> 0 | AP84: =IF($N84="In (zvyšuje náklady)",AF84,0) -> 0 | AQ84: =IF($N84="In (zvyšuje náklady)",AG84,0) -> 0 | AR84: =IF($N84="In (zvyšuje náklady)",AH84,0) -> 0 | AS84: =IF($N84="In (zvyšuje náklady)",AI84,0) -> 0 | AT84: =IF($N84="In (zvyšuje náklady)",AJ84,0) -> 0 | AU84: =IF($N84="In (zvyšuje náklady)",AK84,0) -> 0 | AV84: =IF($N84="In (zvyšuje náklady)",AL84,0) -> 0 | AW84: =IF($N84="In (zvyšuje náklady)",AM84,0) -> 0 | ... AY84: =IF($N84="In (zvyšuje náklady)",AO84,0) -> 0 | AZ84: =IF($N84="Out (znižuje náklady)",AF84,"0") -> N | BA84: =IF($N84="Out (znižuje náklady)",AG84,"0") -> 0 | BB84: =IF($N84="Out (znižuje náklady)",AH84,"0") -> 8.75 | BC84: =IF($N84="Out (znižuje náklady)",AI84,"0") -> 0 | BD84: =IF($N84="Out (znižuje náklady)",AJ84,"0") -> N | BE84: =IF($N84="Out (znižuje náklady)",AK84,"0") -> 0 | BF84: =IF($N84="Out (znižuje náklady)",AL84,"0") -> 0 | BG84: =IF($N84="Out (znižuje náklady)",AM84,"0") -> 0 | ... BI84: =IF($N84="Out (znižuje náklady)",AO84,"0") -> 0 | BJ84: =IF(F84=vstupy!$B$47,0,1) -> 1 | BK84: =$BJ84*AP84 -> 0 | BL84: =$BJ84*AQ84 -> 0 | BM84: =$BJ84*AR84 -> 0 | BN84: =$BJ84*AS84 -> 0 | BO84: =$BJ84*AT84 -> 0 | BP84: =$BJ84*AU84 -> 0 | BQ84: =$BJ84*AV84 -> 0 | BR84: =$BJ84*AW84 -> 0 | ... CD84: =$BJ84*BI84 -> 0 | CE84: =IF(N84="Nemení sa",1,0) -> 0 | CF84: =AG84*$CE84 -> 0 | CG84: =AI84*$CE84 -> 0 | CH84: =AK84*$CE84 -> 0 | CI84: =AM84*$CE84 -> 0 | CJ84: =AO84*$CE84 -> 0 | CK84: =SUM(CF84:CJ86) -> 0 | CL84: =IF(F84=vstupy!B$42,"1",0) -> 0 | CM84: =IF($CL84="1",AP84,0) -> 0 | CN84: =IF($CL84="1",AQ84,0) -> 0 | CO84: =IF($CL84="1",AR84,0) -> 0 | CP84: =IF($CL84="1",AS84,0) -> 0 | CQ84: =IF($CL84="1",AT84,0) -> 0 | CR84: =IF($CL84="1",AU84,0) -> 0 | CS84: =IF($CL84="1",AV84,0) -> 0 | CT84: =IF($CL84="1",AW84,0) -> 0 | ... CV84: =IF($CL84="1",AY84,0) -> 0 | CW84: =CP84+CT84+CV84 -> 0 | CX84: =CN84+CR84 -> 0 | CY84: =IF($CL84="1",AZ84,0) -> 0 | CZ84: =IF($CL84="1",BA84,0) -> 0 | DA84: =IF($CL84="1",BB84,0) -> 0 | DB84: =IF($CL84="1",BC84,0) -> 0 | DC84: =IF($CL84="1",BD84,0) -> 0 | DD84: =IF($CL84="1",BE84,0) -> 0 | DE84: =IF($CL84="1",BF84,0) -> 0 | DF84: =IF($CL84="1",BG84,0) -> 0 | ... DH84: =IF($CL84="1",BI84,0) -> 0 | DI84: =DB84+DF84+DH84 -> 0 | DJ84: =CZ84+DD84 -> 0 | DK84: =IF(CE84=0,1,0) -> 1 | DL84: =IFERROR(IF($AF84="N",AH84+AJ84+AL84+AN84,AF84+AH84+AJ84+AL84+AN84),0)*$DK84 -> 0 | DM84: =(AG84+AI84+AK84+AM84+AO84)*$DK84 -> 0 | DN84: =AS84+AW84+AY84-CW84 -> 0 | DO84: =BC84+BG84+BI84-DI84 -> 0 | DP84: =DN84+DO84 -> 0 | DQ84: =IF(OR(F84=vstupy!B$40,F84=vstupy!B$41,F84=vstupy!B$42,),"0","1") -> 0 | DR84: =IF($DQ84="1",AQ84,"0")+CF84 -> 0 | DS84: =IF($DQ84="1",AS84,"0")+CG84 -> 0 | DT84: =IF($DQ84="1",AU84,"0")+CH84 -> 0 | DU84: =IF($DQ84="1",AW84,"0")+CI84 -> 0 | DV84: =IF($DQ84="1",AY84,"0")+CJ84 -> 0 | DW84: =SUM(DR84:DV86) -> 0 | DX84: =IF($DQ84="1",BA84,"0") -> 0 | DY84: =IF($DQ84="1",BC84,"0") -> 0 | DZ84: =IF($DQ84="1",BE84,"0") -> 0 | EA84: =IF($DQ84="1",BG84,"0") -> 0 | EB84: =IF($DQ84="1",BI84,"0") -> 0 | EC84: =SUM(DX84:EB86) -> 0 | ED84: =EC84+DW84 -> 0
X85: Vyberte typ povinnosti | Y85: Vyberte veľkosť | Z85: =VLOOKUP($X85,vstupy!$B$18:$F$31,MATCH($Y85,vstupy!$B$17:$F$17,0),0) -> 0 | AA85: Vyber | AB85: =VLOOKUP($AA85,vstupy!$B$34:$C$36,2,FALSE) -> 0 | AC85: =Z85+AB85 -> 0
X86: Vyberte typ povinnosti | Y86: Vyberte veľkosť | Z86: =VLOOKUP($X86,vstupy!$B$18:$F$31,MATCH($Y86,vstupy!$B$17:$F$17,0),0) -> 0 | AA86: Vyber | AB86: =VLOOKUP($AA86,vstupy!$B$34:$C$36,2,FALSE) -> 0 | AC86: =Z86+AB86 -> 0
B87: =B84+1 -> 27 | C87: vypustenie úkonu a poplatku za schválenie prospektu cenného papiera skladajúceho sa zo samostatných dokumentov, ak žiadateľom je vyhlasovateľ verejnej ponuky cenných papierov, ktorý nie je emitentom cenných papierov, ktoré sú predmetom verejnej ponuky cenných papierov, alebo osoba, ktorá nie je emitentom žiadajúca o prijatie na obchodovanie na regulovanom trhu (špecifický symbol 2420 - iba v opatrení č. 5/2021 v znení opatrenia č. 8/2024) | D87: nariadenie (EÚ) 2017/1129 v platnom znení | E87: Čl. 10 a 20 | F87: 1.SK | G87: 46388 | H87: =IF($F87="3e) Skoršia transpozícia - zavedenie transpozície pred termínom ktorý určuje smernica EÚ. "," ","") | I87: =IF($F87="3e) Skoršia transpozícia - zavedenie transpozície pred termínom ktorý určuje smernica EÚ. ",$H87,"NA") -> NA | J87: =IF(I87>12,1,I87/12) -> 1 | K87: vyhlasovatelia verejnej ponuky cenných papierov, ktorí nie sú emitentmi cenných papierov, ktoré sú predmetom verejnej ponuky cenných papierov a osoby, ktoré nie sú emitentmi žiadajúce o prijatie na obchodovanie na regulovanom trhu | L87: 0 | M87: =IF(L87="N",0,L87) -> 0 | N87: Out (znižuje náklady) | P87: 35 | Q87: jednorazovo | R87: =VLOOKUP(Q87,vstupy!$B$3:$C$15,2,FALSE) -> 0.25 | U87: Vyberte frekvenciu | V87: =VLOOKUP(U87,vstupy!$B$3:$C$15,2,FALSE) -> 0 | X87: Vyberte typ povinnosti | Y87: Vyberte veľkosť | Z87: =VLOOKUP($X87,vstupy!$B$18:$F$31,MATCH($Y87,vstupy!$B$17:$F$17,0),0) -> 0 | AA87: Vyber | AB87: =VLOOKUP($AA87,vstupy!$B$34:$C$36,2,FALSE) -> 0 | AC87: =Z87+AB87 -> 0 | AD87: Vyberte frekvenciu | AE87: =VLOOKUP(AD87,vstupy!$B$3:$C$15,2,FALSE) -> 0 | AF87: =IFERROR(IF(M87=0,"N",O87/L87*J87),0) -> N | AG87: =O87*J87 -> 0 | AH87: =P87*R87*J87 -> 8.75 | AI87: =IFERROR(AH87*M87,0) -> 0 | AJ87: =IFERROR(IF(M87=0,"N",S87/L87*J87),0) -> N | AK87: =S87*J87 -> 0 | AL87: =T87*V87*J87 -> 0 | AM87: =IFERROR(AL87*M87,0) -> 0 | AN87: =IF(W87>0,IF(AE87>0,($G$5/160)*(W87/60)*AE87*J87,0),IF(AE87>0,($G$5/160)*((AC87+AC88+AC89)/60)*AE87*J87,0)) -> 0 | AO87: =IFERROR(AN87*M87,0) -> 0 | AP87: =IF($N87="In (zvyšuje náklady)",AF87,0) -> 0 | AQ87: =IF($N87="In (zvyšuje náklady)",AG87,0) -> 0 | AR87: =IF($N87="In (zvyšuje náklady)",AH87,0) -> 0 | AS87: =IF($N87="In (zvyšuje náklady)",AI87,0) -> 0 | AT87: =IF($N87="In (zvyšuje náklady)",AJ87,0) -> 0 | AU87: =IF($N87="In (zvyšuje náklady)",AK87,0) -> 0 | AV87: =IF($N87="In (zvyšuje náklady)",AL87,0) -> 0 | AW87: =IF($N87="In (zvyšuje náklady)",AM87,0) -> 0 | ... AY87: =IF($N87="In (zvyšuje náklady)",AO87,0) -> 0 | AZ87: =IF($N87="Out (znižuje náklady)",AF87,"0") -> N | BA87: =IF($N87="Out (znižuje náklady)",AG87,"0") -> 0 | BB87: =IF($N87="Out (znižuje náklady)",AH87,"0") -> 8.75 | BC87: =IF($N87="Out (znižuje náklady)",AI87,"0") -> 0 | BD87: =IF($N87="Out (znižuje náklady)",AJ87,"0") -> N | BE87: =IF($N87="Out (znižuje náklady)",AK87,"0") -> 0 | BF87: =IF($N87="Out (znižuje náklady)",AL87,"0") -> 0 | BG87: =IF($N87="Out (znižuje náklady)",AM87,"0") -> 0 | ... BI87: =IF($N87="Out (znižuje náklady)",AO87,"0") -> 0 | BJ87: =IF(F87=vstupy!$B$47,0,1) -> 1 | BK87: =$BJ87*AP87 -> 0 | BL87: =$BJ87*AQ87 -> 0 | BM87: =$BJ87*AR87 -> 0 | BN87: =$BJ87*AS87 -> 0 | BO87: =$BJ87*AT87 -> 0 | BP87: =$BJ87*AU87 -> 0 | BQ87: =$BJ87*AV87 -> 0 | BR87: =$BJ87*AW87 -> 0 | ... CD87: =$BJ87*BI87 -> 0 | CE87: =IF(N87="Nemení sa",1,0) -> 0 | CF87: =AG87*$CE87 -> 0 | CG87: =AI87*$CE87 -> 0 | CH87: =AK87*$CE87 -> 0 | CI87: =AM87*$CE87 -> 0 | CJ87: =AO87*$CE87 -> 0 | CK87: =SUM(CF87:CJ89) -> 0 | CL87: =IF(F87=vstupy!B$42,"1",0) -> 0 | CM87: =IF($CL87="1",AP87,0) -> 0 | CN87: =IF($CL87="1",AQ87,0) -> 0 | CO87: =IF($CL87="1",AR87,0) -> 0 | CP87: =IF($CL87="1",AS87,0) -> 0 | CQ87: =IF($CL87="1",AT87,0) -> 0 | CR87: =IF($CL87="1",AU87,0) -> 0 | CS87: =IF($CL87="1",AV87,0) -> 0 | CT87: =IF($CL87="1",AW87,0) -> 0 | ... CV87: =IF($CL87="1",AY87,0) -> 0 | CW87: =CP87+CT87+CV87 -> 0 | CX87: =CN87+CR87 -> 0 | CY87: =IF($CL87="1",AZ87,0) -> 0 | CZ87: =IF($CL87="1",BA87,0) -> 0 | DA87: =IF($CL87="1",BB87,0) -> 0 | DB87: =IF($CL87="1",BC87,0) -> 0 | DC87: =IF($CL87="1",BD87,0) -> 0 | DD87: =IF($CL87="1",BE87,0) -> 0 | DE87: =IF($CL87="1",BF87,0) -> 0 | DF87: =IF($CL87="1",BG87,0) -> 0 | ... DH87: =IF($CL87="1",BI87,0) -> 0 | DI87: =DB87+DF87+DH87 -> 0 | DJ87: =CZ87+DD87 -> 0 | DK87: =IF(CE87=0,1,0) -> 1 | DL87: =IFERROR(IF($AF87="N",AH87+AJ87+AL87+AN87,AF87+AH87+AJ87+AL87+AN87),0)*$DK87 -> 0 | DM87: =(AG87+AI87+AK87+AM87+AO87)*$DK87 -> 0 | DN87: =AS87+AW87+AY87-CW87 -> 0 | DO87: =BC87+BG87+BI87-DI87 -> 0 | DP87: =DN87+DO87 -> 0 | DQ87: =IF(OR(F87=vstupy!B$40,F87=vstupy!B$41,F87=vstupy!B$42,),"0","1") -> 0 | DR87: =IF($DQ87="1",AQ87,"0")+CF87 -> 0 | DS87: =IF($DQ87="1",AS87,"0")+CG87 -> 0 | DT87: =IF($DQ87="1",AU87,"0")+CH87 -> 0 | DU87: =IF($DQ87="1",AW87,"0")+CI87 -> 0 | DV87: =IF($DQ87="1",AY87,"0")+CJ87 -> 0 | DW87: =SUM(DR87:DV89) -> 0 | DX87: =IF($DQ87="1",BA87,"0") -> 0 | DY87: =IF($DQ87="1",BC87,"0") -> 0 | DZ87: =IF($DQ87="1",BE87,"0") -> 0 | EA87: =IF($DQ87="1",BG87,"0") -> 0 | EB87: =IF($DQ87="1",BI87,"0") -> 0 | EC87: =SUM(DX87:EB89) -> 0 | ED87: =EC87+DW87 -> 0
X88: Vyberte typ povinnosti | Y88: Vyberte veľkosť | Z88: =VLOOKUP($X88,vstupy!$B$18:$F$31,MATCH($Y88,vstupy!$B$17:$F$17,0),0) -> 0 | AA88: Vyber | AB88: =VLOOKUP($AA88,vstupy!$B$34:$C$36,2,FALSE) -> 0 | AC88: =Z88+AB88 -> 0
X89: Vyberte typ povinnosti | Y89: Vyberte veľkosť | Z89: =VLOOKUP($X89,vstupy!$B$18:$F$31,MATCH($Y89,vstupy!$B$17:$F$17,0),0) -> 0 | AA89: Vyber | AB89: =VLOOKUP($AA89,vstupy!$B$34:$C$36,2,FALSE) -> 0 | AC89: =Z89+AB89 -> 0
B90: =B87+1 -> 28 | C90: vypustenie úkonu a poplatku za schválenie prospektu cenného papiera skladajúceho sa zo samostatných dokumentov, ak žiadateľom je vyhlasovateľ verejnej ponuky cenných papierov, ktorý nie je emitentom cenných papierov, ktoré sú predmetom verejnej ponuky cenných papierov, alebo osoba, ktorá nie je emitentom žiadajúca o prijatie na obchodovanie na regulovanom trhu (špecifický symbol 2421 - iba v opatrení č. 5/2021 v znení opatrenia č. 8/2024) | D90: nariadenie (EÚ) 2017/1129 v platnom znení | E90: Čl. 10 a 20 | F90: 1.SK | G90: 46388 | H90: =IF($F90="3e) Skoršia transpozícia - zavedenie transpozície pred termínom ktorý určuje smernica EÚ. "," ","") | I90: =IF($F90="3e) Skoršia transpozícia - zavedenie transpozície pred termínom ktorý určuje smernica EÚ. ",$H90,"NA") -> NA | J90: =IF(I90>12,1,I90/12) -> 1 | K90: vyhlasovatelia verejnej ponuky cenných papierov, ktorí nie sú emitentmi cenných papierov, ktoré sú predmetom verejnej ponuky cenných papierov a osoby, ktoré nie sú emitentmi žiadajúce o prijatie na obchodovanie na regulovanom trhu | L90: 0 | M90: =IF(L90="N",0,L90) -> 0 | N90: Out (znižuje náklady) | P90: 35 | Q90: jednorazovo | R90: =VLOOKUP(Q90,vstupy!$B$3:$C$15,2,FALSE) -> 0.25 | U90: Vyberte frekvenciu | V90: =VLOOKUP(U90,vstupy!$B$3:$C$15,2,FALSE) -> 0 | X90: Vyberte typ povinnosti | Y90: Vyberte veľkosť | Z90: =VLOOKUP($X90,vstupy!$B$18:$F$31,MATCH($Y90,vstupy!$B$17:$F$17,0),0) -> 0 | AA90: Vyber | AB90: =VLOOKUP($AA90,vstupy!$B$34:$C$36,2,FALSE) -> 0 | AC90: =Z90+AB90 -> 0 | AD90: Vyberte frekvenciu | AE90: =VLOOKUP(AD90,vstupy!$B$3:$C$15,2,FALSE) -> 0 | AF90: =IFERROR(IF(M90=0,"N",O90/L90*J90),0) -> N | AG90: =O90*J90 -> 0 | AH90: =P90*R90*J90 -> 8.75 | AI90: =IFERROR(AH90*M90,0) -> 0 | AJ90: =IFERROR(IF(M90=0,"N",S90/L90*J90),0) -> N | AK90: =S90*J90 -> 0 | AL90: =T90*V90*J90 -> 0 | AM90: =IFERROR(AL90*M90,0) -> 0 | AN90: =IF(W90>0,IF(AE90>0,($G$5/160)*(W90/60)*AE90*J90,0),IF(AE90>0,($G$5/160)*((AC90+AC91+AC92)/60)*AE90*J90,0)) -> 0 | AO90: =IFERROR(AN90*M90,0) -> 0 | AP90: =IF($N90="In (zvyšuje náklady)",AF90,0) -> 0 | AQ90: =IF($N90="In (zvyšuje náklady)",AG90,0) -> 0 | AR90: =IF($N90="In (zvyšuje náklady)",AH90,0) -> 0 | AS90: =IF($N90="In (zvyšuje náklady)",AI90,0) -> 0 | AT90: =IF($N90="In (zvyšuje náklady)",AJ90,0) -> 0 | AU90: =IF($N90="In (zvyšuje náklady)",AK90,0) -> 0 | AV90: =IF($N90="In (zvyšuje náklady)",AL90,0) -> 0 | AW90: =IF($N90="In (zvyšuje náklady)",AM90,0) -> 0 | ... AY90: =IF($N90="In (zvyšuje náklady)",AO90,0) -> 0 | AZ90: =IF($N90="Out (znižuje náklady)",AF90,"0") -> N | BA90: =IF($N90="Out (znižuje náklady)",AG90,"0") -> 0 | BB90: =IF($N90="Out (znižuje náklady)",AH90,"0") -> 8.75 | BC90: =IF($N90="Out (znižuje náklady)",AI90,"0") -> 0 | BD90: =IF($N90="Out (znižuje náklady)",AJ90,"0") -> N | BE90: =IF($N90="Out (znižuje náklady)",AK90,"0") -> 0 | BF90: =IF($N90="Out (znižuje náklady)",AL90,"0") -> 0 | BG90: =IF($N90="Out (znižuje náklady)",AM90,"0") -> 0 | ... BI90: =IF($N90="Out (znižuje náklady)",AO90,"0") -> 0 | BJ90: =IF(F90=vstupy!$B$47,0,1) -> 1 | BK90: =$BJ90*AP90 -> 0 | BL90: =$BJ90*AQ90 -> 0 | BM90: =$BJ90*AR90 -> 0 | BN90: =$BJ90*AS90 -> 0 | BO90: =$BJ90*AT90 -> 0 | BP90: =$BJ90*AU90 -> 0 | BQ90: =$BJ90*AV90 -> 0 | BR90: =$BJ90*AW90 -> 0 | ... CD90: =$BJ90*BI90 -> 0 | CE90: =IF(N90="Nemení sa",1,0) -> 0 | CF90: =AG90*$CE90 -> 0 | CG90: =AI90*$CE90 -> 0 | CH90: =AK90*$CE90 -> 0 | CI90: =AM90*$CE90 -> 0 | CJ90: =AO90*$CE90 -> 0 | CK90: =SUM(CF90:CJ92) -> 0 | CL90: =IF(F90=vstupy!B$42,"1",0) -> 0 | CM90: =IF($CL90="1",AP90,0) -> 0 | CN90: =IF($CL90="1",AQ90,0) -> 0 | CO90: =IF($CL90="1",AR90,0) -> 0 | CP90: =IF($CL90="1",AS90,0) -> 0 | CQ90: =IF($CL90="1",AT90,0) -> 0 | CR90: =IF($CL90="1",AU90,0) -> 0 | CS90: =IF($CL90="1",AV90,0) -> 0 | CT90: =IF($CL90="1",AW90,0) -> 0 | ... CV90: =IF($CL90="1",AY90,0) -> 0 | CW90: =CP90+CT90+CV90 -> 0 | CX90: =CN90+CR90 -> 0 | CY90: =IF($CL90="1",AZ90,0) -> 0 | CZ90: =IF($CL90="1",BA90,0) -> 0 | DA90: =IF($CL90="1",BB90,0) -> 0 | DB90: =IF($CL90="1",BC90,0) -> 0 | DC90: =IF($CL90="1",BD90,0) -> 0 | DD90: =IF($CL90="1",BE90,0) -> 0 | DE90: =IF($CL90="1",BF90,0) -> 0 | DF90: =IF($CL90="1",BG90,0) -> 0 | ... DH90: =IF($CL90="1",BI90,0) -> 0 | DI90: =DB90+DF90+DH90 -> 0 | DJ90: =CZ90+DD90 -> 0 | DK90: =IF(CE90=0,1,0) -> 1 | DL90: =IFERROR(IF($AF90="N",AH90+AJ90+AL90+AN90,AF90+AH90+AJ90+AL90+AN90),0)*$DK90 -> 0 | DM90: =(AG90+AI90+AK90+AM90+AO90)*$DK90 -> 0 | DN90: =AS90+AW90+AY90-CW90 -> 0 | DO90: =BC90+BG90+BI90-DI90 -> 0 | DP90: =DN90+DO90 -> 0 | DQ90: =IF(OR(F90=vstupy!B$40,F90=vstupy!B$41,F90=vstupy!B$42,),"0","1") -> 0 | DR90: =IF($DQ90="1",AQ90,"0")+CF90 -> 0 | DS90: =IF($DQ90="1",AS90,"0")+CG90 -> 0 | DT90: =IF($DQ90="1",AU90,"0")+CH90 -> 0 | DU90: =IF($DQ90="1",AW90,"0")+CI90 -> 0 | DV90: =IF($DQ90="1",AY90,"0")+CJ90 -> 0 | DW90: =SUM(DR90:DV92) -> 0 | DX90: =IF($DQ90="1",BA90,"0") -> 0 | DY90: =IF($DQ90="1",BC90,"0") -> 0 | DZ90: =IF($DQ90="1",BE90,"0") -> 0 | EA90: =IF($DQ90="1",BG90,"0") -> 0 | EB90: =IF($DQ90="1",BI90,"0") -> 0 | EC90: =SUM(DX90:EB92) -> 0 | ED90: =EC90+DW90 -> 0
X91: Vyberte typ povinnosti | Y91: Vyberte veľkosť | Z91: =VLOOKUP($X91,vstupy!$B$18:$F$31,MATCH($Y91,vstupy!$B$17:$F$17,0),0) -> 0 | AA91: Vyber | AB91: =VLOOKUP($AA91,vstupy!$B$34:$C$36,2,FALSE) -> 0 | AC91: =Z91+AB91 -> 0
X92: Vyberte typ povinnosti | Y92: Vyberte veľkosť | Z92: =VLOOKUP($X92,vstupy!$B$18:$F$31,MATCH($Y92,vstupy!$B$17:$F$17,0),0) -> 0 | AA92: Vyber | AB92: =VLOOKUP($AA92,vstupy!$B$34:$C$36,2,FALSE) -> 0 | AC92: =Z92+AB92 -> 0
B93: =B90+1 -> 29 | C93: vypustenie úkonu a poplatku za schválenie univerzálneho registračného dokumentu (špecifický symbol 2435 - iba v opatrení č. 5/2021 v znení opatrenia č. 8/2024) | D93: nariadenie (EÚ) 2017/1129 v platnom znení | E93: Čl. 9 a 20 | F93: 1.SK | G93: 46388 | H93: =IF($F93="3e) Skoršia transpozícia - zavedenie transpozície pred termínom ktorý určuje smernica EÚ. "," ","") | I93: =IF($F93="3e) Skoršia transpozícia - zavedenie transpozície pred termínom ktorý určuje smernica EÚ. ",$H93,"NA") -> NA | J93: =IF(I93>12,1,I93/12) -> 1 | K93: emitenti, vyhlasovatelia verejnej ponuky cenných papierov a osoby žiadajúce o prijatie na obchodovanie na regulovanom trhu | L93: 0 | M93: =IF(L93="N",0,L93) -> 0 | N93: Out (znižuje náklady) | P93: 500 | Q93: jednorazovo | R93: =VLOOKUP(Q93,vstupy!$B$3:$C$15,2,FALSE) -> 0.25 | U93: Vyberte frekvenciu | V93: =VLOOKUP(U93,vstupy!$B$3:$C$15,2,FALSE) -> 0 | X93: Vyberte typ povinnosti | Y93: Vyberte veľkosť | Z93: =VLOOKUP($X93,vstupy!$B$18:$F$31,MATCH($Y93,vstupy!$B$17:$F$17,0),0) -> 0 | AA93: Vyber | AB93: =VLOOKUP($AA93,vstupy!$B$34:$C$36,2,FALSE) -> 0 | AC93: =Z93+AB93 -> 0 | AD93: Vyberte frekvenciu | AE93: =VLOOKUP(AD93,vstupy!$B$3:$C$15,2,FALSE) -> 0 | AF93: =IFERROR(IF(M93=0,"N",O93/L93*J93),0) -> N | AG93: =O93*J93 -> 0 | AH93: =P93*R93*J93 -> 125 | AI93: =IFERROR(AH93*M93,0) -> 0 | AJ93: =IFERROR(IF(M93=0,"N",S93/L93*J93),0) -> N | AK93: =S93*J93 -> 0 | AL93: =T93*V93*J93 -> 0 | AM93: =IFERROR(AL93*M93,0) -> 0 | AN93: =IF(W93>0,IF(AE93>0,($G$5/160)*(W93/60)*AE93*J93,0),IF(AE93>0,($G$5/160)*((AC93+AC94+AC95)/60)*AE93*J93,0)) -> 0 | AO93: =IFERROR(AN93*M93,0) -> 0 | AP93: =IF($N93="In (zvyšuje náklady)",AF93,0) -> 0 | AQ93: =IF($N93="In (zvyšuje náklady)",AG93,0) -> 0 | AR93: =IF($N93="In (zvyšuje náklady)",AH93,0) -> 0 | AS93: =IF($N93="In (zvyšuje náklady)",AI93,0) -> 0 | AT93: =IF($N93="In (zvyšuje náklady)",AJ93,0) -> 0 | AU93: =IF($N93="In (zvyšuje náklady)",AK93,0) -> 0 | AV93: =IF($N93="In (zvyšuje náklady)",AL93,0) -> 0 | AW93: =IF($N93="In (zvyšuje náklady)",AM93,0) -> 0 | ... AY93: =IF($N93="In (zvyšuje náklady)",AO93,0) -> 0 | AZ93: =IF($N93="Out (znižuje náklady)",AF93,"0") -> N | BA93: =IF($N93="Out (znižuje náklady)",AG93,"0") -> 0 | BB93: =IF($N93="Out (znižuje náklady)",AH93,"0") -> 125 | BC93: =IF($N93="Out (znižuje náklady)",AI93,"0") -> 0 | BD93: =IF($N93="Out (znižuje náklady)",AJ93,"0") -> N | BE93: =IF($N93="Out (znižuje náklady)",AK93,"0") -> 0 | BF93: =IF($N93="Out (znižuje náklady)",AL93,"0") -> 0 | BG93: =IF($N93="Out (znižuje náklady)",AM93,"0") -> 0 | ... BI93: =IF($N93="Out (znižuje náklady)",AO93,"0") -> 0 | BJ93: =IF(F93=vstupy!$B$47,0,1) -> 1 | BK93: =$BJ93*AP93 -> 0 | BL93: =$BJ93*AQ93 -> 0 | BM93: =$BJ93*AR93 -> 0 | BN93: =$BJ93*AS93 -> 0 | BO93: =$BJ93*AT93 -> 0 | BP93: =$BJ93*AU93 -> 0 | BQ93: =$BJ93*AV93 -> 0 | BR93: =$BJ93*AW93 -> 0 | ... CD93: =$BJ93*BI93 -> 0 | CE93: =IF(N93="Nemení sa",1,0) -> 0 | CF93: =AG93*$CE93 -> 0 | CG93: =AI93*$CE93 -> 0 | CH93: =AK93*$CE93 -> 0 | CI93: =AM93*$CE93 -> 0 | CJ93: =AO93*$CE93 -> 0 | CK93: =SUM(CF93:CJ95) -> 0 | CL93: =IF(F93=vstupy!B$42,"1",0) -> 0 | CM93: =IF($CL93="1",AP93,0) -> 0 | CN93: =IF($CL93="1",AQ93,0) -> 0 | CO93: =IF($CL93="1",AR93,0) -> 0 | CP93: =IF($CL93="1",AS93,0) -> 0 | CQ93: =IF($CL93="1",AT93,0) -> 0 | CR93: =IF($CL93="1",AU93,0) -> 0 | CS93: =IF($CL93="1",AV93,0) -> 0 | CT93: =IF($CL93="1",AW93,0) -> 0 | ... CV93: =IF($CL93="1",AY93,0) -> 0 | CW93: =CP93+CT93+CV93 -> 0 | CX93: =CN93+CR93 -> 0 | CY93: =IF($CL93="1",AZ93,0) -> 0 | CZ93: =IF($CL93="1",BA93,0) -> 0 | DA93: =IF($CL93="1",BB93,0) -> 0 | DB93: =IF($CL93="1",BC93,0) -> 0 | DC93: =IF($CL93="1",BD93,0) -> 0 | DD93: =IF($CL93="1",BE93,0) -> 0 | DE93: =IF($CL93="1",BF93,0) -> 0 | DF93: =IF($CL93="1",BG93,0) -> 0 | ... DH93: =IF($CL93="1",BI93,0) -> 0 | DI93: =DB93+DF93+DH93 -> 0 | DJ93: =CZ93+DD93 -> 0 | DK93: =IF(CE93=0,1,0) -> 1 | DL93: =IFERROR(IF($AF93="N",AH93+AJ93+AL93+AN93,AF93+AH93+AJ93+AL93+AN93),0)*$DK93 -> 0 | DM93: =(AG93+AI93+AK93+AM93+AO93)*$DK93 -> 0 | DN93: =AS93+AW93+AY93-CW93 -> 0 | DO93: =BC93+BG93+BI93-DI93 -> 0 | DP93: =DN93+DO93 -> 0 | DQ93: =IF(OR(F93=vstupy!B$40,F93=vstupy!B$41,F93=vstupy!B$42,),"0","1") -> 0 | DR93: =IF($DQ93="1",AQ93,"0")+CF93 -> 0 | DS93: =IF($DQ93="1",AS93,"0")+CG93 -> 0 | DT93: =IF($DQ93="1",AU93,"0")+CH93 -> 0 | DU93: =IF($DQ93="1",AW93,"0")+CI93 -> 0 | DV93: =IF($DQ93="1",AY93,"0")+CJ93 -> 0 | DW93: =SUM(DR93:DV95) -> 0 | DX93: =IF($DQ93="1",BA93,"0") -> 0 | DY93: =IF($DQ93="1",BC93,"0") -> 0 | DZ93: =IF($DQ93="1",BE93,"0") -> 0 | EA93: =IF($DQ93="1",BG93,"0") -> 0 | EB93: =IF($DQ93="1",BI93,"0") -> 0 | EC93: =SUM(DX93:EB95) -> 0 | ED93: =EC93+DW93 -> 0
X94: Vyberte typ povinnosti | Y94: Vyberte veľkosť | Z94: =VLOOKUP($X94,vstupy!$B$18:$F$31,MATCH($Y94,vstupy!$B$17:$F$17,0),0) -> 0 | AA94: Vyber | AB94: =VLOOKUP($AA94,vstupy!$B$34:$C$36,2,FALSE) -> 0 | AC94: =Z94+AB94 -> 0
X95: Vyberte typ povinnosti | Y95: Vyberte veľkosť | Z95: =VLOOKUP($X95,vstupy!$B$18:$F$31,MATCH($Y95,vstupy!$B$17:$F$17,0),0) -> 0 | AA95: Vyber | AB95: =VLOOKUP($AA95,vstupy!$B$34:$C$36,2,FALSE) -> 0 | AC95: =Z95+AB95 -> 0
B96: =B93+1 -> 30 | C96: vypustenie úkonu a poplatku za schválenie zjednodušeného prospektu cenného papiera vypracovaného ako jeden dokument, ak je žiadateľom emitent (špecifický symbol 2436 - iba v opatrení č. 5/2021 v znení opatrenia č. 8/2024) | D96: nariadenie (EÚ) 2017/1129 v platnom znení | E96: Čl. 14 a 20 | F96: 1.SK | G96: 46388 | H96: =IF($F96="3e) Skoršia transpozícia - zavedenie transpozície pred termínom ktorý určuje smernica EÚ. "," ","") | I96: =IF($F96="3e) Skoršia transpozícia - zavedenie transpozície pred termínom ktorý určuje smernica EÚ. ",$H96,"NA") -> NA | J96: =IF(I96>12,1,I96/12) -> 1 | K96: emitenti | L96: 0 | M96: =IF(L96="N",0,L96) -> 0 | N96: Out (znižuje náklady) | P96: 350 | Q96: jednorazovo | R96: =VLOOKUP(Q96,vstupy!$B$3:$C$15,2,FALSE) -> 0.25 | U96: Vyberte frekvenciu | V96: =VLOOKUP(U96,vstupy!$B$3:$C$15,2,FALSE) -> 0 | X96: Vyberte typ povinnosti | Y96: Vyberte veľkosť | Z96: =VLOOKUP($X96,vstupy!$B$18:$F$31,MATCH($Y96,vstupy!$B$17:$F$17,0),0) -> 0 | AA96: Vyber | AB96: =VLOOKUP($AA96,vstupy!$B$34:$C$36,2,FALSE) -> 0 | AC96: =Z96+AB96 -> 0 | AD96: Vyberte frekvenciu | AE96: =VLOOKUP(AD96,vstupy!$B$3:$C$15,2,FALSE) -> 0 | AF96: =IFERROR(IF(M96=0,"N",O96/L96*J96),0) -> N | AG96: =O96*J96 -> 0 | AH96: =P96*R96*J96 -> 87.5 | AI96: =IFERROR(AH96*M96,0) -> 0 | AJ96: =IFERROR(IF(M96=0,"N",S96/L96*J96),0) -> N | AK96: =S96*J96 -> 0 | AL96: =T96*V96*J96 -> 0 | AM96: =IFERROR(AL96*M96,0) -> 0 | AN96: =IF(W96>0,IF(AE96>0,($G$5/160)*(W96/60)*AE96*J96,0),IF(AE96>0,($G$5/160)*((AC96+AC97+AC98)/60)*AE96*J96,0)) -> 0 | AO96: =IFERROR(AN96*M96,0) -> 0 | AP96: =IF($N96="In (zvyšuje náklady)",AF96,0) -> 0 | AQ96: =IF($N96="In (zvyšuje náklady)",AG96,0) -> 0 | AR96: =IF($N96="In (zvyšuje náklady)",AH96,0) -> 0 | AS96: =IF($N96="In (zvyšuje náklady)",AI96,0) -> 0 | AT96: =IF($N96="In (zvyšuje náklady)",AJ96,0) -> 0 | AU96: =IF($N96="In (zvyšuje náklady)",AK96,0) -> 0 | AV96: =IF($N96="In (zvyšuje náklady)",AL96,0) -> 0 | AW96: =IF($N96="In (zvyšuje náklady)",AM96,0) -> 0 | ... AY96: =IF($N96="In (zvyšuje náklady)",AO96,0) -> 0 | AZ96: =IF($N96="Out (znižuje náklady)",AF96,"0") -> N | BA96: =IF($N96="Out (znižuje náklady)",AG96,"0") -> 0 | BB96: =IF($N96="Out (znižuje náklady)",AH96,"0") -> 87.5 | BC96: =IF($N96="Out (znižuje náklady)",AI96,"0") -> 0 | BD96: =IF($N96="Out (znižuje náklady)",AJ96,"0") -> N | BE96: =IF($N96="Out (znižuje náklady)",AK96,"0") -> 0 | BF96: =IF($N96="Out (znižuje náklady)",AL96,"0") -> 0 | BG96: =IF($N96="Out (znižuje náklady)",AM96,"0") -> 0 | ... BI96: =IF($N96="Out (znižuje náklady)",AO96,"0") -> 0 | BJ96: =IF(F96=vstupy!$B$47,0,1) -> 1 | BK96: =$BJ96*AP96 -> 0 | BL96: =$BJ96*AQ96 -> 0 | BM96: =$BJ96*AR96 -> 0 | BN96: =$BJ96*AS96 -> 0 | BO96: =$BJ96*AT96 -> 0 | BP96: =$BJ96*AU96 -> 0 | BQ96: =$BJ96*AV96 -> 0 | BR96: =$BJ96*AW96 -> 0 | ... CD96: =$BJ96*BI96 -> 0 | CE96: =IF(N96="Nemení sa",1,0) -> 0 | CF96: =AG96*$CE96 -> 0 | CG96: =AI96*$CE96 -> 0 | CH96: =AK96*$CE96 -> 0 | CI96: =AM96*$CE96 -> 0 | CJ96: =AO96*$CE96 -> 0 | CK96: =SUM(CF96:CJ98) -> 0 | CL96: =IF(F96=vstupy!B$42,"1",0) -> 0 | CM96: =IF($CL96="1",AP96,0) -> 0 | CN96: =IF($CL96="1",AQ96,0) -> 0 | CO96: =IF($CL96="1",AR96,0) -> 0 | CP96: =IF($CL96="1",AS96,0) -> 0 | CQ96: =IF($CL96="1",AT96,0) -> 0 | CR96: =IF($CL96="1",AU96,0) -> 0 | CS96: =IF($CL96="1",AV96,0) -> 0 | CT96: =IF($CL96="1",AW96,0) -> 0 | ... CV96: =IF($CL96="1",AY96,0) -> 0 | CW96: =CP96+CT96+CV96 -> 0 | CX96: =CN96+CR96 -> 0 | CY96: =IF($CL96="1",AZ96,0) -> 0 | CZ96: =IF($CL96="1",BA96,0) -> 0 | DA96: =IF($CL96="1",BB96,0) -> 0 | DB96: =IF($CL96="1",BC96,0) -> 0 | DC96: =IF($CL96="1",BD96,0) -> 0 | DD96: =IF($CL96="1",BE96,0) -> 0 | DE96: =IF($CL96="1",BF96,0) -> 0 | DF96: =IF($CL96="1",BG96,0) -> 0 | ... DH96: =IF($CL96="1",BI96,0) -> 0 | DI96: =DB96+DF96+DH96 -> 0 | DJ96: =CZ96+DD96 -> 0 | DK96: =IF(CE96=0,1,0) -> 1 | DL96: =IFERROR(IF($AF96="N",AH96+AJ96+AL96+AN96,AF96+AH96+AJ96+AL96+AN96),0)*$DK96 -> 0 | DM96: =(AG96+AI96+AK96+AM96+AO96)*$DK96 -> 0 | DN96: =AS96+AW96+AY96-CW96 -> 0 | DO96: =BC96+BG96+BI96-DI96 -> 0 | DP96: =DN96+DO96 -> 0 | DQ96: =IF(OR(F96=vstupy!B$40,F96=vstupy!B$41,F96=vstupy!B$42,),"0","1") -> 0 | DR96: =IF($DQ96="1",AQ96,"0")+CF96 -> 0 | DS96: =IF($DQ96="1",AS96,"0")+CG96 -> 0 | DT96: =IF($DQ96="1",AU96,"0")+CH96 -> 0 | DU96: =IF($DQ96="1",AW96,"0")+CI96 -> 0 | DV96: =IF($DQ96="1",AY96,"0")+CJ96 -> 0 | DW96: =SUM(DR96:DV98) -> 0 | DX96: =IF($DQ96="1",BA96,"0") -> 0 | DY96: =IF($DQ96="1",BC96,"0") -> 0 | DZ96: =IF($DQ96="1",BE96,"0") -> 0 | EA96: =IF($DQ96="1",BG96,"0") -> 0 | EB96: =IF($DQ96="1",BI96,"0") -> 0 | EC96: =SUM(DX96:EB98) -> 0 | ED96: =EC96+DW96 -> 0
X97: Vyberte typ povinnosti | Y97: Vyberte veľkosť | Z97: =VLOOKUP($X97,vstupy!$B$18:$F$31,MATCH($Y97,vstupy!$B$17:$F$17,0),0) -> 0 | AA97: Vyber | AB97: =VLOOKUP($AA97,vstupy!$B$34:$C$36,2,FALSE) -> 0 | AC97: =Z97+AB97 -> 0
X98: Vyberte typ povinnosti | Y98: Vyberte veľkosť | Z98: =VLOOKUP($X98,vstupy!$B$18:$F$31,MATCH($Y98,vstupy!$B$17:$F$17,0),0) -> 0 | AA98: Vyber | AB98: =VLOOKUP($AA98,vstupy!$B$34:$C$36,2,FALSE) -> 0 | AC98: =Z98+AB98 -> 0
B99: =B96+1 -> 31 | C99: vypustenie úkonu a poplatku za schválenie zjednodušeného prospektu skladajúceho sa zo samostatných dokumentov, ak je žiadateľom emitent (špecifický symbol 2437- iba v opatrení č. 5/2021 v znení opatrenia č. 8/2024) | D99: nariadenie (EÚ) 2017/1129 v platnom znení | E99: Čl. 14 a 20 | F99: 1.SK | G99: 46388 | H99: =IF($F99="3e) Skoršia transpozícia - zavedenie transpozície pred termínom ktorý určuje smernica EÚ. "," ","") | I99: =IF($F99="3e) Skoršia transpozícia - zavedenie transpozície pred termínom ktorý určuje smernica EÚ. ",$H99,"NA") -> NA | J99: =IF(I99>12,1,I99/12) -> 1 | K99: emitenti | L99: 0 | M99: =IF(L99="N",0,L99) -> 0 | N99: Out (znižuje náklady) | P99: 170 | Q99: jednorazovo | R99: =VLOOKUP(Q99,vstupy!$B$3:$C$15,2,FALSE) -> 0.25 | U99: Vyberte frekvenciu | V99: =VLOOKUP(U99,vstupy!$B$3:$C$15,2,FALSE) -> 0 | X99: Vyberte typ povinnosti | Y99: Vyberte veľkosť | Z99: =VLOOKUP($X99,vstupy!$B$18:$F$31,MATCH($Y99,vstupy!$B$17:$F$17,0),0) -> 0 | AA99: Vyber | AB99: =VLOOKUP($AA99,vstupy!$B$34:$C$36,2,FALSE) -> 0 | AC99: =Z99+AB99 -> 0 | AD99: Vyberte frekvenciu | AE99: =VLOOKUP(AD99,vstupy!$B$3:$C$15,2,FALSE) -> 0 | AF99: =IFERROR(IF(M99=0,"N",O99/L99*J99),0) -> N | AG99: =O99*J99 -> 0 | AH99: =P99*R99*J99 -> 42.5 | AI99: =IFERROR(AH99*M99,0) -> 0 | AJ99: =IFERROR(IF(M99=0,"N",S99/L99*J99),0) -> N | AK99: =S99*J99 -> 0 | AL99: =T99*V99*J99 -> 0 | AM99: =IFERROR(AL99*M99,0) -> 0 | AN99: =IF(W99>0,IF(AE99>0,($G$5/160)*(W99/60)*AE99*J99,0),IF(AE99>0,($G$5/160)*((AC99+AC100+AC101)/60)*AE99*J99,0)) -> 0 | AO99: =IFERROR(AN99*M99,0) -> 0 | AP99: =IF($N99="In (zvyšuje náklady)",AF99,0) -> 0 | AQ99: =IF($N99="In (zvyšuje náklady)",AG99,0) -> 0 | AR99: =IF($N99="In (zvyšuje náklady)",AH99,0) -> 0 | AS99: =IF($N99="In (zvyšuje náklady)",AI99,0) -> 0 | AT99: =IF($N99="In (zvyšuje náklady)",AJ99,0) -> 0 | AU99: =IF($N99="In (zvyšuje náklady)",AK99,0) -> 0 | AV99: =IF($N99="In (zvyšuje náklady)",AL99,0) -> 0 | AW99: =IF($N99="In (zvyšuje náklady)",AM99,0) -> 0 | ... AY99: =IF($N99="In (zvyšuje náklady)",AO99,0) -> 0 | AZ99: =IF($N99="Out (znižuje náklady)",AF99,"0") -> N | BA99: =IF($N99="Out (znižuje náklady)",AG99,"0") -> 0 | BB99: =IF($N99="Out (znižuje náklady)",AH99,"0") -> 42.5 | BC99: =IF($N99="Out (znižuje náklady)",AI99,"0") -> 0 | BD99: =IF($N99="Out (znižuje náklady)",AJ99,"0") -> N | BE99: =IF($N99="Out (znižuje náklady)",AK99,"0") -> 0 | BF99: =IF($N99="Out (znižuje náklady)",AL99,"0") -> 0 | BG99: =IF($N99="Out (znižuje náklady)",AM99,"0") -> 0 | ... BI99: =IF($N99="Out (znižuje náklady)",AO99,"0") -> 0 | BJ99: =IF(F99=vstupy!$B$47,0,1) -> 1 | BK99: =$BJ99*AP99 -> 0 | BL99: =$BJ99*AQ99 -> 0 | BM99: =$BJ99*AR99 -> 0 | BN99: =$BJ99*AS99 -> 0 | BO99: =$BJ99*AT99 -> 0 | BP99: =$BJ99*AU99 -> 0 | BQ99: =$BJ99*AV99 -> 0 | BR99: =$BJ99*AW99 -> 0 | ... CD99: =$BJ99*BI99 -> 0 | CE99: =IF(N99="Nemení sa",1,0) -> 0 | CF99: =AG99*$CE99 -> 0 | CG99: =AI99*$CE99 -> 0 | CH99: =AK99*$CE99 -> 0 | CI99: =AM99*$CE99 -> 0 | CJ99: =AO99*$CE99 -> 0 | CK99: =SUM(CF99:CJ101) -> 0 | CL99: =IF(F99=vstupy!B$42,"1",0) -> 0 | CM99: =IF($CL99="1",AP99,0) -> 0 | CN99: =IF($CL99="1",AQ99,0) -> 0 | CO99: =IF($CL99="1",AR99,0) -> 0 | CP99: =IF($CL99="1",AS99,0) -> 0 | CQ99: =IF($CL99="1",AT99,0) -> 0 | CR99: =IF($CL99="1",AU99,0) -> 0 | CS99: =IF($CL99="1",AV99,0) -> 0 | CT99: =IF($CL99="1",AW99,0) -> 0 | ... CV99: =IF($CL99="1",AY99,0) -> 0 | CW99: =CP99+CT99+CV99 -> 0 | CX99: =CN99+CR99 -> 0 | CY99: =IF($CL99="1",AZ99,0) -> 0 | CZ99: =IF($CL99="1",BA99,0) -> 0 | DA99: =IF($CL99="1",BB99,0) -> 0 | DB99: =IF($CL99="1",BC99,0) -> 0 | DC99: =IF($CL99="1",BD99,0) -> 0 | DD99: =IF($CL99="1",BE99,0) -> 0 | DE99: =IF($CL99="1",BF99,0) -> 0 | DF99: =IF($CL99="1",BG99,0) -> 0 | ... DH99: =IF($CL99="1",BI99,0) -> 0 | DI99: =DB99+DF99+DH99 -> 0 | DJ99: =CZ99+DD99 -> 0 | DK99: =IF(CE99=0,1,0) -> 1 | DL99: =IFERROR(IF($AF99="N",AH99+AJ99+AL99+AN99,AF99+AH99+AJ99+AL99+AN99),0)*$DK99 -> 0 | DM99: =(AG99+AI99+AK99+AM99+AO99)*$DK99 -> 0 | DN99: =AS99+AW99+AY99-CW99 -> 0 | DO99: =BC99+BG99+BI99-DI99 -> 0 | DP99: =DN99+DO99 -> 0 | DQ99: =IF(OR(F99=vstupy!B$40,F99=vstupy!B$41,F99=vstupy!B$42,),"0","1") -> 0 | DR99: =IF($DQ99="1",AQ99,"0")+CF99 -> 0 | DS99: =IF($DQ99="1",AS99,"0")+CG99 -> 0 | DT99: =IF($DQ99="1",AU99,"0")+CH99 -> 0 | DU99: =IF($DQ99="1",AW99,"0")+CI99 -> 0 | DV99: =IF($DQ99="1",AY99,"0")+CJ99 -> 0 | DW99: =SUM(DR99:DV101) -> 0 | DX99: =IF($DQ99="1",BA99,"0") -> 0 | DY99: =IF($DQ99="1",BC99,"0") -> 0 | DZ99: =IF($DQ99="1",BE99,"0") -> 0 | EA99: =IF($DQ99="1",BG99,"0") -> 0 | EB99: =IF($DQ99="1",BI99,"0") -> 0 | EC99: =SUM(DX99:EB101) -> 0 | ED99: =EC99+DW99 -> 0
X100: Vyberte typ povinnosti | Y100: Vyberte veľkosť | Z100: =VLOOKUP($X100,vstupy!$B$18:$F$31,MATCH($Y100,vstupy!$B$17:$F$17,0),0) -> 0 | AA100: Vyber | AB100: =VLOOKUP($AA100,vstupy!$B$34:$C$36,2,FALSE) -> 0 | AC100: =Z100+AB100 -> 0
X101: Vyberte typ povinnosti | Y101: Vyberte veľkosť | Z101: =VLOOKUP($X101,vstupy!$B$18:$F$31,MATCH($Y101,vstupy!$B$17:$F$17,0),0) -> 0 | AA101: Vyber | AB101: =VLOOKUP($AA101,vstupy!$B$34:$C$36,2,FALSE) -> 0 | AC101: =Z101+AB101 -> 0
B102: =B99+1 -> 32 | C102: vypustenie úkonu a poplatku za schválenie zjednodušeného prospektu skladajúceho sa zo samostatných dokumentov, ak je žiadateľom emitent (špecifický symbol 2438- iba v opatrení č. 5/2021 v znení opatrenia č. 8/2024) | D102: nariadenie (EÚ) 2017/1129 v platnom znení | E102: Čl. 14 a 20 | F102: 1.SK | G102: 46388 | H102: =IF($F102="3e) Skoršia transpozícia - zavedenie transpozície pred termínom ktorý určuje smernica EÚ. "," ","") | I102: =IF($F102="3e) Skoršia transpozícia - zavedenie transpozície pred termínom ktorý určuje smernica EÚ. ",$H102,"NA") -> NA | J102: =IF(I102>12,1,I102/12) -> 1 | K102: emitenti | L102: 0 | M102: =IF(L102="N",0,L102) -> 0 | N102: Out (znižuje náklady) | P102: 100 | Q102: jednorazovo | R102: =VLOOKUP(Q102,vstupy!$B$3:$C$15,2,FALSE) -> 0.25 | U102: Vyberte frekvenciu | V102: =VLOOKUP(U102,vstupy!$B$3:$C$15,2,FALSE) -> 0 | X102: Vyberte typ povinnosti | Y102: Vyberte veľkosť | Z102: =VLOOKUP($X102,vstupy!$B$18:$F$31,MATCH($Y102,vstupy!$B$17:$F$17,0),0) -> 0 | AA102: Vyber | AB102: =VLOOKUP($AA102,vstupy!$B$34:$C$36,2,FALSE) -> 0 | AC102: =Z102+AB102 -> 0 | AD102: Vyberte frekvenciu | AE102: =VLOOKUP(AD102,vstupy!$B$3:$C$15,2,FALSE) -> 0 | AF102: =IFERROR(IF(M102=0,"N",O102/L102*J102),0) -> N | AG102: =O102*J102 -> 0 | AH102: =P102*R102*J102 -> 25 | AI102: =IFERROR(AH102*M102,0) -> 0 | AJ102: =IFERROR(IF(M102=0,"N",S102/L102*J102),0) -> N | AK102: =S102*J102 -> 0 | AL102: =T102*V102*J102 -> 0 | AM102: =IFERROR(AL102*M102,0) -> 0 | AN102: =IF(W102>0,IF(AE102>0,($G$5/160)*(W102/60)*AE102*J102,0),IF(AE102>0,($G$5/160)*((AC102+AC103+AC104)/60)*AE102*J102,0)) -> 0 | AO102: =IFERROR(AN102*M102,0) -> 0 | AP102: =IF($N102="In (zvyšuje náklady)",AF102,0) -> 0 | AQ102: =IF($N102="In (zvyšuje náklady)",AG102,0) -> 0 | AR102: =IF($N102="In (zvyšuje náklady)",AH102,0) -> 0 | AS102: =IF($N102="In (zvyšuje náklady)",AI102,0) -> 0 | AT102: =IF($N102="In (zvyšuje náklady)",AJ102,0) -> 0 | AU102: =IF($N102="In (zvyšuje náklady)",AK102,0) -> 0 | AV102: =IF($N102="In (zvyšuje náklady)",AL102,0) -> 0 | AW102: =IF($N102="In (zvyšuje náklady)",AM102,0) -> 0 | ... AY102: =IF($N102="In (zvyšuje náklady)",AO102,0) -> 0 | AZ102: =IF($N102="Out (znižuje náklady)",AF102,"0") -> N | BA102: =IF($N102="Out (znižuje náklady)",AG102,"0") -> 0 | BB102: =IF($N102="Out (znižuje náklady)",AH102,"0") -> 25 | BC102: =IF($N102="Out (znižuje náklady)",AI102,"0") -> 0 | BD102: =IF($N102="Out (znižuje náklady)",AJ102,"0") -> N | BE102: =IF($N102="Out (znižuje náklady)",AK102,"0") -> 0 | BF102: =IF($N102="Out (znižuje náklady)",AL102,"0") -> 0 | BG102: =IF($N102="Out (znižuje náklady)",AM102,"0") -> 0 | ... BI102: =IF($N102="Out (znižuje náklady)",AO102,"0") -> 0 | BJ102: =IF(F102=vstupy!$B$47,0,1) -> 1 | BK102: =$BJ102*AP102 -> 0 | BL102: =$BJ102*AQ102 -> 0 | BM102: =$BJ102*AR102 -> 0 | BN102: =$BJ102*AS102 -> 0 | BO102: =$BJ102*AT102 -> 0 | BP102: =$BJ102*AU102 -> 0 | BQ102: =$BJ102*AV102 -> 0 | BR102: =$BJ102*AW102 -> 0 | ... CD102: =$BJ102*BI102 -> 0 | CE102: =IF(N102="Nemení sa",1,0) -> 0 | CF102: =AG102*$CE102 -> 0 | CG102: =AI102*$CE102 -> 0 | CH102: =AK102*$CE102 -> 0 | CI102: =AM102*$CE102 -> 0 | CJ102: =AO102*$CE102 -> 0 | CK102: =SUM(CF102:CJ104) -> 0 | CL102: =IF(F102=vstupy!B$42,"1",0) -> 0 | CM102: =IF($CL102="1",AP102,0) -> 0 | CN102: =IF($CL102="1",AQ102,0) -> 0 | CO102: =IF($CL102="1",AR102,0) -> 0 | CP102: =IF($CL102="1",AS102,0) -> 0 | CQ102: =IF($CL102="1",AT102,0) -> 0 | CR102: =IF($CL102="1",AU102,0) -> 0 | CS102: =IF($CL102="1",AV102,0) -> 0 | CT102: =IF($CL102="1",AW102,0) -> 0 | ... CV102: =IF($CL102="1",AY102,0) -> 0 | CW102: =CP102+CT102+CV102 -> 0 | CX102: =CN102+CR102 -> 0 | CY102: =IF($CL102="1",AZ102,0) -> 0 | CZ102: =IF($CL102="1",BA102,0) -> 0 | DA102: =IF($CL102="1",BB102,0) -> 0 | DB102: =IF($CL102="1",BC102,0) -> 0 | DC102: =IF($CL102="1",BD102,0) -> 0 | DD102: =IF($CL102="1",BE102,0) -> 0 | DE102: =IF($CL102="1",BF102,0) -> 0 | DF102: =IF($CL102="1",BG102,0) -> 0 | ... DH102: =IF($CL102="1",BI102,0) -> 0 | DI102: =DB102+DF102+DH102 -> 0 | DJ102: =CZ102+DD102 -> 0 | DK102: =IF(CE102=0,1,0) -> 1 | DL102: =IFERROR(IF($AF102="N",AH102+AJ102+AL102+AN102,AF102+AH102+AJ102+AL102+AN102),0)*$DK102 -> 0 | DM102: =(AG102+AI102+AK102+AM102+AO102)*$DK102 -> 0 | DN102: =AS102+AW102+AY102-CW102 -> 0 | DO102: =BC102+BG102+BI102-DI102 -> 0 | DP102: =DN102+DO102 -> 0 | DQ102: =IF(OR(F102=vstupy!B$40,F102=vstupy!B$41,F102=vstupy!B$42,),"0","1") -> 0 | DR102: =IF($DQ102="1",AQ102,"0")+CF102 -> 0 | DS102: =IF($DQ102="1",AS102,"0")+CG102 -> 0 | DT102: =IF($DQ102="1",AU102,"0")+CH102 -> 0 | DU102: =IF($DQ102="1",AW102,"0")+CI102 -> 0 | DV102: =IF($DQ102="1",AY102,"0")+CJ102 -> 0 | DW102: =SUM(DR102:DV104) -> 0 | DX102: =IF($DQ102="1",BA102,"0") -> 0 | DY102: =IF($DQ102="1",BC102,"0") -> 0 | DZ102: =IF($DQ102="1",BE102,"0") -> 0 | EA102: =IF($DQ102="1",BG102,"0") -> 0 | EB102: =IF($DQ102="1",BI102,"0") -> 0 | EC102: =SUM(DX102:EB104) -> 0 | ED102: =EC102+DW102 -> 0
...

Sheet Krok 2- Tabuľky na skopírovanie
A1: Tabuľky sa po vyplnení Kroku 1 - Kalkulačka vyplnia sami a môžu byť skopírované do Analýzy vplyvov na podnikateľské prostredie (PP)
A3: Tabuľka č. 1: Zmeny nákladov v prepočte na podnikateľské prostredie, vyhodnotenie mechanizmu znižovania byrokracie a nákladov.
B5: TYP NÁKLADOV | C5: Zvýšenie nákladov v € na PP | D5: Zníženie nákladov v € na PP
B6: A.Dane, odvody, clá a poplatky, ktorých cieľom je znižovať negatívne externality | C6: ='Krok 1- Kalkulačka '!AQ384 -> 0 | D6: ='Krok 1- Kalkulačka '!BA384 -> 0
B7: B. Iné poplatky | C7: ='Krok 1- Kalkulačka '!AS384 -> 27992.5 | D7: ='Krok 1- Kalkulačka '!BC384 -> 11882.5
B8: C. Sankcie a pokuty | C8: ='Krok 1- Kalkulačka '!AU384 -> 0 | D8: ='Krok 1- Kalkulačka '!BE384 -> 0
B9: D. Nepriame finančné náklady | C9: ='Krok 1- Kalkulačka '!AW384 -> 0 | D9: ='Krok 1- Kalkulačka '!BG384 -> 0
B10: E. Administratívne náklady | C10: ='Krok 1- Kalkulačka '!AY384 -> 0 | D10: ='Krok 1- Kalkulačka '!BI384 -> 0
B11: Spolu = A+B+C+D+E | C11: =SUM(C6:C10) -> 27992.5 | D11: =SUM(D6:D10) -> 11882.5
B13: Harmonizácia práva EÚ | C13: Zvýšenie nákladov v € na PP | D13: Zníženie nákladov v € na PP
B14: F. Úplná harmonizácia práva EÚ (okrem daní, odvodov, ciel a poplatkov, ktorých cieľom je znižovať negatívne externality) | C14: ='Krok 1- Kalkulačka '!CW384+'Krok 1- Kalkulačka '!CX384 -> 0 | D14: ='Krok 1- Kalkulačka '!DI384+'Krok 1- Kalkulačka '!DJ384 -> 0
B15: G. Goldplating | C15: ='Krok 1- Kalkulačka '!DW384 -> 0 | D15: ='Krok 1- Kalkulačka '!EC384 -> 0
B18: VÝPOČET PRAVIDLA 1in2out: | C18: IN | D18: OUT
B19: H. Náklady okrem výnimiek = B+D+E-F | C19: =C7+C9+C10-C14+'Krok 1- Kalkulačka '!CX384 -> 27992.5 | D19: =D7+D9+D10-D14+'Krok 1- Kalkulačka '!DJ384 -> 11882.5
A22: Tabuľka č. 2: Výpočet vplyvov jednotlivých regulácií
A23: P.č. | B23: ='Krok 1- Kalkulačka '!C7 -> Zrozumiteľný a stručný opis regulácie (dôvod zvýšenia/zníženia nákladov na PP a dôvod ponechania nákladov na PP, ktoré su goldplatingom) | C23: Číslo normy (zákona, vyhlášky a pod.) | D23: Lokalizácia (§, ods., čl.,...) | E23: Pôvod regulácie: SK/EÚ úplná harm./ goldplating | F23: Účinnosť regulácie | G23: Kategória dotk. subjektov | H23: Počet dotk. subjektov spolu | I23: Vplyv na 1 podnik. v € | J23: Vplyv na kategóriu dotk. subjektov v € | K23: Druh vplyvu In (zvyšuje náklady) / Out (znižuje náklady) / Nemení sa | L23: 1in2out celkom | M23: Goldplating celkom
A29: ='Krok 1- Kalkulačka '!B9 -> 1 | B29: ='Krok 1- Kalkulačka '!C9 -> stanovenie poplatku za udelenie predchádzajúceho súhlasu na nadobudnutie významného podielu bankou, finančnou holdingovou spoločnosťou alebo zmiešanou finančnou holdingovou spoločnosťou (špecifický symbol 1333) | C29: ='Krok 1- Kalkulačka '!D9 -> zákon č. 483/2001 Z. z. v znení zákona č. 30/2026 Z. z. | D29: ='Krok 1- Kalkulačka '!E9 -> § 28a ods. 1 | E29: ='Krok 1- Kalkulačka '!F9 -> 1.SK | F29: =IF('Krok 1- Kalkulačka '!G9>0,'Krok 1- Kalkulačka '!G9,"-") -> 46388 | G29: ='Krok 1- Kalkulačka '!K9 -> banky, finančné holdingové spoločnosti a zmiešané finančné holdingové spoločnosti | H29: ='Krok 1- Kalkulačka '!L9 -> 1 | I29: ='Krok 1- Kalkulačka '!DL9 -> 425 | J29: ='Krok 1- Kalkulačka '!DM9 -> 425 | K29: ='Krok 1- Kalkulačka '!N9 -> In (zvyšuje náklady) | L29: ='Krok 1- Kalkulačka '!DP9 -> 425 | M29: ='Krok 1- Kalkulačka '!ED9 -> 0
A30: ='Krok 1- Kalkulačka '!B12 -> 2 | B30: ='Krok 1- Kalkulačka '!C12 -> stanovenie poplatku za udelenie predchádzajúceho súhlasu na zlúčenie alebo splynutie banky, finančnej holdingovej spoločnosti alebo zmiešanej finančnej holdingovej spoločnosti alebo na rozdelenie banky, finančnej holdingovej spoločnosti alebo zmiešanej finančnej holdingovej spoločnosti (špecifický symbol 1334) | C30: ='Krok 1- Kalkulačka '!D12 -> zákon č. 483/2001 Z. z. v znení zákona č. 30/2026 Z. z. | D30: ='Krok 1- Kalkulačka '!E12 -> § 28g | E30: ='Krok 1- Kalkulačka '!F12 -> 1.SK | F30: =IF('Krok 1- Kalkulačka '!G12>0,'Krok 1- Kalkulačka '!G12,"-") -> 46388 | G30: ='Krok 1- Kalkulačka '!K12 -> banky, finančné holdingové spoločnosti a zmiešané finančné holdingové spoločnosti | H30: ='Krok 1- Kalkulačka '!L12 -> 0 | I30: ='Krok 1- Kalkulačka '!DL12 -> 0 | J30: ='Krok 1- Kalkulačka '!DM12 -> 0 | K30: ='Krok 1- Kalkulačka '!N12 -> In (zvyšuje náklady) | L30: ='Krok 1- Kalkulačka '!DP12 -> 0 | M30: ='Krok 1- Kalkulačka '!ED12 -> 0
A31: ='Krok 1- Kalkulačka '!B15 -> 3 | B31: ='Krok 1- Kalkulačka '!C15 -> zvýšenie poplatku za udelenie predchádzajúceho súhlasu na zmenu člena alebo zvolenie nového člena štatutárneho orgánu (špecifický symbol 1316) | C31: ='Krok 1- Kalkulačka '!D15 -> zákon č. 483/2001 Z. z. v znení neskorších predpisov | D31: ='Krok 1- Kalkulačka '!E15 -> § 9 ods. 4 | E31: ='Krok 1- Kalkulačka '!F15 -> 1.SK | F31: =IF('Krok 1- Kalkulačka '!G15>0,'Krok 1- Kalkulačka '!G15,"-") -> 46388 | G31: ='Krok 1- Kalkulačka '!K15 -> banky | H31: ='Krok 1- Kalkulačka '!L15 -> 15 | I31: ='Krok 1- Kalkulačka '!DL15 -> 27.5 | J31: ='Krok 1- Kalkulačka '!DM15 -> 412.5 | K31: ='Krok 1- Kalkulačka '!N15 -> In (zvyšuje náklady) | L31: ='Krok 1- Kalkulačka '!DP15 -> 412.5 | M31: ='Krok 1- Kalkulačka '!ED15 -> 0
A32: ='Krok 1- Kalkulačka '!B18 -> 4 | B32: ='Krok 1- Kalkulačka '!C18 -> zvýšenie poplatku za predchádzajúci súhlas na zmenu člena alebo zvolenie nového člena dozornej rady (špecifický symbol 1317) | C32: ='Krok 1- Kalkulačka '!D18 -> zákon č. 483/2001 Z. z. v znení neskorších predpisov | D32: ='Krok 1- Kalkulačka '!E18 -> § 9 ods. 4 | E32: ='Krok 1- Kalkulačka '!F18 -> 1.SK | F32: =IF('Krok 1- Kalkulačka '!G18>0,'Krok 1- Kalkulačka '!G18,"-") -> 46388 | G32: ='Krok 1- Kalkulačka '!K18 -> banky | H32: ='Krok 1- Kalkulačka '!L18 -> 20 | I32: ='Krok 1- Kalkulačka '!DL18 -> 27.5 | J32: ='Krok 1- Kalkulačka '!DM18 -> 550 | K32: ='Krok 1- Kalkulačka '!N18 -> In (zvyšuje náklady) | L32: ='Krok 1- Kalkulačka '!DP18 -> 550 | M32: ='Krok 1- Kalkulačka '!ED18 -> 0
A33: ='Krok 1- Kalkulačka '!B21 -> 5 | B33: ='Krok 1- Kalkulačka '!C21 -> stanovenie poplatku za udelenie predchádzajúceho súhlasu na ustanovenie osoby zastávajúcej kľúčovú funkciu podľa § 5 písm. an) zákona o bankách (špecifický symbol 1335) | C33: ='Krok 1- Kalkulačka '!D21 -> zákon č. 483/2001 Z. z. v znení neskorších predpisov | D33: ='Krok 1- Kalkulačka '!E21 -> § 9 ods. 4 a 5 | E33: ='Krok 1- Kalkulačka '!F21 -> 1.SK | F33: =IF('Krok 1- Kalkulačka '!G21>0,'Krok 1- Kalkulačka '!G21,"-") -> 46388 | G33: ='Krok 1- Kalkulačka '!K21 -> banky, pobočky zahraničných bánk so sídlom mimo územia členského štátu | H33: ='Krok 1- Kalkulačka '!L21 -> 20 | I33: ='Krok 1- Kalkulačka '!DL21 -> 27.5 | J33: ='Krok 1- Kalkulačka '!DM21 -> 550 | K33: ='Krok 1- Kalkulačka '!N21 -> In (zvyšuje náklady) | L33: ='Krok 1- Kalkulačka '!DP21 -> 550 | M33: ='Krok 1- Kalkulačka '!ED21 -> 0
A34: ='Krok 1- Kalkulačka '!B24 -> 6 | B34: ='Krok 1- Kalkulačka '!C24 -> stanovenie poplatku za udelenie predchádzajúceho súhlasu na ustanovenie osoby podľa § 8e ods. 1 zákona o bankách alebo člena riadiaceho výboru podľa § 8e ods. 3 zákona o bankách (špecifický symbol 1336) | C34: ='Krok 1- Kalkulačka '!D24 -> zákon č. 483/2001 Z. z. v znení neskorších predpisov | D34: ='Krok 1- Kalkulačka '!E24 -> § 9 ods. 5 | E34: ='Krok 1- Kalkulačka '!F24 -> 1.SK | F34: =IF('Krok 1- Kalkulačka '!G24>0,'Krok 1- Kalkulačka '!G24,"-") -> 46398 | G34: ='Krok 1- Kalkulačka '!K24 -> pobočky zahraničných bánk so sídlom mimo územia členského štátu | H34: ='Krok 1- Kalkulačka '!L24 -> 0 | I34: ='Krok 1- Kalkulačka '!DL24 -> 0 | J34: ='Krok 1- Kalkulačka '!DM24 -> 0 | K34: ='Krok 1- Kalkulačka '!N24 -> In (zvyšuje náklady) | L34: ='Krok 1- Kalkulačka '!DP24 -> 0 | M34: ='Krok 1- Kalkulačka '!ED24 -> 0
A35: ='Krok 1- Kalkulačka '!B27 -> 7 | B35: ='Krok 1- Kalkulačka '!C27 -> vypustenie úkonu a poplatku za udelenie predchádzajúceho súhlasu na zmenu vedúceho pobočky zahraničnej banky (špecifický symbol 1320) | C35: ='Krok 1- Kalkulačka '!D27 -> zákon č. 483/2001 Z. z. v znení neskorších predpisov | D35: ='Krok 1- Kalkulačka '!E27 -> § 9 ods. 5 | E35: ='Krok 1- Kalkulačka '!F27 -> 1.SK | F35: =IF('Krok 1- Kalkulačka '!G27>0,'Krok 1- Kalkulačka '!G27,"-") -> 46388 | G35: ='Krok 1- Kalkulačka '!K27 -> pobočky zahraničných bánk | H35: ='Krok 1- Kalkulačka '!L27 -> 0 | I35: ='Krok 1- Kalkulačka '!DL27 -> 0 | J35: ='Krok 1- Kalkulačka '!DM27 -> 0 | K35: ='Krok 1- Kalkulačka '!N27 -> Out (znižuje náklady) | L35: ='Krok 1- Kalkulačka '!DP27 -> 0 | M35: ='Krok 1- Kalkulačka '!ED27 -> 0
A36: ='Krok 1- Kalkulačka '!B30 -> 8 | B36: ='Krok 1- Kalkulačka '!C30 -> stanovenie poplatku za udelenie povolenia na zahrnutie predbežných alebo koncoročných ziskov do vlastného kapitálu Tier 1 (špecifický symbol 2128) | C36: ='Krok 1- Kalkulačka '!D30 -> nariadenie (EÚ) č. 575/2013 v platnom znení | D36: ='Krok 1- Kalkulačka '!E30 -> Čl. 26 ods. 2 | E36: ='Krok 1- Kalkulačka '!F30 -> 1.SK | F36: =IF('Krok 1- Kalkulačka '!G30>0,'Krok 1- Kalkulačka '!G30,"-") -> 46388 | G36: ='Krok 1- Kalkulačka '!K30 -> obchodníci s cennými papiermi | H36: ='Krok 1- Kalkulačka '!L30 -> 1 | I36: ='Krok 1- Kalkulačka '!DL30 -> 425 | J36: ='Krok 1- Kalkulačka '!DM30 -> 425 | K36: ='Krok 1- Kalkulačka '!N30 -> In (zvyšuje náklady) | L36: ='Krok 1- Kalkulačka '!DP30 -> 425 | M36: ='Krok 1- Kalkulačka '!ED30 -> 0
A37: ='Krok 1- Kalkulačka '!B33 -> 9 | B37: ='Krok 1- Kalkulačka '!C33 -> stanovenie poplatku za udelenie povolenia na používanie alternatívnych interných modelov na výpočet požiadaviek na vlastné zdroje (špecifický symbol 2129) | C37: ='Krok 1- Kalkulačka '!D33 -> nariadenie (EÚ) č. 575/2013 v platnom znení | D37: ='Krok 1- Kalkulačka '!E33 -> Čl. 325az | E37: ='Krok 1- Kalkulačka '!F33 -> 1.SK | F37: =IF('Krok 1- Kalkulačka '!G33>0,'Krok 1- Kalkulačka '!G33,"-") -> 46388 | G37: ='Krok 1- Kalkulačka '!K33 -> obchodníci s cennými papiermi | H37: ='Krok 1- Kalkulačka '!L33 -> 0 | I37: ='Krok 1- Kalkulačka '!DL33 -> 0 | J37: ='Krok 1- Kalkulačka '!DM33 -> 0 | K37: ='Krok 1- Kalkulačka '!N33 -> In (zvyšuje náklady) | L37: ='Krok 1- Kalkulačka '!DP33 -> 0 | M37: ='Krok 1- Kalkulačka '!ED33 -> 0
A38: ='Krok 1- Kalkulačka '!B36 -> 10 | B38: ='Krok 1- Kalkulačka '!C36 -> stanovenie poplatku za udelenie predchádzajúceho súhlasu na predĺženie časového obdobia podľa § 37e ods. 10 písm. a) zákona č. 203/2011 Z. z. v znení neskorších predpisov najviac o ďalších 12 mesiacov (špecifický symbol 2371) | C38: ='Krok 1- Kalkulačka '!D36 -> zákon č. 203/2011 Z. z. v znení zákona č. 85/2026 Z. z. | D38: ='Krok 1- Kalkulačka '!E36 -> § 163 ods. 1 písm. x) | E38: ='Krok 1- Kalkulačka '!F36 -> 1.SK | F38: =IF('Krok 1- Kalkulačka '!G36>0,'Krok 1- Kalkulačka '!G36,"-") -> 46388 | G38: ='Krok 1- Kalkulačka '!K36 -> správcovské spoločnosti | H38: ='Krok 1- Kalkulačka '!L36 -> 0 | I38: ='Krok 1- Kalkulačka '!DL36 -> 0 | J38: ='Krok 1- Kalkulačka '!DM36 -> 0 | K38: ='Krok 1- Kalkulačka '!N36 -> In (zvyšuje náklady) | L38: ='Krok 1- Kalkulačka '!DP36 -> 0 | M38: ='Krok 1- Kalkulačka '!ED36 -> 0
A39: ='Krok 1- Kalkulačka '!B39 -> 11 | B39: ='Krok 1- Kalkulačka '!C39 -> stanovenie poplatku za udelenie predchádzajúceho súhlasu na vydanie Všeobecných podmienok vyplácania náhrad za nedostupný klientsky majetok Garančným fondom investícií (špecifický symbol 2372) | C39: ='Krok 1- Kalkulačka '!D39 -> zákon č. 566/2001 Z. z. v znení neskorších predpisov | D39: ='Krok 1- Kalkulačka '!E39 -> § 90 ods. 3 | E39: ='Krok 1- Kalkulačka '!F39 -> 1.SK | F39: =IF('Krok 1- Kalkulačka '!G39>0,'Krok 1- Kalkulačka '!G39,"-") -> 46388 | G39: ='Krok 1- Kalkulačka '!K39 -> Garančný fond investícií | H39: ='Krok 1- Kalkulačka '!L39 -> 0 | I39: ='Krok 1- Kalkulačka '!DL39 -> 0 | J39: ='Krok 1- Kalkulačka '!DM39 -> 0 | K39: ='Krok 1- Kalkulačka '!N39 -> In (zvyšuje náklady) | L39: ='Krok 1- Kalkulačka '!DP39 -> 0 | M39: ='Krok 1- Kalkulačka '!ED39 -> 0
A40: ='Krok 1- Kalkulačka '!B42 -> 12 | B40: ='Krok 1- Kalkulačka '!C42 -> stanovenie poplatku za udelenie predchádzajúceho súhlasu na zmenu Všeobecných podmienok vyplácania náhrad za nedostupný klientsky majetok Garančným fondom investícií (špecifický symbol 2373) | C40: ='Krok 1- Kalkulačka '!D42 -> zákon č. 566/2001 Z. z. v znení neskorších predpisov | D40: ='Krok 1- Kalkulačka '!E42 -> § 90 ods. 3 | E40: ='Krok 1- Kalkulačka '!F42 -> 1.SK | F40: =IF('Krok 1- Kalkulačka '!G42>0,'Krok 1- Kalkulačka '!G42,"-") -> 46388 | G40: ='Krok 1- Kalkulačka '!K42 -> Garančný fond investícií | H40: ='Krok 1- Kalkulačka '!L42 -> 1 | I40: ='Krok 1- Kalkulačka '!DL42 -> 87.5 | J40: ='Krok 1- Kalkulačka '!DM42 -> 87.5 | K40: ='Krok 1- Kalkulačka '!N42 -> In (zvyšuje náklady) | L40: ='Krok 1- Kalkulačka '!DP42 -> 87.5 | M40: ='Krok 1- Kalkulačka '!ED42 -> 0
A41: ='Krok 1- Kalkulačka '!B45 -> 13 | B41: ='Krok 1- Kalkulačka '!C45 -> vypustenie úkonu a poplatku za schválenie základného prospektu cenného papiera vypracovaného ako jeden dokument, ak je žiadateľom emitent (špecifický symbol 2427 - iba v opatrení č. 5/2021 v znení opatrenia č. 8/2024) | C41: ='Krok 1- Kalkulačka '!D45 -> nariadenie (EÚ) 2017/1129 v platnom znení | D41: ='Krok 1- Kalkulačka '!E45 -> Čl. 8 a 20 | E41: ='Krok 1- Kalkulačka '!F45 -> 1.SK | F41: =IF('Krok 1- Kalkulačka '!G45>0,'Krok 1- Kalkulačka '!G45,"-") -> 46388 | G41: ='Krok 1- Kalkulačka '!K45 -> emitenti | H41: ='Krok 1- Kalkulačka '!L45 -> 19 | I41: ='Krok 1- Kalkulačka '!DL45 -> 250 | J41: ='Krok 1- Kalkulačka '!DM45 -> 4750 | K41: ='Krok 1- Kalkulačka '!N45 -> Out (znižuje náklady) | L41: ='Krok 1- Kalkulačka '!DP45 -> 4750 | M41: ='Krok 1- Kalkulačka '!ED45 -> 0
A42: ='Krok 1- Kalkulačka '!B48 -> 14 | B42: ='Krok 1- Kalkulačka '!C48 -> vypustenie úkonu a poplatku za schválenie základného prospektu cenného papiera skladajúceho sa zo samostatných dokumentov, ak je žiadateľom emitent (špecifický symbol 2428 - iba v opatrení č. 5/2021 v znení opatrenia č. 8/2024) | C42: ='Krok 1- Kalkulačka '!D48 -> nariadenie (EÚ) 2017/1129 v platnom znení | D42: ='Krok 1- Kalkulačka '!E48 -> Čl. 8 a 20 | E42: ='Krok 1- Kalkulačka '!F48 -> 1.SK | F42: =IF('Krok 1- Kalkulačka '!G48>0,'Krok 1- Kalkulačka '!G48,"-") -> 46388 | G42: ='Krok 1- Kalkulačka '!K48 -> emitenti | H42: ='Krok 1- Kalkulačka '!L48 -> 0 | I42: ='Krok 1- Kalkulačka '!DL48 -> 0 | J42: ='Krok 1- Kalkulačka '!DM48 -> 0 | K42: ='Krok 1- Kalkulačka '!N48 -> Out (znižuje náklady) | L42: ='Krok 1- Kalkulačka '!DP48 -> 0 | M42: ='Krok 1- Kalkulačka '!ED48 -> 0
A43: ='Krok 1- Kalkulačka '!B51 -> 15 | B43: ='Krok 1- Kalkulačka '!C51 -> vypustenie úkonu a poplatku za schválenie základného prospektu cenného papiera skladajúceho sa zo samostatných dokumentov, ak je žiadateľom emitent (špecifický symbol 2429 - iba v opatrení č. 5/2021 v znení opatrenia č. 8/2024) | C43: ='Krok 1- Kalkulačka '!D51 -> nariadenie (EÚ) 2017/1129 v platnom znení | D43: ='Krok 1- Kalkulačka '!E51 -> Čl. 8 a 20 | E43: ='Krok 1- Kalkulačka '!F51 -> 1.SK | F43: =IF('Krok 1- Kalkulačka '!G51>0,'Krok 1- Kalkulačka '!G51,"-") -> 46388 | G43: ='Krok 1- Kalkulačka '!K51 -> emitenti | H43: ='Krok 1- Kalkulačka '!L51 -> 0 | I43: ='Krok 1- Kalkulačka '!DL51 -> 0 | J43: ='Krok 1- Kalkulačka '!DM51 -> 0 | K43: ='Krok 1- Kalkulačka '!N51 -> Out (znižuje náklady) | L43: ='Krok 1- Kalkulačka '!DP51 -> 0 | M43: ='Krok 1- Kalkulačka '!ED51 -> 0
A44: ='Krok 1- Kalkulačka '!B54 -> 16 | B44: ='Krok 1- Kalkulačka '!C54 -> vypustenie úkonu a poplatku za schválenie základného prospektu cenného papiera skladajúceho sa zo samostatných dokumentov, ak je žiadateľom emitent (špecifický symbol 2430 - iba v opatrení č. 5/2021 v znení opatrenia č. 8/2024) | C44: ='Krok 1- Kalkulačka '!D54 -> nariadenie (EÚ) 2017/1129 v platnom znení | D44: ='Krok 1- Kalkulačka '!E54 -> Čl. 8 a 20 | E44: ='Krok 1- Kalkulačka '!F54 -> 1.SK | F44: =IF('Krok 1- Kalkulačka '!G54>0,'Krok 1- Kalkulačka '!G54,"-") -> 46388 | G44: ='Krok 1- Kalkulačka '!K54 -> emitenti | H44: ='Krok 1- Kalkulačka '!L54 -> 0 | I44: ='Krok 1- Kalkulačka '!DL54 -> 0 | J44: ='Krok 1- Kalkulačka '!DM54 -> 0 | K44: ='Krok 1- Kalkulačka '!N54 -> Out (znižuje náklady) | L44: ='Krok 1- Kalkulačka '!DP54 -> 0 | M44: ='Krok 1- Kalkulačka '!ED54 -> 0
A45: ='Krok 1- Kalkulačka '!B57 -> 17 | B45: ='Krok 1- Kalkulačka '!C57 -> vypustenie úkonu a poplatku za schválenie základného prospektu cenného papiera vypracovaného ako jeden dokument, ak žiadateľom je vyhlasovateľ verejnej ponuky cenných papierov, ktorý nie je emitentom cenných papierov, ktoré sú predmetom verejnej ponuky cenných papierov, alebo osoba, ktorá nie je emitentom žiadajúca o prijatie na obchodovanie na regulovanom trhu (špecifický symbol 2431 - iba v opatrení č. 5/2021 v znení opatrenia č. 8/2024) | C45: ='Krok 1- Kalkulačka '!D57 -> nariadenie (EÚ) 2017/1129 v platnom znení | D45: ='Krok 1- Kalkulačka '!E57 -> Čl. 8 a 20 | E45: ='Krok 1- Kalkulačka '!F57 -> 1.SK | F45: =IF('Krok 1- Kalkulačka '!G57>0,'Krok 1- Kalkulačka '!G57,"-") -> 46388 | G45: ='Krok 1- Kalkulačka '!K57 -> vyhlasovatelia verejnej ponuky cenných papierov, ktorí nie sú emitentmi cenných papierov, ktoré sú predmetom verejnej ponuky cenných papierov a osoby, ktoré nie sú emitentmi žiadajúce o prijatie na obchodovanie na regulovanom trhu | H45: ='Krok 1- Kalkulačka '!L57 -> 0 | I45: ='Krok 1- Kalkulačka '!DL57 -> 0 | J45: ='Krok 1- Kalkulačka '!DM57 -> 0 | K45: ='Krok 1- Kalkulačka '!N57 -> Out (znižuje náklady) | L45: ='Krok 1- Kalkulačka '!DP57 -> 0 | M45: ='Krok 1- Kalkulačka '!ED57 -> 0
A46: ='Krok 1- Kalkulačka '!B60 -> 18 | B46: ='Krok 1- Kalkulačka '!C60 -> vypustenie úkonu a poplatku za schválenie základného prospektu cenného papiera skladajúceho sa zo samostatných dokumentov, ak žiadateľom je vyhlasovateľ verejnej ponuky cenných papierov, ktorý nie je emitentom cenných papierov, ktoré sú predmetom verejnej ponuky cenných papierov, alebo osoba, ktorá nie je emitentom žiadajúca o prijatie na obchodovanie na regulovanom trhu (špecifický symbol 2432 - iba v opatrení č. 5/2021 v znení opatrenia č. 8/2024) | C46: ='Krok 1- Kalkulačka '!D60 -> nariadenie (EÚ) 2017/1129 v platnom znení | D46: ='Krok 1- Kalkulačka '!E60 -> Čl. 8 a 21 | E46: ='Krok 1- Kalkulačka '!F60 -> 1.SK | F46: =IF('Krok 1- Kalkulačka '!G60>0,'Krok 1- Kalkulačka '!G60,"-") -> 46388 | G46: ='Krok 1- Kalkulačka '!K60 -> vyhlasovatelia verejnej ponuky cenných papierov, ktorí nie sú emitentmi cenných papierov, ktoré sú predmetom verejnej ponuky cenných papierov a osoby, ktoré nie sú emitentmi žiadajúce o prijatie na obchodovanie na regulovanom trhu | H46: ='Krok 1- Kalkulačka '!L60 -> 0 | I46: ='Krok 1- Kalkulačka '!DL60 -> 0 | J46: ='Krok 1- Kalkulačka '!DM60 -> 0 | K46: ='Krok 1- Kalkulačka '!N60 -> Out (znižuje náklady) | L46: ='Krok 1- Kalkulačka '!DP60 -> 0 | M46: ='Krok 1- Kalkulačka '!ED60 -> 0
A47: ='Krok 1- Kalkulačka '!B63 -> 19 | B47: ='Krok 1- Kalkulačka '!C63 -> vypustenie úkonu a poplatku za schválenie základného prospektu cenného papiera skladajúceho sa zo samostatných dokumentov, ak žiadateľom je vyhlasovateľ verejnej ponuky cenných papierov, ktorý nie je emitentom cenných papierov, ktoré sú predmetom verejnej ponuky cenných papierov, alebo osoba, ktorá nie je emitentom žiadajúca o prijatie na obchodovanie na regulovanom trhu (špecifický symbol 2433 - iba v opatrení č. 5/2021 v znení opatrenia č. 8/2024) | C47: ='Krok 1- Kalkulačka '!D63 -> nariadenie (EÚ) 2017/1129 v platnom znení | D47: ='Krok 1- Kalkulačka '!E63 -> Čl. 8 a 22 | E47: ='Krok 1- Kalkulačka '!F63 -> 1.SK | F47: =IF('Krok 1- Kalkulačka '!G63>0,'Krok 1- Kalkulačka '!G63,"-") -> 46388 | G47: ='Krok 1- Kalkulačka '!K63 -> vyhlasovatelia verejnej ponuky cenných papierov, ktorí nie sú emitentmi cenných papierov, ktoré sú predmetom verejnej ponuky cenných papierov a osoby, ktoré nie sú emitentmi žiadajúce o prijatie na obchodovanie na regulovanom trhu | H47: ='Krok 1- Kalkulačka '!L63 -> 0 | I47: ='Krok 1- Kalkulačka '!DL63 -> 0 | J47: ='Krok 1- Kalkulačka '!DM63 -> 0 | K47: ='Krok 1- Kalkulačka '!N63 -> Out (znižuje náklady) | L47: ='Krok 1- Kalkulačka '!DP63 -> 0 | M47: ='Krok 1- Kalkulačka '!ED63 -> 0
A48: ='Krok 1- Kalkulačka '!B66 -> 20 | B48: ='Krok 1- Kalkulačka '!C66 -> vypustenie úkonu a poplatku za schválenie základného prospektu cenného papiera skladajúceho sa zo samostatných dokumentov, ak žiadateľom je vyhlasovateľ verejnej ponuky cenných papierov, ktorý nie je emitentom cenných papierov, ktoré sú predmetom verejnej ponuky cenných papierov, alebo osoba, ktorá nie je emitentom žiadajúca o prijatie na obchodovanie na regulovanom trhu (špecifický symbol 2434 - iba v opatrení č. 5/2021 v znení opatrenia č. 8/2024) | C48: ='Krok 1- Kalkulačka '!D66 -> nariadenie (EÚ) 2017/1129 v platnom znení | D48: ='Krok 1- Kalkulačka '!E66 -> Čl. 8 a 23 | E48: ='Krok 1- Kalkulačka '!F66 -> 1.SK | F48: =IF('Krok 1- Kalkulačka '!G66>0,'Krok 1- Kalkulačka '!G66,"-") -> 46388 | G48: ='Krok 1- Kalkulačka '!K66 -> vyhlasovatelia verejnej ponuky cenných papierov, ktorí nie sú emitentmi cenných papierov, ktoré sú predmetom verejnej ponuky cenných papierov a osoby, ktoré nie sú emitentmi žiadajúce o prijatie na obchodovanie na regulovanom trhu | H48: ='Krok 1- Kalkulačka '!L66 -> 0 | I48: ='Krok 1- Kalkulačka '!DL66 -> 0 | J48: ='Krok 1- Kalkulačka '!DM66 -> 0 | K48: ='Krok 1- Kalkulačka '!N66 -> Out (znižuje náklady) | L48: ='Krok 1- Kalkulačka '!DP66 -> 0 | M48: ='Krok 1- Kalkulačka '!ED66 -> 0
A49: ='Krok 1- Kalkulačka '!B69 -> 21 | B49: ='Krok 1- Kalkulačka '!C69 -> vypustenie úkonu a poplatku za schválenie prospektu cenného papiera vypracovaného ako jeden dokument, ak je žiadateľom emitent (špecifický symbol 2411 - iba v opatrení č. 5/2021 v znení opatrenia č. 8/2024) | C49: ='Krok 1- Kalkulačka '!D69 -> nariadenie (EÚ) 2017/1129 v platnom znení | D49: ='Krok 1- Kalkulačka '!E69 -> Čl. 6 a 20 | E49: ='Krok 1- Kalkulačka '!F69 -> 1.SK | F49: =IF('Krok 1- Kalkulačka '!G69>0,'Krok 1- Kalkulačka '!G69,"-") -> 46388 | G49: ='Krok 1- Kalkulačka '!K69 -> emitenti | H49: ='Krok 1- Kalkulačka '!L69 -> 29 | I49: ='Krok 1- Kalkulačka '!DL69 -> 162.5 | J49: ='Krok 1- Kalkulačka '!DM69 -> 4712.5 | K49: ='Krok 1- Kalkulačka '!N69 -> Out (znižuje náklady) | L49: ='Krok 1- Kalkulačka '!DP69 -> 4712.5 | M49: ='Krok 1- Kalkulačka '!ED69 -> 0
A50: ='Krok 1- Kalkulačka '!B72 -> 22 | B50: ='Krok 1- Kalkulačka '!C72 -> vypustenie úkonu a poplatku za schválenie prospektu cenného papiera skladajúceho sa zo samostatných dokumentov, ak je žiadateľom emitent (špecifický symbol 2412 - iba v opatrení č. 5/2021 v znení opatrenia č. 8/2024) | C50: ='Krok 1- Kalkulačka '!D72 -> nariadenie (EÚ) 2017/1129 v platnom znení | D50: ='Krok 1- Kalkulačka '!E72 -> Čl. 10 a 20 | E50: ='Krok 1- Kalkulačka '!F72 -> 1.SK | F50: =IF('Krok 1- Kalkulačka '!G72>0,'Krok 1- Kalkulačka '!G72,"-") -> 46388 | G50: ='Krok 1- Kalkulačka '!K72 -> emitenti | H50: ='Krok 1- Kalkulačka '!L72 -> 0 | I50: ='Krok 1- Kalkulačka '!DL72 -> 0 | J50: ='Krok 1- Kalkulačka '!DM72 -> 0 | K50: ='Krok 1- Kalkulačka '!N72 -> Out (znižuje náklady) | L50: ='Krok 1- Kalkulačka '!DP72 -> 0 | M50: ='Krok 1- Kalkulačka '!ED72 -> 0
